BEGIN:VCALENDAR
VERSION:2.0
PRODID:-//Confederació Mundial de Penyes del FC Barcelona - ECPv6.15.20//NONSGML v1.0//EN
CALSCALE:GREGORIAN
METHOD:PUBLISH
X-ORIGINAL-URL:https://confederaciopenyes.cat/en/
X-WR-CALDESC:Events for Confederació Mundial de Penyes del FC Barcelona
REFRESH-INTERVAL;VALUE=DURATION:PT1H
X-Robots-Tag:noindex
X-PUBLISHED-TTL:PT1H
BEGIN:VTIMEZONE
TZID:Europe/Madrid
BEGIN:DAYLIGHT
TZOFFSETFROM:+0100
TZOFFSETTO:+0200
TZNAME:CEST
DTSTART:20230326T010000
END:DAYLIGHT
BEGIN:STANDARD
TZOFFSETFROM:+0200
TZOFFSETTO:+0100
TZNAME:CET
DTSTART:20231029T010000
END:STANDARD
BEGIN:DAYLIGHT
TZOFFSETFROM:+0100
TZOFFSETTO:+0200
TZNAME:CEST
DTSTART:20240331T010000
END:DAYLIGHT
BEGIN:STANDARD
TZOFFSETFROM:+0200
TZOFFSETTO:+0100
TZNAME:CET
DTSTART:20241027T010000
END:STANDARD
BEGIN:DAYLIGHT
TZOFFSETFROM:+0100
TZOFFSETTO:+0200
TZNAME:CEST
DTSTART:20250330T010000
END:DAYLIGHT
BEGIN:STANDARD
TZOFFSETFROM:+0200
TZOFFSETTO:+0100
TZNAME:CET
DTSTART:20251026T010000
END:STANDARD
END:VTIMEZONE
BEGIN:VEVENT
DTSTART;VALUE=DATE:20240824
DTEND;VALUE=DATE:20240825
DTSTAMP:20260426T033620
CREATED:20240822T091044Z
LAST-MODIFIED:20240822T091044Z
UID:10000779-1724457600-1724543999@confederaciopenyes.cat
SUMMARY:Football tournament 7-a-side by PB "Voz Castua"
DESCRIPTION:Federation of Extremadura.
URL:https://confederaciopenyes.cat/en/event/football-tournament-7-a-side-by-pb-voz-castua/
LOCATION:León
ATTACH;FMTTYPE=image/jpeg:https://confederaciopenyes.cat/wp-content/uploads/2023/12/agenda_activitat-futbol.jpg
END:VEVENT
BEGIN:VEVENT
DTSTART;VALUE=DATE:20240824
DTEND;VALUE=DATE:20240825
DTSTAMP:20260426T033620
CREATED:20240822T091412Z
LAST-MODIFIED:20240822T091412Z
UID:10000781-1724457600-1724543999@confederaciopenyes.cat
SUMMARY:Matt Manson Memorial by PB San Francisco
DESCRIPTION:Federation of World.
URL:https://confederaciopenyes.cat/en/event/matt-manson-memorial-by-pb-san-francisco/
LOCATION:León
ATTACH;FMTTYPE=image/jpeg:https://confederaciopenyes.cat/wp-content/uploads/2023/12/agenda_activitat-cultural.jpg
END:VEVENT
BEGIN:VEVENT
DTSTART;TZID=Europe/Madrid:20240824T090000
DTEND;TZID=Europe/Madrid:20240824T130000
DTSTAMP:20260426T033620
CREATED:20240808T103114Z
LAST-MODIFIED:20240814T093523Z
UID:10000751-1724490000-1724504400@confederaciopenyes.cat
SUMMARY:9th Card Championship by PB Solsona  Comarca
DESCRIPTION:Federation of Ponent Nord\, la Franja Nord Andorra.
URL:https://confederaciopenyes.cat/en/event/9th-card-championship-by-pb-solsona-comarca/
LOCATION:León
ATTACH;FMTTYPE=image/jpeg:https://confederaciopenyes.cat/wp-content/uploads/2024/08/WhatsApp-Image-2024-08-09-at-09.46.52.jpeg
END:VEVENT
END:VCALENDAR