BEGIN:VCALENDAR
VERSION:2.0
PRODID:-//Confederació Mundial de Penyes del FC Barcelona - ECPv6.15.20//NONSGML v1.0//EN
CALSCALE:GREGORIAN
METHOD:PUBLISH
X-ORIGINAL-URL:https://confederaciopenyes.cat/en/
X-WR-CALDESC:Events for Confederació Mundial de Penyes del FC Barcelona
REFRESH-INTERVAL;VALUE=DURATION:PT1H
X-Robots-Tag:noindex
X-PUBLISHED-TTL:PT1H
BEGIN:VTIMEZONE
TZID:Europe/Madrid
BEGIN:DAYLIGHT
TZOFFSETFROM:+0100
TZOFFSETTO:+0200
TZNAME:CEST
DTSTART:20230326T010000
END:DAYLIGHT
BEGIN:STANDARD
TZOFFSETFROM:+0200
TZOFFSETTO:+0100
TZNAME:CET
DTSTART:20231029T010000
END:STANDARD
BEGIN:DAYLIGHT
TZOFFSETFROM:+0100
TZOFFSETTO:+0200
TZNAME:CEST
DTSTART:20240331T010000
END:DAYLIGHT
BEGIN:STANDARD
TZOFFSETFROM:+0200
TZOFFSETTO:+0100
TZNAME:CET
DTSTART:20241027T010000
END:STANDARD
BEGIN:DAYLIGHT
TZOFFSETFROM:+0100
TZOFFSETTO:+0200
TZNAME:CEST
DTSTART:20250330T010000
END:DAYLIGHT
BEGIN:STANDARD
TZOFFSETFROM:+0200
TZOFFSETTO:+0100
TZNAME:CET
DTSTART:20251026T010000
END:STANDARD
END:VTIMEZONE
BEGIN:VEVENT
DTSTART;TZID=Europe/Madrid:20240828T193000
DTEND;TZID=Europe/Madrid:20240828T213000
DTSTAMP:20260425T204252
CREATED:20240822T082041Z
LAST-MODIFIED:20240822T082041Z
UID:10000787-1724873400-1724880600@confederaciopenyes.cat
SUMMARY:Presentation of the XIth edition of the U12 football tournament by PB Peguera
DESCRIPTION:Presentation ceremony of the solidarity tournament of Villa de Peguera. Tournament that will be played on 13\, 14 and 15 september. Federation of Balears.
URL:https://confederaciopenyes.cat/en/event/presentation-of-the-xith-edition-of-the-u12-football-tournament-by-pb-peguera/
LOCATION:Casal de Peguera\, Carrer dels Pins\, 15\, 07160 Peguera\, Illes Balears\, Peguera\, Illes Balears\, 07160\, Spain
ATTACH;FMTTYPE=image/jpeg:https://confederaciopenyes.cat/wp-content/uploads/2024/08/455850720_1020523933415355_313410673182299569_n.jpg
END:VEVENT
END:VCALENDAR