BEGIN:VCALENDAR
VERSION:2.0
PRODID:-//Confederació Mundial de Penyes del FC Barcelona - ECPv6.15.20//NONSGML v1.0//EN
CALSCALE:GREGORIAN
METHOD:PUBLISH
X-WR-CALNAME:Confederació Mundial de Penyes del FC Barcelona
X-ORIGINAL-URL:https://confederaciopenyes.cat/en/
X-WR-CALDESC:Events for Confederació Mundial de Penyes del FC Barcelona
REFRESH-INTERVAL;VALUE=DURATION:PT1H
X-Robots-Tag:noindex
X-PUBLISHED-TTL:PT1H
BEGIN:VTIMEZONE
TZID:Europe/Madrid
BEGIN:DAYLIGHT
TZOFFSETFROM:+0100
TZOFFSETTO:+0200
TZNAME:CEST
DTSTART:20230326T010000
END:DAYLIGHT
BEGIN:STANDARD
TZOFFSETFROM:+0200
TZOFFSETTO:+0100
TZNAME:CET
DTSTART:20231029T010000
END:STANDARD
BEGIN:DAYLIGHT
TZOFFSETFROM:+0100
TZOFFSETTO:+0200
TZNAME:CEST
DTSTART:20240331T010000
END:DAYLIGHT
BEGIN:STANDARD
TZOFFSETFROM:+0200
TZOFFSETTO:+0100
TZNAME:CET
DTSTART:20241027T010000
END:STANDARD
BEGIN:DAYLIGHT
TZOFFSETFROM:+0100
TZOFFSETTO:+0200
TZNAME:CEST
DTSTART:20250330T010000
END:DAYLIGHT
BEGIN:STANDARD
TZOFFSETFROM:+0200
TZOFFSETTO:+0100
TZNAME:CET
DTSTART:20251026T010000
END:STANDARD
END:VTIMEZONE
BEGIN:VEVENT
DTSTART;TZID=Europe/Madrid:20240920T170000
DTEND;TZID=Europe/Madrid:20241006T200000
DTSTAMP:20260424T070206
CREATED:20240917T083812Z
LAST-MODIFIED:20240917T083812Z
UID:10000845-1726851600-1728244800@confederaciopenyes.cat
SUMMARY:Photographic exhibition by PB d'Olot and Comarca
DESCRIPTION:On the occasion of the 50th Anniversary. Organised by AAVV Sant Ferriol district.  Federation of Gironès\, la Selva\, la Garrotxa and el Pla de l’Estany.
URL:https://confederaciopenyes.cat/en/event/photographic-exhibition-by-pb-dolot-and-comarca/
LOCATION:León
ATTACH;FMTTYPE=image/jpeg:https://confederaciopenyes.cat/wp-content/uploads/2024/09/Imagen-de-WhatsApp-2024-09-17-a-las-10.00.41_911005fa.jpg
END:VEVENT
BEGIN:VEVENT
DTSTART;TZID=Europe/Madrid:20241004T190000
DTEND;TZID=Europe/Madrid:20241004T210000
DTSTAMP:20260424T070206
CREATED:20241001T092709Z
LAST-MODIFIED:20241001T092709Z
UID:10000889-1728068400-1728075600@confederaciopenyes.cat
SUMMARY:Visit to the head office of PB Sant Cugat
DESCRIPTION:Federation of Vallès.
URL:https://confederaciopenyes.cat/en/event/visit-to-the-head-office-of-pb-sant-cugat/
LOCATION:León
ATTACH;FMTTYPE=image/jpeg:https://confederaciopenyes.cat/wp-content/uploads/2023/12/agenda_activitat-cultural.jpg
END:VEVENT
BEGIN:VEVENT
DTSTART;TZID=Europe/Madrid:20241004T193000
DTEND;TZID=Europe/Madrid:20241004T223000
DTSTAMP:20260424T070206
CREATED:20241001T092519Z
LAST-MODIFIED:20241001T095022Z
UID:10000891-1728070200-1728081000@confederaciopenyes.cat
SUMMARY:7th Anniversary of PB Panamá
DESCRIPTION:Federation of World.
URL:https://confederaciopenyes.cat/en/event/7th-anniversary-of-pb-panama/
LOCATION:León
ATTACH;FMTTYPE=image/png:https://confederaciopenyes.cat/wp-content/uploads/2024/10/FireShot-Capture-405-Pena-Barcelonista-de-Panama-🔵🔴-@penabarcelonistadepanama_ofici-•-_-www.instagram.com_.png
END:VEVENT
END:VCALENDAR