BEGIN:VCALENDAR
VERSION:2.0
PRODID:-//Confederació Mundial de Penyes del FC Barcelona - ECPv6.15.20//NONSGML v1.0//EN
CALSCALE:GREGORIAN
METHOD:PUBLISH
X-WR-CALNAME:Confederació Mundial de Penyes del FC Barcelona
X-ORIGINAL-URL:https://confederaciopenyes.cat/en/
X-WR-CALDESC:Events for Confederació Mundial de Penyes del FC Barcelona
REFRESH-INTERVAL;VALUE=DURATION:PT1H
X-Robots-Tag:noindex
X-PUBLISHED-TTL:PT1H
BEGIN:VTIMEZONE
TZID:Europe/Madrid
BEGIN:DAYLIGHT
TZOFFSETFROM:+0100
TZOFFSETTO:+0200
TZNAME:CEST
DTSTART:20230326T010000
END:DAYLIGHT
BEGIN:STANDARD
TZOFFSETFROM:+0200
TZOFFSETTO:+0100
TZNAME:CET
DTSTART:20231029T010000
END:STANDARD
BEGIN:DAYLIGHT
TZOFFSETFROM:+0100
TZOFFSETTO:+0200
TZNAME:CEST
DTSTART:20240331T010000
END:DAYLIGHT
BEGIN:STANDARD
TZOFFSETFROM:+0200
TZOFFSETTO:+0100
TZNAME:CET
DTSTART:20241027T010000
END:STANDARD
BEGIN:DAYLIGHT
TZOFFSETFROM:+0100
TZOFFSETTO:+0200
TZNAME:CEST
DTSTART:20250330T010000
END:DAYLIGHT
BEGIN:STANDARD
TZOFFSETFROM:+0200
TZOFFSETTO:+0100
TZNAME:CET
DTSTART:20251026T010000
END:STANDARD
BEGIN:DAYLIGHT
TZOFFSETFROM:+0100
TZOFFSETTO:+0200
TZNAME:CEST
DTSTART:20260329T010000
END:DAYLIGHT
BEGIN:STANDARD
TZOFFSETFROM:+0200
TZOFFSETTO:+0100
TZNAME:CET
DTSTART:20261025T010000
END:STANDARD
END:VTIMEZONE
BEGIN:VEVENT
DTSTART;TZID=Europe/Madrid:20241025T200000
DTEND;TZID=Europe/Madrid:20250310T200000
DTSTAMP:20260424T053141
CREATED:20240926T093609Z
LAST-MODIFIED:20240926T093609Z
UID:10000876-1729886400-1741636800@confederaciopenyes.cat
SUMMARY:Opening of the exhibition by PB Montgrí i Comarca
DESCRIPTION:Commemoration of the 50th Anniversary of the Peña. From 25 October to mid-March of 2025.  Federation of Empordà and Catalunya Nord.  
URL:https://confederaciopenyes.cat/en/event/opening-of-the-exhibition-by-pb-montgri-i-comarca/
LOCATION:Museu de la Mediterrania\, Carrer d'Ullà\, 31\, 17257 Torroella de Montgrí\, Girona\, Torroella de Montgrí\, Girona\, 17257\, Spain
ATTACH;FMTTYPE=image/jpeg:https://confederaciopenyes.cat/wp-content/uploads/2024/09/expoPBMCv1.jpg
END:VEVENT
BEGIN:VEVENT
DTSTART;TZID=Europe/Madrid:20241029T180000
DTEND;TZID=Europe/Madrid:20241122T193000
DTSTAMP:20260424T053141
CREATED:20241024T111027Z
LAST-MODIFIED:20241024T111027Z
UID:10001030-1730224800-1732303800@confederaciopenyes.cat
SUMMARY:Exhibition by PB Igualada
DESCRIPTION:From 29 octuber to 22 november at local d’Òmnium-Anoia. (From monday to friday) Federation of Anoia\, l’Alt Penedès and el Garraf.
URL:https://confederaciopenyes.cat/en/event/exhibition-by-pb-igualada/
LOCATION:León
ATTACH;FMTTYPE=image/jpeg:https://confederaciopenyes.cat/wp-content/uploads/2024/10/GajkAmJXkAAcaWy.jpg
END:VEVENT
BEGIN:VEVENT
DTSTART;TZID=Europe/Madrid:20241101T100000
DTEND;TZID=Europe/Madrid:20241116T170000
DTSTAMP:20260424T053141
CREATED:20241031T155142Z
LAST-MODIFIED:20241031T155142Z
UID:10001100-1730455200-1731776400@confederaciopenyes.cat
SUMMARY:8th Drawing contest by PB Solsona and Comarca
DESCRIPTION:From 1 to 15 of november. \nAward ceremony on 16th of november. \nFederation of Ponent Nord\, la Franja Nord and Andorra.
URL:https://confederaciopenyes.cat/en/event/8th-drawing-contest-by-pb-solsona-and-comarca/
LOCATION:León
ATTACH;FMTTYPE=image/jpeg:https://confederaciopenyes.cat/wp-content/uploads/2024/10/464990141_872397345023223_6202595025591174489_n.jpg
END:VEVENT
BEGIN:VEVENT
DTSTART;TZID=Europe/Madrid:20241116T100000
DTEND;TZID=Europe/Madrid:20241116T190000
DTSTAMP:20260424T053141
CREATED:20241003T094746Z
LAST-MODIFIED:20241003T094746Z
UID:10000933-1731751200-1731783600@confederaciopenyes.cat
SUMMARY:Domino championship at PB "El Chapi"
DESCRIPTION:Federation of Andalucia\, Ceuta and Melilla.
URL:https://confederaciopenyes.cat/en/event/domino-championship-at-pb-el-chapi/
LOCATION:León
ATTACH;FMTTYPE=image/jpeg:https://confederaciopenyes.cat/wp-content/uploads/2024/10/Cartel-2024-domino_page-0001.jpg
END:VEVENT
BEGIN:VEVENT
DTSTART;TZID=Europe/Madrid:20241116T130000
DTEND;TZID=Europe/Madrid:20241116T170000
DTSTAMP:20260424T053141
CREATED:20241024T113521Z
LAST-MODIFIED:20241024T113521Z
UID:10001044-1731762000-1731776400@confederaciopenyes.cat
SUMMARY:62th Anniversary of PB Segorbe
DESCRIPTION:Federation of Comarques de Castelló.
URL:https://confederaciopenyes.cat/en/event/62th-anniversary-of-pb-segorbe/
LOCATION:León
ATTACH;FMTTYPE=image/jpeg:https://confederaciopenyes.cat/wp-content/uploads/2023/12/agenda_aniversari.jpg
END:VEVENT
BEGIN:VEVENT
DTSTART;TZID=Europe/Madrid:20241116T133000
DTEND;TZID=Europe/Madrid:20241116T163000
DTSTAMP:20260424T053141
CREATED:20241112T113416Z
LAST-MODIFIED:20241112T113416Z
UID:10001136-1731763800-1731774600@confederaciopenyes.cat
SUMMARY:Fraternity lunch by PB Petrer
DESCRIPTION:Federation of Comarques d’Alacant.
URL:https://confederaciopenyes.cat/en/event/fraternity-lunch-by-pb-petrer/
LOCATION:León
ATTACH;FMTTYPE=image/jpeg:https://confederaciopenyes.cat/wp-content/uploads/2023/12/agenda_dinar_sopar.jpg
END:VEVENT
BEGIN:VEVENT
DTSTART;TZID=Europe/Madrid:20241116T140000
DTEND;TZID=Europe/Madrid:20241116T170000
DTSTAMP:20260424T053141
CREATED:20241107T114049Z
LAST-MODIFIED:20241107T114049Z
UID:10001112-1731765600-1731776400@confederaciopenyes.cat
SUMMARY:Lunch of membership supporters by PB Tortosa
DESCRIPTION:Federation of Terres de l’Ebre.
URL:https://confederaciopenyes.cat/en/event/lunch-of-membership-supporters-by-pb-tortosa/
LOCATION:Braseria Cap de Ball\, Plaça de la Corona d'Aragó\, s/n\, 43500 Tortosa\, Tarragona\, Tortosa\, Tarragona\, 43500\, Spain
ATTACH;FMTTYPE=image/jpeg:https://confederaciopenyes.cat/wp-content/uploads/2024/11/Screenshot_20241009_232249_Instagram.jpg
END:VEVENT
BEGIN:VEVENT
DTSTART;TZID=Europe/Madrid:20241116T140000
DTEND;TZID=Europe/Madrid:20241116T170000
DTSTAMP:20260424T053141
CREATED:20241112T113237Z
LAST-MODIFIED:20241112T113237Z
UID:10001138-1731765600-1731776400@confederaciopenyes.cat
SUMMARY:41st Anniversary of PB La Garriga
DESCRIPTION:Federation of Vallès.
URL:https://confederaciopenyes.cat/en/event/41st-anniversary-of-pb-la-garriga/
LOCATION:León
ATTACH;FMTTYPE=image/jpeg:https://confederaciopenyes.cat/wp-content/uploads/2023/12/agenda_aniversari.jpg
END:VEVENT
BEGIN:VEVENT
DTSTART;TZID=Europe/Madrid:20241116T140000
DTEND;TZID=Europe/Madrid:20241116T180000
DTSTAMP:20260424T053141
CREATED:20241024T114349Z
LAST-MODIFIED:20241024T114349Z
UID:10001077-1731765600-1731780000@confederaciopenyes.cat
SUMMARY:69th Anniversary of PB Foment Martinenc
DESCRIPTION:Federation of Barcelonès Est.
URL:https://confederaciopenyes.cat/en/event/69th-anniversary-of-pb-foment-martinenc/
LOCATION:León
ATTACH;FMTTYPE=image/jpeg:https://confederaciopenyes.cat/wp-content/uploads/2024/10/GcIpSY8XwAA3ZhJ.jpeg
END:VEVENT
BEGIN:VEVENT
DTSTART;TZID=Europe/Madrid:20241116T143000
DTEND;TZID=Europe/Madrid:20241116T173000
DTSTAMP:20260424T053141
CREATED:20241112T113545Z
LAST-MODIFIED:20241112T113545Z
UID:10001140-1731767400-1731778200@confederaciopenyes.cat
SUMMARY:Popular lunch by PB Sant Adrià del Besòs
DESCRIPTION:Federation of Barcelonès Est.
URL:https://confederaciopenyes.cat/en/event/popular-lunch-by-pb-sant-adria-del-besos-3/
LOCATION:León
ATTACH;FMTTYPE=image/jpeg:https://confederaciopenyes.cat/wp-content/uploads/2023/12/agenda_dinar_sopar.jpg
END:VEVENT
BEGIN:VEVENT
DTSTART;TZID=Europe/Madrid:20241116T143000
DTEND;TZID=Europe/Madrid:20241116T183000
DTSTAMP:20260424T053141
CREATED:20241015T082041Z
LAST-MODIFIED:20241015T082041Z
UID:10000957-1731767400-1731781800@confederaciopenyes.cat
SUMMARY:30th Anniversary of PB Tarazona
DESCRIPTION:Federation of Aragó\, La Rioja and Navarra.
URL:https://confederaciopenyes.cat/en/event/30th-anniversary-of-pb-tarazona/
LOCATION:León
ATTACH;FMTTYPE=image/jpeg:https://confederaciopenyes.cat/wp-content/uploads/2024/10/image_123650291.jpg
END:VEVENT
BEGIN:VEVENT
DTSTART;TZID=Europe/Madrid:20241116T180000
DTEND;TZID=Europe/Madrid:20241116T200000
DTSTAMP:20260424T053141
CREATED:20241024T111813Z
LAST-MODIFIED:20241024T111813Z
UID:10001046-1731780000-1731787200@confederaciopenyes.cat
SUMMARY:Conference Embassies at PB "Els Tamarells"
DESCRIPTION:Conference Embassies. “The history of Penyes” by Salva Torres. \nFederation of Balears.
URL:https://confederaciopenyes.cat/en/event/conference-embassies-at-pb-els-tamarells/
LOCATION:León
ATTACH;FMTTYPE=image/jpeg:https://confederaciopenyes.cat/wp-content/uploads/2023/12/agenda_conferencia-e1703173694737.jpg
END:VEVENT
BEGIN:VEVENT
DTSTART;TZID=Europe/Madrid:20241116T200000
DTEND;TZID=Europe/Madrid:20241116T230000
DTSTAMP:20260424T053141
CREATED:20241024T113703Z
LAST-MODIFIED:20241024T113703Z
UID:10001048-1731787200-1731798000@confederaciopenyes.cat
SUMMARY:30th Anniversary of PB Maragata
DESCRIPTION:Federation of Castilla and León.
URL:https://confederaciopenyes.cat/en/event/30th-anniversary-of-pb-maragata/
LOCATION:León
ATTACH;FMTTYPE=image/jpeg:https://confederaciopenyes.cat/wp-content/uploads/2023/12/agenda_aniversari.jpg
END:VEVENT
BEGIN:VEVENT
DTSTART;TZID=Europe/Madrid:20241116T203000
DTEND;TZID=Europe/Madrid:20241116T233000
DTSTAMP:20260424T053141
CREATED:20241024T113959Z
LAST-MODIFIED:20241024T113959Z
UID:10001050-1731789000-1731799800@confederaciopenyes.cat
SUMMARY:Annual dinner of members by PB El Cotayu
DESCRIPTION:Federation of Astúries and Cantàbria.
URL:https://confederaciopenyes.cat/en/event/annual-dinner-of-members-by-pb-el-cotayu/
LOCATION:León
ATTACH;FMTTYPE=image/jpeg:https://confederaciopenyes.cat/wp-content/uploads/2023/12/agenda_dinar_sopar.jpg
END:VEVENT
END:VCALENDAR