BEGIN:VCALENDAR
VERSION:2.0
PRODID:-//Confederació Mundial de Penyes del FC Barcelona - ECPv6.15.20//NONSGML v1.0//EN
CALSCALE:GREGORIAN
METHOD:PUBLISH
X-ORIGINAL-URL:https://confederaciopenyes.cat/en/
X-WR-CALDESC:Events for Confederació Mundial de Penyes del FC Barcelona
REFRESH-INTERVAL;VALUE=DURATION:PT1H
X-Robots-Tag:noindex
X-PUBLISHED-TTL:PT1H
BEGIN:VTIMEZONE
TZID:Europe/Madrid
BEGIN:DAYLIGHT
TZOFFSETFROM:+0100
TZOFFSETTO:+0200
TZNAME:CEST
DTSTART:20230326T010000
END:DAYLIGHT
BEGIN:STANDARD
TZOFFSETFROM:+0200
TZOFFSETTO:+0100
TZNAME:CET
DTSTART:20231029T010000
END:STANDARD
BEGIN:DAYLIGHT
TZOFFSETFROM:+0100
TZOFFSETTO:+0200
TZNAME:CEST
DTSTART:20240331T010000
END:DAYLIGHT
BEGIN:STANDARD
TZOFFSETFROM:+0200
TZOFFSETTO:+0100
TZNAME:CET
DTSTART:20241027T010000
END:STANDARD
BEGIN:DAYLIGHT
TZOFFSETFROM:+0100
TZOFFSETTO:+0200
TZNAME:CEST
DTSTART:20250330T010000
END:DAYLIGHT
BEGIN:STANDARD
TZOFFSETFROM:+0200
TZOFFSETTO:+0100
TZNAME:CET
DTSTART:20251026T010000
END:STANDARD
BEGIN:DAYLIGHT
TZOFFSETFROM:+0100
TZOFFSETTO:+0200
TZNAME:CEST
DTSTART:20260329T010000
END:DAYLIGHT
BEGIN:STANDARD
TZOFFSETFROM:+0200
TZOFFSETTO:+0100
TZNAME:CET
DTSTART:20261025T010000
END:STANDARD
END:VTIMEZONE
BEGIN:VEVENT
DTSTART;TZID=Europe/Madrid:20241025T200000
DTEND;TZID=Europe/Madrid:20250310T200000
DTSTAMP:20260425T140316
CREATED:20240926T093609Z
LAST-MODIFIED:20240926T093609Z
UID:10000876-1729886400-1741636800@confederaciopenyes.cat
SUMMARY:Opening of the exhibition by PB Montgrí i Comarca
DESCRIPTION:Commemoration of the 50th Anniversary of the Peña. From 25 October to mid-March of 2025.  Federation of Empordà and Catalunya Nord.  
URL:https://confederaciopenyes.cat/en/event/opening-of-the-exhibition-by-pb-montgri-i-comarca/
LOCATION:Museu de la Mediterrania\, Carrer d'Ullà\, 31\, 17257 Torroella de Montgrí\, Girona\, Torroella de Montgrí\, Girona\, 17257\, Spain
ATTACH;FMTTYPE=image/jpeg:https://confederaciopenyes.cat/wp-content/uploads/2024/09/expoPBMCv1.jpg
END:VEVENT
BEGIN:VEVENT
DTSTART;TZID=Europe/Madrid:20241029T180000
DTEND;TZID=Europe/Madrid:20241122T193000
DTSTAMP:20260425T140316
CREATED:20241024T111027Z
LAST-MODIFIED:20241024T111027Z
UID:10001030-1730224800-1732303800@confederaciopenyes.cat
SUMMARY:Exhibition by PB Igualada
DESCRIPTION:From 29 octuber to 22 november at local d’Òmnium-Anoia. (From monday to friday) Federation of Anoia\, l’Alt Penedès and el Garraf.
URL:https://confederaciopenyes.cat/en/event/exhibition-by-pb-igualada/
LOCATION:León
ATTACH;FMTTYPE=image/jpeg:https://confederaciopenyes.cat/wp-content/uploads/2024/10/GajkAmJXkAAcaWy.jpg
END:VEVENT
BEGIN:VEVENT
DTSTART;VALUE=DATE:20241117
DTEND;VALUE=DATE:20241118
DTSTAMP:20260425T140316
CREATED:20241112T113914Z
LAST-MODIFIED:20241112T113914Z
UID:10001142-1731801600-1731887999@confederaciopenyes.cat
SUMMARY:Participation in local fair by PB "La Societat"
DESCRIPTION:Federation of Lleida Sud and Franja Central.
URL:https://confederaciopenyes.cat/en/event/participation-in-local-fair-by-pb-la-societat/
LOCATION:León
ATTACH;FMTTYPE=image/jpeg:https://confederaciopenyes.cat/wp-content/uploads/2023/12/agenda_activitat-cultural.jpg
END:VEVENT
BEGIN:VEVENT
DTSTART;TZID=Europe/Madrid:20241117T083000
DTEND;TZID=Europe/Madrid:20241117T123000
DTSTAMP:20260425T140316
CREATED:20241107T153843Z
LAST-MODIFIED:20241107T153843Z
UID:10001124-1731832200-1731846600@confederaciopenyes.cat
SUMMARY:XXVI Popular Walk by PB Parets
DESCRIPTION:Federation of Vallès.
URL:https://confederaciopenyes.cat/en/event/xxvi-popular-walk-by-pb-parets/
LOCATION:León
ATTACH;FMTTYPE=image/jpeg:https://confederaciopenyes.cat/wp-content/uploads/2024/11/thumbnail_IMG_20241027_184827.jpg
END:VEVENT
BEGIN:VEVENT
DTSTART;TZID=Europe/Madrid:20241117T093000
DTEND;TZID=Europe/Madrid:20241117T170000
DTSTAMP:20260425T140316
CREATED:20241105T143134Z
LAST-MODIFIED:20241105T143134Z
UID:10001109-1731835800-1731862800@confederaciopenyes.cat
SUMMARY:49th Anniversary of PB Esparraguera
DESCRIPTION:Great social sausage 2024. \nPresentation of the poster of the 50th Anniversary. \nFederation of Baix Llobregat.
URL:https://confederaciopenyes.cat/en/event/49th-anniversary-of-pb-esparraguera/
LOCATION:León
ATTACH;FMTTYPE=image/png:https://confederaciopenyes.cat/wp-content/uploads/2024/11/Penya-Barcelonista-Esparreguera.png
END:VEVENT
BEGIN:VEVENT
DTSTART;TZID=Europe/Madrid:20241117T120000
DTEND;TZID=Europe/Madrid:20241117T133000
DTSTAMP:20260425T140316
CREATED:20240919T130738Z
LAST-MODIFIED:20240919T130738Z
UID:10000860-1731844800-1731850200@confederaciopenyes.cat
SUMMARY:Conference Embassies at PB Vall del Tenes
DESCRIPTION:Conference Embassies. “The history of Penyes”\, by Salva Torres. Federation of Vallès.
URL:https://confederaciopenyes.cat/en/event/conference-embassies-at-pb-vall-del-tenes/
LOCATION:León
ATTACH;FMTTYPE=image/jpeg:https://confederaciopenyes.cat/wp-content/uploads/2024/09/Screenshot_20241003-113504_Instagram-1.jpg
END:VEVENT
BEGIN:VEVENT
DTSTART;TZID=Europe/Madrid:20241117T120000
DTEND;TZID=Europe/Madrid:20241117T180000
DTSTAMP:20260425T140316
CREATED:20241024T111952Z
LAST-MODIFIED:20241024T111952Z
UID:10001052-1731844800-1731866400@confederaciopenyes.cat
SUMMARY:XIX Meeting of supporters de Osona and el Ripollès
DESCRIPTION:
URL:https://confederaciopenyes.cat/en/event/xix-meeting-of-supporters-de-osona-and-el-ripolles/
LOCATION:León
ATTACH;FMTTYPE=image/jpeg:https://confederaciopenyes.cat/wp-content/uploads/2023/12/agenda_trobada.jpg
END:VEVENT
BEGIN:VEVENT
DTSTART;TZID=Europe/Madrid:20241117T130000
DTEND;TZID=Europe/Madrid:20241117T170000
DTSTAMP:20260425T140316
CREATED:20241024T114523Z
LAST-MODIFIED:20241024T114523Z
UID:10001055-1731848400-1731862800@confederaciopenyes.cat
SUMMARY:42th Anniversary of PB Capellades
DESCRIPTION:Federation of Anoia\, Alt Penedès and el Garraf.
URL:https://confederaciopenyes.cat/en/event/42th-anniversary-of-pb-capellades/
LOCATION:León
ATTACH;FMTTYPE=image/jpeg:https://confederaciopenyes.cat/wp-content/uploads/2023/12/agenda_aniversari.jpg
END:VEVENT
BEGIN:VEVENT
DTSTART;TZID=Europe/Madrid:20241117T133000
DTEND;TZID=Europe/Madrid:20241117T163000
DTSTAMP:20260425T140316
CREATED:20241112T113728Z
LAST-MODIFIED:20241112T122948Z
UID:10001144-1731850200-1731861000@confederaciopenyes.cat
SUMMARY:44th Anniversary of PB Anar-hi anant
DESCRIPTION:Federation of Baix Llobregat.
URL:https://confederaciopenyes.cat/en/event/44th-anniversary-of-pb-anar-hi-anant/
LOCATION:León
ATTACH;FMTTYPE=image/jpeg:https://confederaciopenyes.cat/wp-content/uploads/2023/12/agenda_aniversari.jpg
END:VEVENT
BEGIN:VEVENT
DTSTART;TZID=Europe/Madrid:20241117T133000
DTEND;TZID=Europe/Madrid:20241117T173000
DTSTAMP:20260425T140316
CREATED:20240321T120527Z
LAST-MODIFIED:20240321T120527Z
UID:10000241-1731850200-1731864600@confederaciopenyes.cat
SUMMARY:50th Anniversary of PB Montgrí & Comarca
DESCRIPTION:Lunch with activities: “Grallers”\, “Geganters”\, “Ducs del Foc”\, and concert and dance with the Orquestry Montgrins. \nFederation of Empordà & Catalunya North.
URL:https://confederaciopenyes.cat/en/event/50th-anniversary-of-pb-montgri-comarca/
LOCATION:Auditori Teatre Espai Ter\, Carrer Riu Ter\, 29\, 17257 Torroella de Montgrí\, Girona\, Torroella de Montgrí\, Girona\, 17257\, Espanya
ATTACH;FMTTYPE=image/png:https://confederaciopenyes.cat/wp-content/uploads/2024/03/Captura-de-Pantalla-2024-03-21-a-las-13.04.44.png
END:VEVENT
BEGIN:VEVENT
DTSTART;TZID=Europe/Madrid:20241117T133000
DTEND;TZID=Europe/Madrid:20241117T173000
DTSTAMP:20260425T140316
CREATED:20240917T092943Z
LAST-MODIFIED:20240917T092943Z
UID:10000848-1731850200-1731864600@confederaciopenyes.cat
SUMMARY:49th Anniversary of PB Gavanenca
DESCRIPTION:Federation of Baix Llobregat.
URL:https://confederaciopenyes.cat/en/event/49th-anniversary-of-pb-gavanenca/
LOCATION:Mar de Pins\, Av. d'Europa\, 4\, 08850 Gavà\, Barcelona\, Gavà\, Barcelona\, 08850\, Spain
ATTACH;FMTTYPE=image/jpeg:https://confederaciopenyes.cat/wp-content/uploads/2023/12/agenda_aniversari.jpg
END:VEVENT
BEGIN:VEVENT
DTSTART;TZID=Europe/Madrid:20241117T133000
DTEND;TZID=Europe/Madrid:20241117T173000
DTSTAMP:20260425T140316
CREATED:20241024T114224Z
LAST-MODIFIED:20241024T114224Z
UID:10001071-1731850200-1731864600@confederaciopenyes.cat
SUMMARY:51st Anniversary of PB Plana de Vic
DESCRIPTION:Federation of Osona and Ripollès.
URL:https://confederaciopenyes.cat/en/event/51st-anniversary-of-pb-plana-de-vic/
LOCATION:León
ATTACH;FMTTYPE=image/jpeg:https://confederaciopenyes.cat/wp-content/uploads/2023/12/agenda_aniversari.jpg
END:VEVENT
BEGIN:VEVENT
DTSTART;TZID=Europe/Madrid:20241117T133000
DTEND;TZID=Europe/Madrid:20241117T183000
DTSTAMP:20260425T140316
CREATED:20241024T114831Z
LAST-MODIFIED:20241024T114831Z
UID:10001073-1731850200-1731868200@confederaciopenyes.cat
SUMMARY:50th Anniversary of PB Manresa
DESCRIPTION:Federation of Bages\, el Berguedà and la Cerdanya.
URL:https://confederaciopenyes.cat/en/event/50th-anniversary-of-pb-manresa/
LOCATION:León
ATTACH;FMTTYPE=image/jpeg:https://confederaciopenyes.cat/wp-content/uploads/2023/12/agenda_aniversari.jpg
END:VEVENT
BEGIN:VEVENT
DTSTART;TZID=Europe/Madrid:20241117T140000
DTEND;TZID=Europe/Madrid:20241117T170000
DTSTAMP:20260425T140316
CREATED:20240926T094007Z
LAST-MODIFIED:20240926T094007Z
UID:10000878-1731852000-1731862800@confederaciopenyes.cat
SUMMARY:30th Anniversary of PB Vall del Tenes
DESCRIPTION:Federation of Vallès.
URL:https://confederaciopenyes.cat/en/event/30th-anniversary-of-pb-vall-del-tenes/
LOCATION:Centre Civic El Rieral\, Carrer d' Anna Mogas\, 08415 Bigues i Riells\, Barcelona\, Bigues i Riells\, Barcelona\, 08415\, Spain
ATTACH;FMTTYPE=image/jpeg:https://confederaciopenyes.cat/wp-content/uploads/2024/09/Screenshot_20241003-113504_Instagram.jpg
END:VEVENT
BEGIN:VEVENT
DTSTART;TZID=Europe/Madrid:20241117T140000
DTEND;TZID=Europe/Madrid:20241117T170000
DTSTAMP:20260425T140316
CREATED:20241003T095532Z
LAST-MODIFIED:20241003T095532Z
UID:10000935-1731852000-1731862800@confederaciopenyes.cat
SUMMARY:50th Anniversary of PB Ripollet
DESCRIPTION:Federation of Vallès.
URL:https://confederaciopenyes.cat/en/event/50th-anniversary-of-pb-ripollet/
LOCATION:Restaurant Enovin\, Carrer Cerdanyola del Vallès\, 1\, 08291 Ripollet\, Barcelona\, Ripollet\, Barcelona\, 08291\, Spain
ATTACH;FMTTYPE=image/jpeg:https://confederaciopenyes.cat/wp-content/uploads/2024/10/Screenshot_20241003-113541_Instagram.jpg
END:VEVENT
BEGIN:VEVENT
DTSTART;TZID=Europe/Madrid:20241117T140000
DTEND;TZID=Europe/Madrid:20241117T170000
DTSTAMP:20260425T140316
CREATED:20241024T114659Z
LAST-MODIFIED:20241024T114659Z
UID:10001075-1731852000-1731862800@confederaciopenyes.cat
SUMMARY:37th Anniversary of PB Gata de Gorgos
DESCRIPTION:Federation of Comarques de València and la Marina Alta.
URL:https://confederaciopenyes.cat/en/event/37th-anniversary-of-pb-gata-de-gorgos/
LOCATION:León
ATTACH;FMTTYPE=image/jpeg:https://confederaciopenyes.cat/wp-content/uploads/2023/12/agenda_aniversari.jpg
END:VEVENT
BEGIN:VEVENT
DTSTART;TZID=Europe/Madrid:20241117T140000
DTEND;TZID=Europe/Madrid:20241117T180000
DTSTAMP:20260425T140316
CREATED:20241022T101101Z
LAST-MODIFIED:20241022T101101Z
UID:10000993-1731852000-1731866400@confederaciopenyes.cat
SUMMARY:40th Anniversary of PB Porreres
DESCRIPTION:Fraternity lunch. \nFederation of Balears.
URL:https://confederaciopenyes.cat/en/event/40th-anniversary-of-pb-porreres/
LOCATION:León
ATTACH;FMTTYPE=image/jpeg:https://confederaciopenyes.cat/wp-content/uploads/2023/12/agenda_aniversari.jpg
END:VEVENT
END:VCALENDAR