BEGIN:VCALENDAR
VERSION:2.0
PRODID:-//Confederació Mundial de Penyes del FC Barcelona - ECPv6.15.20//NONSGML v1.0//EN
CALSCALE:GREGORIAN
METHOD:PUBLISH
X-ORIGINAL-URL:https://confederaciopenyes.cat/en/
X-WR-CALDESC:Events for Confederació Mundial de Penyes del FC Barcelona
REFRESH-INTERVAL;VALUE=DURATION:PT1H
X-Robots-Tag:noindex
X-PUBLISHED-TTL:PT1H
BEGIN:VTIMEZONE
TZID:Europe/Madrid
BEGIN:DAYLIGHT
TZOFFSETFROM:+0100
TZOFFSETTO:+0200
TZNAME:CEST
DTSTART:20230326T010000
END:DAYLIGHT
BEGIN:STANDARD
TZOFFSETFROM:+0200
TZOFFSETTO:+0100
TZNAME:CET
DTSTART:20231029T010000
END:STANDARD
BEGIN:DAYLIGHT
TZOFFSETFROM:+0100
TZOFFSETTO:+0200
TZNAME:CEST
DTSTART:20240331T010000
END:DAYLIGHT
BEGIN:STANDARD
TZOFFSETFROM:+0200
TZOFFSETTO:+0100
TZNAME:CET
DTSTART:20241027T010000
END:STANDARD
BEGIN:DAYLIGHT
TZOFFSETFROM:+0100
TZOFFSETTO:+0200
TZNAME:CEST
DTSTART:20250330T010000
END:DAYLIGHT
BEGIN:STANDARD
TZOFFSETFROM:+0200
TZOFFSETTO:+0100
TZNAME:CET
DTSTART:20251026T010000
END:STANDARD
BEGIN:DAYLIGHT
TZOFFSETFROM:+0100
TZOFFSETTO:+0200
TZNAME:CEST
DTSTART:20260329T010000
END:DAYLIGHT
BEGIN:STANDARD
TZOFFSETFROM:+0200
TZOFFSETTO:+0100
TZNAME:CET
DTSTART:20261025T010000
END:STANDARD
END:VTIMEZONE
BEGIN:VEVENT
DTSTART;TZID=Europe/Madrid:20241025T200000
DTEND;TZID=Europe/Madrid:20250310T200000
DTSTAMP:20260424T003001
CREATED:20240926T093609Z
LAST-MODIFIED:20240926T093609Z
UID:10000876-1729886400-1741636800@confederaciopenyes.cat
SUMMARY:Opening of the exhibition by PB Montgrí i Comarca
DESCRIPTION:Commemoration of the 50th Anniversary of the Peña. From 25 October to mid-March of 2025.  Federation of Empordà and Catalunya Nord.  
URL:https://confederaciopenyes.cat/en/event/opening-of-the-exhibition-by-pb-montgri-i-comarca/
LOCATION:Museu de la Mediterrania\, Carrer d'Ullà\, 31\, 17257 Torroella de Montgrí\, Girona\, Torroella de Montgrí\, Girona\, 17257\, Spain
ATTACH;FMTTYPE=image/jpeg:https://confederaciopenyes.cat/wp-content/uploads/2024/09/expoPBMCv1.jpg
END:VEVENT
BEGIN:VEVENT
DTSTART;TZID=Europe/Madrid:20241122T100000
DTEND;TZID=Europe/Madrid:20241215T170000
DTSTAMP:20260424T003001
CREATED:20241126T101023Z
LAST-MODIFIED:20241126T101023Z
UID:10001179-1732269600-1734282000@confederaciopenyes.cat
SUMMARY:Participation at great food bank fundraiser by PB Torrelameu
DESCRIPTION:From 22 of november to 15 of december. \nFederation of Ponent Nord\, la Franja Nord and Andorra.
URL:https://confederaciopenyes.cat/en/event/participation-at-great-food-bank-fundraiser-by-pb-torrelameu/
LOCATION:León
ATTACH;FMTTYPE=image/jpeg:https://confederaciopenyes.cat/wp-content/uploads/2024/11/Cartell_GranRecapte-Banc-dAliments_PBT-1_page-0001.jpg
END:VEVENT
BEGIN:VEVENT
DTSTART;TZID=Europe/Madrid:20241129T180000
DTEND;TZID=Europe/Madrid:20241129T220000
DTSTAMP:20260424T003001
CREATED:20241024T115322Z
LAST-MODIFIED:20241024T115322Z
UID:10001085-1732903200-1732917600@confederaciopenyes.cat
SUMMARY:Football tournament and charity raffle by PB Gabriel López Sola de Saint Juery
DESCRIPTION:Federation of World.
URL:https://confederaciopenyes.cat/en/event/football-tournament-and-charity-raffle-by-pb-gabriel-lopez-sola-de-saint-juery/
LOCATION:León
ATTACH;FMTTYPE=image/jpeg:https://confederaciopenyes.cat/wp-content/uploads/2023/12/agenda_solidaritat.jpg
END:VEVENT
BEGIN:VEVENT
DTSTART;TZID=Europe/Madrid:20241129T200000
DTEND;TZID=Europe/Madrid:20241129T213000
DTSTAMP:20260424T003001
CREATED:20241015T082632Z
LAST-MODIFIED:20241015T082632Z
UID:10000959-1732910400-1732915800@confederaciopenyes.cat
SUMMARY:Conference "Barça and Catalunya" at PB de l'Alt Empordà
DESCRIPTION:Conference “Barça and Catalunya” 1st part “Els Orígens de la Simbiosi” by Salva Torres. \nFederation of l’Empordà and Catalunya Nord.
URL:https://confederaciopenyes.cat/en/event/conference-barca-and-catalunya-at-pb-de-lalt-emporda/
LOCATION:Patronat de la Catequista\, Ronda del Rector Aroles\, 4\, 17600 Figueres\, Girona\, Figueres\, Girona\, 17600\, Spain
ATTACH;FMTTYPE=image/jpeg:https://confederaciopenyes.cat/wp-content/uploads/2023/12/agenda_conferencia-e1703173694737.jpg
END:VEVENT
BEGIN:VEVENT
DTSTART;TZID=Europe/Madrid:20241129T200000
DTEND;TZID=Europe/Madrid:20241129T213000
DTSTAMP:20260424T003001
CREATED:20241126T095917Z
LAST-MODIFIED:20241126T095917Z
UID:10001181-1732910400-1732915800@confederaciopenyes.cat
SUMMARY:Conference at PB "Els Tamarells"
DESCRIPTION:Conference: “Les creus de terme del municipi de Felanitx. Patrimoni invisibilitzat”\, by Sebastià Barceló “Guingaia”. \nIn the headquarters of Penya. \nFederation of Balears.
URL:https://confederaciopenyes.cat/en/event/conference-at-pb-els-tamarells-2/
LOCATION:León
ATTACH;FMTTYPE=image/jpeg:https://confederaciopenyes.cat/wp-content/uploads/2024/11/Gc_M5QfXkAAPiHA.jpg
END:VEVENT
END:VCALENDAR