BEGIN:VCALENDAR
VERSION:2.0
PRODID:-//Confederació Mundial de Penyes del FC Barcelona - ECPv6.15.20//NONSGML v1.0//EN
CALSCALE:GREGORIAN
METHOD:PUBLISH
X-ORIGINAL-URL:https://confederaciopenyes.cat/en/
X-WR-CALDESC:Events for Confederació Mundial de Penyes del FC Barcelona
REFRESH-INTERVAL;VALUE=DURATION:PT1H
X-Robots-Tag:noindex
X-PUBLISHED-TTL:PT1H
BEGIN:VTIMEZONE
TZID:Europe/Madrid
BEGIN:DAYLIGHT
TZOFFSETFROM:+0100
TZOFFSETTO:+0200
TZNAME:CEST
DTSTART:20230326T010000
END:DAYLIGHT
BEGIN:STANDARD
TZOFFSETFROM:+0200
TZOFFSETTO:+0100
TZNAME:CET
DTSTART:20231029T010000
END:STANDARD
BEGIN:DAYLIGHT
TZOFFSETFROM:+0100
TZOFFSETTO:+0200
TZNAME:CEST
DTSTART:20240331T010000
END:DAYLIGHT
BEGIN:STANDARD
TZOFFSETFROM:+0200
TZOFFSETTO:+0100
TZNAME:CET
DTSTART:20241027T010000
END:STANDARD
BEGIN:DAYLIGHT
TZOFFSETFROM:+0100
TZOFFSETTO:+0200
TZNAME:CEST
DTSTART:20250330T010000
END:DAYLIGHT
BEGIN:STANDARD
TZOFFSETFROM:+0200
TZOFFSETTO:+0100
TZNAME:CET
DTSTART:20251026T010000
END:STANDARD
BEGIN:DAYLIGHT
TZOFFSETFROM:+0100
TZOFFSETTO:+0200
TZNAME:CEST
DTSTART:20260329T010000
END:DAYLIGHT
BEGIN:STANDARD
TZOFFSETFROM:+0200
TZOFFSETTO:+0100
TZNAME:CET
DTSTART:20261025T010000
END:STANDARD
END:VTIMEZONE
BEGIN:VEVENT
DTSTART;TZID=Europe/Madrid:20241025T200000
DTEND;TZID=Europe/Madrid:20250310T200000
DTSTAMP:20260424T003048
CREATED:20240926T093609Z
LAST-MODIFIED:20240926T093609Z
UID:10000876-1729886400-1741636800@confederaciopenyes.cat
SUMMARY:Opening of the exhibition by PB Montgrí i Comarca
DESCRIPTION:Commemoration of the 50th Anniversary of the Peña. From 25 October to mid-March of 2025.  Federation of Empordà and Catalunya Nord.  
URL:https://confederaciopenyes.cat/en/event/opening-of-the-exhibition-by-pb-montgri-i-comarca/
LOCATION:Museu de la Mediterrania\, Carrer d'Ullà\, 31\, 17257 Torroella de Montgrí\, Girona\, Torroella de Montgrí\, Girona\, 17257\, Spain
ATTACH;FMTTYPE=image/jpeg:https://confederaciopenyes.cat/wp-content/uploads/2024/09/expoPBMCv1.jpg
END:VEVENT
BEGIN:VEVENT
DTSTART;TZID=Europe/Madrid:20241122T100000
DTEND;TZID=Europe/Madrid:20241215T170000
DTSTAMP:20260424T003048
CREATED:20241126T101023Z
LAST-MODIFIED:20241126T101023Z
UID:10001179-1732269600-1734282000@confederaciopenyes.cat
SUMMARY:Participation at great food bank fundraiser by PB Torrelameu
DESCRIPTION:From 22 of november to 15 of december. \nFederation of Ponent Nord\, la Franja Nord and Andorra.
URL:https://confederaciopenyes.cat/en/event/participation-at-great-food-bank-fundraiser-by-pb-torrelameu/
LOCATION:León
ATTACH;FMTTYPE=image/jpeg:https://confederaciopenyes.cat/wp-content/uploads/2024/11/Cartell_GranRecapte-Banc-dAliments_PBT-1_page-0001.jpg
END:VEVENT
BEGIN:VEVENT
DTSTART;TZID=Europe/Madrid:20241207T100000
DTEND;TZID=Europe/Madrid:20241207T170000
DTSTAMP:20260424T003048
CREATED:20241017T101111Z
LAST-MODIFIED:20241017T101111Z
UID:10000972-1733565600-1733590800@confederaciopenyes.cat
SUMMARY:20th Anniversary of PB Josep Suñol i Garriga de Palafolls
DESCRIPTION:Federation of Maresme.
URL:https://confederaciopenyes.cat/en/event/20th-anniversary-of-pb-josep-sunol-i-garriga-de-palafolls/
LOCATION:León
ATTACH;FMTTYPE=image/png:https://confederaciopenyes.cat/wp-content/uploads/2024/10/20e-ANIVERSARI-PBPALAFOLLS.png
END:VEVENT
BEGIN:VEVENT
DTSTART;TZID=Europe/Madrid:20241207T120000
DTEND;TZID=Europe/Madrid:20241207T180000
DTSTAMP:20260424T003048
CREATED:20241128T101224Z
LAST-MODIFIED:20241128T101224Z
UID:10001197-1733572800-1733594400@confederaciopenyes.cat
SUMMARY:VIII Solidarity Day by PB Almansa
DESCRIPTION:Federation of Castilla La Mancha.
URL:https://confederaciopenyes.cat/en/event/viii-solidarity-day-by-pb-almansa/
LOCATION:León
ATTACH;FMTTYPE=image/jpeg:https://confederaciopenyes.cat/wp-content/uploads/2024/11/Screenshot_20241128-091501_Instagram.jpg
END:VEVENT
BEGIN:VEVENT
DTSTART;TZID=Europe/Madrid:20241207T140000
DTEND;TZID=Europe/Madrid:20241207T170000
DTSTAMP:20260424T003048
CREATED:20241022T112530Z
LAST-MODIFIED:20241022T112530Z
UID:10000998-1733580000-1733590800@confederaciopenyes.cat
SUMMARY:20th Anniversary of PB Moriles
DESCRIPTION:Federation of Andalucia\, Ceuta and Melilla.
URL:https://confederaciopenyes.cat/en/event/20th-anniversary-of-pb-moriles/
LOCATION:León
ATTACH;FMTTYPE=image/jpeg:https://confederaciopenyes.cat/wp-content/uploads/2023/12/agenda_aniversari.jpg
END:VEVENT
END:VCALENDAR