BEGIN:VCALENDAR
VERSION:2.0
PRODID:-//Confederació Mundial de Penyes del FC Barcelona - ECPv6.15.20//NONSGML v1.0//EN
CALSCALE:GREGORIAN
METHOD:PUBLISH
X-WR-CALNAME:Confederació Mundial de Penyes del FC Barcelona
X-ORIGINAL-URL:https://confederaciopenyes.cat/en/
X-WR-CALDESC:Events for Confederació Mundial de Penyes del FC Barcelona
REFRESH-INTERVAL;VALUE=DURATION:PT1H
X-Robots-Tag:noindex
X-PUBLISHED-TTL:PT1H
BEGIN:VTIMEZONE
TZID:Europe/Madrid
BEGIN:DAYLIGHT
TZOFFSETFROM:+0100
TZOFFSETTO:+0200
TZNAME:CEST
DTSTART:20230326T010000
END:DAYLIGHT
BEGIN:STANDARD
TZOFFSETFROM:+0200
TZOFFSETTO:+0100
TZNAME:CET
DTSTART:20231029T010000
END:STANDARD
BEGIN:DAYLIGHT
TZOFFSETFROM:+0100
TZOFFSETTO:+0200
TZNAME:CEST
DTSTART:20240331T010000
END:DAYLIGHT
BEGIN:STANDARD
TZOFFSETFROM:+0200
TZOFFSETTO:+0100
TZNAME:CET
DTSTART:20241027T010000
END:STANDARD
BEGIN:DAYLIGHT
TZOFFSETFROM:+0100
TZOFFSETTO:+0200
TZNAME:CEST
DTSTART:20250330T010000
END:DAYLIGHT
BEGIN:STANDARD
TZOFFSETFROM:+0200
TZOFFSETTO:+0100
TZNAME:CET
DTSTART:20251026T010000
END:STANDARD
BEGIN:DAYLIGHT
TZOFFSETFROM:+0100
TZOFFSETTO:+0200
TZNAME:CEST
DTSTART:20260329T010000
END:DAYLIGHT
BEGIN:STANDARD
TZOFFSETFROM:+0200
TZOFFSETTO:+0100
TZNAME:CET
DTSTART:20261025T010000
END:STANDARD
END:VTIMEZONE
BEGIN:VEVENT
DTSTART;TZID=Europe/Madrid:20241025T200000
DTEND;TZID=Europe/Madrid:20250310T200000
DTSTAMP:20260424T002806
CREATED:20240926T093609Z
LAST-MODIFIED:20240926T093609Z
UID:10000876-1729886400-1741636800@confederaciopenyes.cat
SUMMARY:Opening of the exhibition by PB Montgrí i Comarca
DESCRIPTION:Commemoration of the 50th Anniversary of the Peña. From 25 October to mid-March of 2025.  Federation of Empordà and Catalunya Nord.  
URL:https://confederaciopenyes.cat/en/event/opening-of-the-exhibition-by-pb-montgri-i-comarca/
LOCATION:Museu de la Mediterrania\, Carrer d'Ullà\, 31\, 17257 Torroella de Montgrí\, Girona\, Torroella de Montgrí\, Girona\, 17257\, Spain
ATTACH;FMTTYPE=image/jpeg:https://confederaciopenyes.cat/wp-content/uploads/2024/09/expoPBMCv1.jpg
END:VEVENT
BEGIN:VEVENT
DTSTART;TZID=Europe/Madrid:20241223T090000
DTEND;TZID=Europe/Madrid:20241231T130000
DTSTAMP:20260424T002806
CREATED:20241210T104322Z
LAST-MODIFIED:20241210T104322Z
UID:10001211-1734944400-1735650000@confederaciopenyes.cat
SUMMARY:Christmas football Camp 2024 by PB d'Igualada
DESCRIPTION:On 23\, 24\, 27\, 30 and 31 december. \nFederation of l’Anoia\, l’Alt Penedès and el Garraf.
URL:https://confederaciopenyes.cat/en/event/christmas-football-camp-2024-by-pb-digualada/
LOCATION:Camp annex Les Comes\, Carrer de Carles Riba\, 68\, 08700 Igualada\, Barcelona\, Igualada\, Barcelona\, 08700\, Spain
ATTACH;FMTTYPE=image/jpeg:https://confederaciopenyes.cat/wp-content/uploads/2024/12/469042618_9240259649370878_6968936847250784434_n.jpg
END:VEVENT
BEGIN:VEVENT
DTSTART;TZID=Europe/Madrid:20241227T130000
DTEND;TZID=Europe/Madrid:20241227T200000
DTSTAMP:20260424T002806
CREATED:20241217T115107Z
LAST-MODIFIED:20241217T115107Z
UID:10001246-1735304400-1735329600@confederaciopenyes.cat
SUMMARY:Participation in Christmas park by PB 20 de Maig
DESCRIPTION:Federation of Terres de l’Ebre.
URL:https://confederaciopenyes.cat/en/event/participation-in-christmas-park-by-pb-20-de-maig/
LOCATION:León
ATTACH;FMTTYPE=image/jpeg:https://confederaciopenyes.cat/wp-content/uploads/2023/12/agenda_solidaritat.jpg
END:VEVENT
BEGIN:VEVENT
DTSTART;TZID=Europe/Madrid:20241227T130000
DTEND;TZID=Europe/Madrid:20241227T200000
DTSTAMP:20260424T002806
CREATED:20241217T115246Z
LAST-MODIFIED:20241217T115246Z
UID:10001248-1735304400-1735329600@confederaciopenyes.cat
SUMMARY:Participation in Christmas park by PB Horta de Sant Joan
DESCRIPTION:Federation of Terres de l’Ebre.
URL:https://confederaciopenyes.cat/en/event/participation-in-christmas-park-by-pb-horta-de-sant-joan/
LOCATION:León
ATTACH;FMTTYPE=image/jpeg:https://confederaciopenyes.cat/wp-content/uploads/2023/12/agenda_solidaritat.jpg
END:VEVENT
BEGIN:VEVENT
DTSTART;TZID=Europe/Madrid:20241227T190000
DTEND;TZID=Europe/Madrid:20241227T203000
DTSTAMP:20260424T002806
CREATED:20241112T114900Z
LAST-MODIFIED:20241112T114900Z
UID:10001154-1735326000-1735331400@confederaciopenyes.cat
SUMMARY:Conference "Barça and Catalunya" at PB Riudecanyes
DESCRIPTION:Conference “Barça and Catalunya” 1st part “Els Orígens de la Simbiosi”\, by Salva Torres. \nFederation of Tarragona Nord.
URL:https://confederaciopenyes.cat/en/event/conference-barca-and-catalunya-at-pb-riudecanyes/
LOCATION:León
ATTACH;FMTTYPE=image/jpeg:https://confederaciopenyes.cat/wp-content/uploads/2023/12/agenda_conferencia-e1703173694737.jpg
END:VEVENT
END:VCALENDAR