BEGIN:VCALENDAR
VERSION:2.0
PRODID:-//Confederació Mundial de Penyes del FC Barcelona - ECPv6.15.20//NONSGML v1.0//EN
CALSCALE:GREGORIAN
METHOD:PUBLISH
X-WR-CALNAME:Confederació Mundial de Penyes del FC Barcelona
X-ORIGINAL-URL:https://confederaciopenyes.cat/en/
X-WR-CALDESC:Events for Confederació Mundial de Penyes del FC Barcelona
REFRESH-INTERVAL;VALUE=DURATION:PT1H
X-Robots-Tag:noindex
X-PUBLISHED-TTL:PT1H
BEGIN:VTIMEZONE
TZID:Europe/Madrid
BEGIN:DAYLIGHT
TZOFFSETFROM:+0100
TZOFFSETTO:+0200
TZNAME:CEST
DTSTART:20250330T010000
END:DAYLIGHT
BEGIN:STANDARD
TZOFFSETFROM:+0200
TZOFFSETTO:+0100
TZNAME:CET
DTSTART:20251026T010000
END:STANDARD
BEGIN:DAYLIGHT
TZOFFSETFROM:+0100
TZOFFSETTO:+0200
TZNAME:CEST
DTSTART:20260329T010000
END:DAYLIGHT
BEGIN:STANDARD
TZOFFSETFROM:+0200
TZOFFSETTO:+0100
TZNAME:CET
DTSTART:20261025T010000
END:STANDARD
BEGIN:DAYLIGHT
TZOFFSETFROM:+0100
TZOFFSETTO:+0200
TZNAME:CEST
DTSTART:20270328T010000
END:DAYLIGHT
BEGIN:STANDARD
TZOFFSETFROM:+0200
TZOFFSETTO:+0100
TZNAME:CET
DTSTART:20271031T010000
END:STANDARD
END:VTIMEZONE
BEGIN:VEVENT
DTSTART;TZID=Europe/Madrid:20260329T090000
DTEND;TZID=Europe/Madrid:20260329T190000
DTSTAMP:20260420T162539
CREATED:20260226T120046Z
LAST-MODIFIED:20260226T120046Z
UID:10002774-1774774800-1774810800@confederaciopenyes.cat
SUMMARY:Friendly tournament by PB Castellbisbal
DESCRIPTION:Federation of Vallès.
URL:https://confederaciopenyes.cat/en/event/friendly-tournament-by-pb-castellbisbal/
ATTACH;FMTTYPE=image/jpeg:https://confederaciopenyes.cat/wp-content/uploads/2026/02/activitat-futbol.jpg
END:VEVENT
BEGIN:VEVENT
DTSTART;TZID=Europe/Madrid:20260329T110000
DTEND;TZID=Europe/Madrid:20260329T180000
DTSTAMP:20260420T162539
CREATED:20260310T100326Z
LAST-MODIFIED:20260310T114149Z
UID:10002801-1774782000-1774807200@confederaciopenyes.cat
SUMMARY:II Memorial Joan Casals i Boixader by PB La Baells-Cercs
DESCRIPTION:With the collaboration of the Penya Blau-Grana de Guardiola de Berguedà and the Federation of Bages\, Berguedà and La Cerdanya. \nPROGRAM: \n\n11:00h – Visit to the Cercs Mines Museum and entrance to the Mine\n12:00h – Unveiling of the commemorative plaque of the day’s celebration\n13:00h – Historical memory activity and institutional speeches in the multipurpose room\n14:45h – Brotherhood lunch at the Santa Bàrbara Restaurant\n\n*Limited places for mine visits / Registrations until March 24. \nCristina (607831270) / Anna (626938892) \n 
URL:https://confederaciopenyes.cat/en/event/ii-memorial-joan-casals-i-boixader-by-pb-la-baells-cercs/
LOCATION:Restaurant Santa Barbara\, Carrer Santa Bàrbara Primera\, 17\, 08698 Sant Corneli\, Barcelona\, Sant Corneli\, Barcelona\, 08698\, Spain
ATTACH;FMTTYPE=image/jpeg:https://confederaciopenyes.cat/wp-content/uploads/2026/03/WhatsApp-Image-2026-03-10-at-09.54.21.jpeg
END:VEVENT
END:VCALENDAR