BEGIN:VCALENDAR
VERSION:2.0
PRODID:-//Confederació Mundial de Penyes del FC Barcelona - ECPv6.15.20//NONSGML v1.0//EN
CALSCALE:GREGORIAN
METHOD:PUBLISH
X-WR-CALNAME:Confederació Mundial de Penyes del FC Barcelona
X-ORIGINAL-URL:https://confederaciopenyes.cat/en/
X-WR-CALDESC:Events for Confederació Mundial de Penyes del FC Barcelona
REFRESH-INTERVAL;VALUE=DURATION:PT1H
X-Robots-Tag:noindex
X-PUBLISHED-TTL:PT1H
BEGIN:VTIMEZONE
TZID:Europe/Madrid
BEGIN:DAYLIGHT
TZOFFSETFROM:+0100
TZOFFSETTO:+0200
TZNAME:CEST
DTSTART:20250330T010000
END:DAYLIGHT
BEGIN:STANDARD
TZOFFSETFROM:+0200
TZOFFSETTO:+0100
TZNAME:CET
DTSTART:20251026T010000
END:STANDARD
BEGIN:DAYLIGHT
TZOFFSETFROM:+0100
TZOFFSETTO:+0200
TZNAME:CEST
DTSTART:20260329T010000
END:DAYLIGHT
BEGIN:STANDARD
TZOFFSETFROM:+0200
TZOFFSETTO:+0100
TZNAME:CET
DTSTART:20261025T010000
END:STANDARD
BEGIN:DAYLIGHT
TZOFFSETFROM:+0100
TZOFFSETTO:+0200
TZNAME:CEST
DTSTART:20270328T010000
END:DAYLIGHT
BEGIN:STANDARD
TZOFFSETFROM:+0200
TZOFFSETTO:+0100
TZNAME:CET
DTSTART:20271031T010000
END:STANDARD
END:VTIMEZONE
BEGIN:VEVENT
DTSTART;TZID=Europe/Madrid:20260419T110000
DTEND;TZID=Europe/Madrid:20260607T170000
DTSTAMP:20260424T014732
CREATED:20260421T103623Z
LAST-MODIFIED:20260421T103623Z
UID:10002971-1776596400-1780851600@confederaciopenyes.cat
SUMMARY:3rd Edition of the Football U13 Tournament by PB Dakar Senegal
DESCRIPTION:Federation of Món.
URL:https://confederaciopenyes.cat/en/event/3rd-edition-of-the-football-u13-tournament-by-pb-dakar-senegal/
LOCATION:Stade Alassane Djigo\, QJ34+WRP\, Tally Boubess\, Pikine\, Senegal\, Dakar\, Senegal\, Senegal
ATTACH;FMTTYPE=image/jpeg:https://confederaciopenyes.cat/wp-content/uploads/2026/04/1000014712-1.jpg
END:VEVENT
BEGIN:VEVENT
DTSTART;TZID=Europe/Madrid:20260424T200000
DTEND;TZID=Europe/Madrid:20260424T213000
DTSTAMP:20260424T014732
CREATED:20260414T105319Z
LAST-MODIFIED:20260414T105319Z
UID:10002975-1777060800-1777066200@confederaciopenyes.cat
SUMMARY:Presentation of the book: "Festes\, tradicions i costums a Mallorca II" at PB "Els Tamarells"
DESCRIPTION:Federation of Illes Balears.
URL:https://confederaciopenyes.cat/en/event/presentation-of-the-book-festes-tradicions-i-costums-a-mallorca-ii-at-pb-els-tamarells/
LOCATION:Seu social PB “Els Tamarells”\, Carrer dels Horts\, 50\, 07200 Felanitx\, Illes Balears\, Felanitx\, Illes Balears\, 07200\, Spain
ATTACH;FMTTYPE=image/jpeg:https://confederaciopenyes.cat/wp-content/uploads/2026/04/d8876d02-344c-4bb3-9ab2-526c82070892-scaled.jpeg
END:VEVENT
END:VCALENDAR