BEGIN:VCALENDAR
VERSION:2.0
PRODID:-//Confederació Mundial de Penyes del FC Barcelona - ECPv6.15.20//NONSGML v1.0//EN
CALSCALE:GREGORIAN
METHOD:PUBLISH
X-WR-CALNAME:Confederació Mundial de Penyes del FC Barcelona
X-ORIGINAL-URL:https://confederaciopenyes.cat/en/
X-WR-CALDESC:Events for Confederació Mundial de Penyes del FC Barcelona
REFRESH-INTERVAL;VALUE=DURATION:PT1H
X-Robots-Tag:noindex
X-PUBLISHED-TTL:PT1H
BEGIN:VTIMEZONE
TZID:Europe/Madrid
BEGIN:DAYLIGHT
TZOFFSETFROM:+0100
TZOFFSETTO:+0200
TZNAME:CEST
DTSTART:20230326T010000
END:DAYLIGHT
BEGIN:STANDARD
TZOFFSETFROM:+0200
TZOFFSETTO:+0100
TZNAME:CET
DTSTART:20231029T010000
END:STANDARD
BEGIN:DAYLIGHT
TZOFFSETFROM:+0100
TZOFFSETTO:+0200
TZNAME:CEST
DTSTART:20240331T010000
END:DAYLIGHT
BEGIN:STANDARD
TZOFFSETFROM:+0200
TZOFFSETTO:+0100
TZNAME:CET
DTSTART:20241027T010000
END:STANDARD
BEGIN:DAYLIGHT
TZOFFSETFROM:+0100
TZOFFSETTO:+0200
TZNAME:CEST
DTSTART:20250330T010000
END:DAYLIGHT
BEGIN:STANDARD
TZOFFSETFROM:+0200
TZOFFSETTO:+0100
TZNAME:CET
DTSTART:20251026T010000
END:STANDARD
END:VTIMEZONE
BEGIN:VEVENT
DTSTART;TZID=Europe/Madrid:20240615T130000
DTEND;TZID=Europe/Madrid:20240615T180000
DTSTAMP:20260420T101112
CREATED:20240521T101758Z
LAST-MODIFIED:20240521T101758Z
UID:10000514-1718456400-1718474400@confederaciopenyes.cat
SUMMARY:14th Anniversary of PB Pedrito
DESCRIPTION:Federation of Canarias.
URL:https://confederaciopenyes.cat/en/event/14th-anniversary-of-pb-pedrito/
LOCATION:La Finca “La Caridad”\, C. la Caridad\, 12\, 38340 La Caridad\, Santa Cruz de Tenerife\, Santa Cruz de Tenerife\, Tenerife\, 38340\, Espanya
ATTACH;FMTTYPE=image/jpeg:https://confederaciopenyes.cat/wp-content/uploads/2024/05/Picsart_24-05-13_11-06-53-523.jpg
END:VEVENT
BEGIN:VEVENT
DTSTART;TZID=Europe/Madrid:20240615T140000
DTEND;TZID=Europe/Madrid:20240615T170000
DTSTAMP:20260420T101112
CREATED:20240530T100010Z
LAST-MODIFIED:20240530T100010Z
UID:10000593-1718460000-1718470800@confederaciopenyes.cat
SUMMARY:30th Anniversary of PB San Bartolomé
DESCRIPTION:Federation of Comarques d’Alacant.
URL:https://confederaciopenyes.cat/en/event/30th-anniversary-of-pb-san-bartolome/
LOCATION:Londres
END:VEVENT
BEGIN:VEVENT
DTSTART;TZID=Europe/Madrid:20240616T090000
DTEND;TZID=Europe/Madrid:20240616T120000
DTSTAMP:20260420T101112
CREATED:20240606T083543Z
LAST-MODIFIED:20240606T083543Z
UID:10000618-1718528400-1718539200@confederaciopenyes.cat
SUMMARY:8th breakfast end-of-season by PB Marc Bartra de Sant Jaume dels Domenys
DESCRIPTION:Federation of Tarragona North.
URL:https://confederaciopenyes.cat/en/event/8th-breakfast-end-of-season-by-pb-marc-bartra-de-sant-jaume-dels-domenys/
LOCATION:Escola Els Quatre Vents\, Carrer la Carretera\, s/n\, 43713 Sant Jaume dels Domenys\, Tarragona\, Sant Jaume dels Domenys\, Tarragona\, 43713\, Espanya
ATTACH;FMTTYPE=image/jpeg:https://confederaciopenyes.cat/wp-content/uploads/2024/06/240616-Esmorzar-fi-temporada_page-0001.jpg
END:VEVENT
BEGIN:VEVENT
DTSTART;TZID=Europe/Madrid:20240616T110000
DTEND;TZID=Europe/Madrid:20240616T173000
DTSTAMP:20260420T101112
CREATED:20240528T111632Z
LAST-MODIFIED:20240528T111632Z
UID:10000552-1718535600-1718559000@confederaciopenyes.cat
SUMMARY:VIII Meeting of supporters of Penyes del Baix Llobregat
DESCRIPTION:In conjunction with 40th Anniversary events of Penya Barcelonista L’Avenç. \nFederation of Baix Llobregat.
URL:https://confederaciopenyes.cat/en/event/viii-meeting-of-supporters-of-penyes-del-baix-llobregat/
LOCATION:La Masia\, Av. dels Països Catalans\, 58\, 08950 Esplugues de Llobregat\, Barcelona\, Esplugues de Llobregat\, Barcelona\, 08950\, Espanya
ATTACH;FMTTYPE=image/png:https://confederaciopenyes.cat/wp-content/uploads/2024/05/Trobada-Baix-Llobregat.png
END:VEVENT
BEGIN:VEVENT
DTSTART;TZID=Europe/Madrid:20240616T133000
DTEND;TZID=Europe/Madrid:20240616T173000
DTSTAMP:20260420T101112
CREATED:20240530T100523Z
LAST-MODIFIED:20240530T100523Z
UID:10000597-1718544600-1718559000@confederaciopenyes.cat
SUMMARY:End-of-season lunch at PB Puigverd de Lleida
DESCRIPTION:Federation of Lleida Sud & Franja Central.
URL:https://confederaciopenyes.cat/en/event/end-of-season-lunch-at-pb-puigverd-de-lleida/
LOCATION:Londres
ATTACH;FMTTYPE=image/jpeg:https://confederaciopenyes.cat/wp-content/uploads/2023/12/agenda_dinar_sopar.jpg
END:VEVENT
BEGIN:VEVENT
DTSTART;TZID=Europe/Madrid:20240616T133000
DTEND;TZID=Europe/Madrid:20240616T173000
DTSTAMP:20260420T101112
CREATED:20240530T100307Z
LAST-MODIFIED:20240530T100307Z
UID:10000595-1718544600-1718559000@confederaciopenyes.cat
SUMMARY:28th Anniversary of PB "Tierras del Cid"
DESCRIPTION:Federation of Castilla & León.
URL:https://confederaciopenyes.cat/en/event/28th-anniversary-of-pb-tierras-del-cid/
LOCATION:Londres
ATTACH;FMTTYPE=image/jpeg:https://confederaciopenyes.cat/wp-content/uploads/2023/12/agenda_aniversari.jpg
END:VEVENT
BEGIN:VEVENT
DTSTART;TZID=Europe/Madrid:20240616T133000
DTEND;TZID=Europe/Madrid:20240616T173000
DTSTAMP:20260420T101112
CREATED:20240528T111343Z
LAST-MODIFIED:20240528T111343Z
UID:10000554-1718544600-1718559000@confederaciopenyes.cat
SUMMARY:40th Anniversary of PB L'Avenç
DESCRIPTION:In conjunction with the acts of the VIII Meeting of supporters of Baix Llobregat. \nFederation of Baix Llobregat.
URL:https://confederaciopenyes.cat/en/event/40th-anniversary-of-pb-lavenc/
LOCATION:La Masia\, Av. dels Països Catalans\, 58\, 08950 Esplugues de Llobregat\, Barcelona\, Esplugues de Llobregat\, Barcelona\, 08950\, Espanya
ATTACH;FMTTYPE=image/png:https://confederaciopenyes.cat/wp-content/uploads/2024/05/Trobada-Baix-Llobregat.png
END:VEVENT
BEGIN:VEVENT
DTSTART;TZID=Europe/Madrid:20240616T140000
DTEND;TZID=Europe/Madrid:20240616T170000
DTSTAMP:20260420T101112
CREATED:20240618T131400Z
LAST-MODIFIED:20240618T131400Z
UID:10000632-1718546400-1718557200@confederaciopenyes.cat
SUMMARY:28th Anniversary of PB "Tierras del Cid"
DESCRIPTION:Federation of Castilla & León.
URL:https://confederaciopenyes.cat/en/event/28th-anniversary-of-pb-tierras-del-cid-2/
LOCATION:Londres
END:VEVENT
BEGIN:VEVENT
DTSTART;TZID=Europe/Madrid:20240616T140000
DTEND;TZID=Europe/Madrid:20240616T180000
DTSTAMP:20260420T101112
CREATED:20240521T104231Z
LAST-MODIFIED:20240521T104231Z
UID:10000516-1718546400-1718560800@confederaciopenyes.cat
SUMMARY:50th Anniversary of PB Torelló
DESCRIPTION:Federation of Osona & Ripollès.
URL:https://confederaciopenyes.cat/en/event/50th-anniversary-of-pb-torello/
LOCATION:Londres
ATTACH;FMTTYPE=image/jpeg:https://confederaciopenyes.cat/wp-content/uploads/2023/12/agenda_aniversari.jpg
END:VEVENT
BEGIN:VEVENT
DTSTART;TZID=Europe/Madrid:20240616T140000
DTEND;TZID=Europe/Madrid:20240616T190000
DTSTAMP:20260420T101112
CREATED:20240418T115722Z
LAST-MODIFIED:20240418T131224Z
UID:10000366-1718546400-1718564400@confederaciopenyes.cat
SUMMARY:43rd Anniversary of PB Palafrugell
DESCRIPTION:Brotherhood lunch for members and sympathisers. \nFederation of Empordà & Catalunya North.
URL:https://confederaciopenyes.cat/en/event/43rd-anniversary-of-pb-palafrugell/
LOCATION:Londres
ATTACH;FMTTYPE=image/jpeg:https://confederaciopenyes.cat/wp-content/uploads/2024/04/438969194_2055383804855349_617644675654596242_n.jpg
END:VEVENT
BEGIN:VEVENT
DTSTART;TZID=Europe/Madrid:20240621T210000
DTEND;TZID=Europe/Madrid:20240621T233000
DTSTAMP:20260420T101112
CREATED:20240620T085404Z
LAST-MODIFIED:20240620T085404Z
UID:10000664-1719003600-1719012600@confederaciopenyes.cat
SUMMARY:End-of-season dinner by PB Sa Pobla
DESCRIPTION:Federation of Balears.
URL:https://confederaciopenyes.cat/en/event/end-of-season-dinner-by-pb-sa-pobla/
LOCATION:Restaurant Can Miquel\, Carrer Isaac Peral\, 30\, 07420 Sa Pobla\, Illes Balears\, Sa Pobla\, Balears\, 07420\, Espanya
ATTACH;FMTTYPE=image/jpeg:https://confederaciopenyes.cat/wp-content/uploads/2024/06/WhatsApp-Image-2024-06-19-at-09.10.10.jpeg
END:VEVENT
BEGIN:VEVENT
DTSTART;VALUE=DATE:20240622
DTEND;VALUE=DATE:20240623
DTSTAMP:20260420T101112
CREATED:20240618T133904Z
LAST-MODIFIED:20240618T133904Z
UID:10000636-1719014400-1719100799@confederaciopenyes.cat
SUMMARY:End-of-season party at PB Castra Vinaria
DESCRIPTION:Federation of Extremadura.
URL:https://confederaciopenyes.cat/en/event/end-of-season-party-at-pb-castra-vinaria/
LOCATION:Londres
ATTACH;FMTTYPE=image/jpeg:https://confederaciopenyes.cat/wp-content/uploads/2023/12/agenda_activitat-cultural.jpg
END:VEVENT
BEGIN:VEVENT
DTSTART;VALUE=DATE:20240622
DTEND;VALUE=DATE:20240623
DTSTAMP:20260420T101112
CREATED:20240618T131748Z
LAST-MODIFIED:20240618T131748Z
UID:10000634-1719014400-1719100799@confederaciopenyes.cat
SUMMARY:1st 7-a-side football tournament by PB Barçavila
DESCRIPTION:Federation of Castilla & León.
URL:https://confederaciopenyes.cat/en/event/1st-7-a-side-football-tournament-by-pb-barcavila/
LOCATION:Londres
ATTACH;FMTTYPE=image/jpeg:https://confederaciopenyes.cat/wp-content/uploads/2023/12/agenda_activitat-futbol.jpg
END:VEVENT
BEGIN:VEVENT
DTSTART;TZID=Europe/Madrid:20240622T080000
DTEND;TZID=Europe/Madrid:20240622T140000
DTSTAMP:20260420T101112
CREATED:20240620T085642Z
LAST-MODIFIED:20240620T085642Z
UID:10000666-1719043200-1719064800@confederaciopenyes.cat
SUMMARY:Football Tournament of the 40th Anniversary by PB Contestana
DESCRIPTION:8-a-side Football Tournament U12. \nFederation of Comarques d’Alacant.
URL:https://confederaciopenyes.cat/en/event/football-tournament-of-the-40th-anniversary-by-pb-contestana/
LOCATION:Londres
ATTACH;FMTTYPE=image/jpeg:https://confederaciopenyes.cat/wp-content/uploads/2024/06/WhatsApp-Image-2024-06-19-at-10.01.03.jpeg
END:VEVENT
BEGIN:VEVENT
DTSTART;TZID=Europe/Madrid:20240622T140000
DTEND;TZID=Europe/Madrid:20240622T170000
DTSTAMP:20260420T101112
CREATED:20240618T131545Z
LAST-MODIFIED:20240618T131545Z
UID:10000638-1719064800-1719075600@confederaciopenyes.cat
SUMMARY:26th Anniversary of PB Villalpando & Comarca
DESCRIPTION:Federation of Castilla & León.
URL:https://confederaciopenyes.cat/en/event/26th-anniversary-of-pb-villalpando-comarca/
LOCATION:Londres
ATTACH;FMTTYPE=image/jpeg:https://confederaciopenyes.cat/wp-content/uploads/2023/12/agenda_aniversari.jpg
END:VEVENT
BEGIN:VEVENT
DTSTART;TZID=Europe/Madrid:20240622T200000
DTEND;TZID=Europe/Madrid:20240622T230000
DTSTAMP:20260420T101112
CREATED:20240618T134345Z
LAST-MODIFIED:20240618T134345Z
UID:10000640-1719086400-1719097200@confederaciopenyes.cat
SUMMARY:Dinner of end-of-season at PB Porriño
DESCRIPTION:Federation of Galicia.
URL:https://confederaciopenyes.cat/en/event/dinner-of-end-of-season-at-pb-porrino/
LOCATION:Londres
ATTACH;FMTTYPE=image/jpeg:https://confederaciopenyes.cat/wp-content/uploads/2023/12/agenda_dinar_sopar.jpg
END:VEVENT
BEGIN:VEVENT
DTSTART;TZID=Europe/Madrid:20240622T213000
DTEND;TZID=Europe/Madrid:20240622T233000
DTSTAMP:20260420T101112
CREATED:20240620T085848Z
LAST-MODIFIED:20240620T085848Z
UID:10000668-1719091800-1719099000@confederaciopenyes.cat
SUMMARY:End-of-season dinner by PB de Llubí
DESCRIPTION:At the headquarters of Penya. \nFederation of Balears.
URL:https://confederaciopenyes.cat/en/event/end-of-season-dinner-by-pb-de-llubi/
LOCATION:Londres
ATTACH;FMTTYPE=image/jpeg:https://confederaciopenyes.cat/wp-content/uploads/2024/06/WhatsApp-Image-2024-06-19-at-09.10.10-2.jpeg
END:VEVENT
BEGIN:VEVENT
DTSTART;TZID=Europe/Madrid:20240623T180000
DTEND;TZID=Europe/Madrid:20240623T230000
DTSTAMP:20260420T101112
CREATED:20240618T135605Z
LAST-MODIFIED:20240618T135605Z
UID:10000642-1719165600-1719183600@confederaciopenyes.cat
SUMMARY:Fireworks of St. Joan's day by PB Poble Nou
DESCRIPTION:Federation of Barcelonès Est.
URL:https://confederaciopenyes.cat/en/event/fireworks-of-st-joans-day-by-pb-poble-nou/
LOCATION:Londres
END:VEVENT
BEGIN:VEVENT
DTSTART;TZID=Europe/Madrid:20240625T080000
DTEND;TZID=Europe/Madrid:20240725T170000
DTSTAMP:20260420T101112
CREATED:20240409T082506Z
LAST-MODIFIED:20240409T082506Z
UID:10000319-1719302400-1721926800@confederaciopenyes.cat
SUMMARY:XIX futsal Tournament by PB Premià de Dalt Sant Jaume
DESCRIPTION:The Tournament will be from 25 june to 25 july. \nCategories: \n\nU9\nU10\nU12\nU14\nU18-Senior Womens\n\nFederation of Maresme.
URL:https://confederaciopenyes.cat/en/event/xix-futsal-tournament-by-pb-premia-de-dalt-sant-jaume/
LOCATION:Societat Cultural Sant Jaume\, Riera de Sant Pere\, 147\, 08338 Premià de Dalt\, Barcelona\, Premià de Dalt\, Barcelona\, 08338\, Espanya
ATTACH;FMTTYPE=image/jpeg:https://confederaciopenyes.cat/wp-content/uploads/2024/04/WhatsApp-Image-2024-04-05-at-09.45.06.jpeg
END:VEVENT
BEGIN:VEVENT
DTSTART;TZID=Europe/Madrid:20240627T100000
DTEND;TZID=Europe/Madrid:20240630T180000
DTSTAMP:20260420T101112
CREATED:20240409T091630Z
LAST-MODIFIED:20240409T091630Z
UID:10000321-1719482400-1719770400@confederaciopenyes.cat
SUMMARY:Summer meeting by Fan Club Barça Polska
DESCRIPTION:Summer meeting where several activities will take place: \n\nFootball Cup Tournament\nGeneral Assembly (29-06-2024 at 15:00h)\n\nFederation of World.
URL:https://confederaciopenyes.cat/en/event/summer-meeting-by-fan-club-barca-polska/
LOCATION:Londres
ATTACH;FMTTYPE=image/png:https://confederaciopenyes.cat/wp-content/uploads/2024/04/Fan-Club-Barca-Polska-Trobada-estiu.png
END:VEVENT
BEGIN:VEVENT
DTSTART;TZID=Europe/Madrid:20240628T200000
DTEND;TZID=Europe/Madrid:20240628T213000
DTSTAMP:20260420T101112
CREATED:20240521T102107Z
LAST-MODIFIED:20240521T102107Z
UID:10000518-1719604800-1719610200@confederaciopenyes.cat
SUMMARY:Conference "Barça & Catalunya" at PB La Garriga
DESCRIPTION:Conference “Barça & Catalunya” 2nd part “Times of Darkness” by Salva Torres. \nFederation of Vallès.
URL:https://confederaciopenyes.cat/en/event/conference-barca-catalunya-at-pb-la-garriga/
LOCATION:Londres
ATTACH;FMTTYPE=image/jpeg:https://confederaciopenyes.cat/wp-content/uploads/2023/12/agenda_conferencia-e1703173694737.jpg
END:VEVENT
BEGIN:VEVENT
DTSTART;TZID=Europe/Madrid:20240628T210000
DTEND;TZID=Europe/Madrid:20240628T220000
DTSTAMP:20260420T101112
CREATED:20240620T090117Z
LAST-MODIFIED:20240620T090117Z
UID:10000670-1719608400-1719612000@confederaciopenyes.cat
SUMMARY:Open-air talk by PB Ferreries
DESCRIPTION:With guest David Bernabeu to discuss the new Camp Nou. \nFederation of Balears.
URL:https://confederaciopenyes.cat/en/event/open-air-talk-by-pb-ferreries/
LOCATION:Londres
ATTACH;FMTTYPE=image/jpeg:https://confederaciopenyes.cat/wp-content/uploads/2024/06/WhatsApp-Image-2024-06-19-at-09.10.10-1.jpeg
END:VEVENT
BEGIN:VEVENT
DTSTART;VALUE=DATE:20240629
DTEND;VALUE=DATE:20240630
DTSTAMP:20260420T101112
CREATED:20240618T140307Z
LAST-MODIFIED:20240618T142057Z
UID:10000644-1719619200-1719705599@confederaciopenyes.cat
SUMMARY:1st Anniversary of PB Dakar
DESCRIPTION:Federation of World.
URL:https://confederaciopenyes.cat/en/event/1st-anniversary-of-pb-dakar/
LOCATION:Londres
ATTACH;FMTTYPE=image/jpeg:https://confederaciopenyes.cat/wp-content/uploads/2023/12/agenda_aniversari.jpg
END:VEVENT
BEGIN:VEVENT
DTSTART;TZID=Europe/Madrid:20240629T120000
DTEND;TZID=Europe/Madrid:20240629T133000
DTSTAMP:20260420T101112
CREATED:20240521T102608Z
LAST-MODIFIED:20240521T102608Z
UID:10000520-1719662400-1719667800@confederaciopenyes.cat
SUMMARY:Conference "Barça & Catalunya" en la PB d'Arbúcies
DESCRIPTION:Conference “Barça & Catalunya” 1st part “The Origins of Symbiosis” by Salva Torres. \nFederation of Gironès\, la Selva\, la Garrotxa & el Pla de l’Estany.
URL:https://confederaciopenyes.cat/en/event/conference-barca-catalunya-en-la-pb-darbucies/
LOCATION:Museu la Gabella\, Carrer Major\, 6\, 17401 Arbúcies\, Girona\, Arbúcies\, Girona\, 17401\, Espanya
ATTACH;FMTTYPE=image/jpeg:https://confederaciopenyes.cat/wp-content/uploads/2023/12/agenda_conferencia-e1703173694737.jpg
END:VEVENT
BEGIN:VEVENT
DTSTART;TZID=Europe/Madrid:20240629T133000
DTEND;TZID=Europe/Madrid:20240629T183000
DTSTAMP:20260420T101112
CREATED:20240618T135909Z
LAST-MODIFIED:20240618T135909Z
UID:10000646-1719667800-1719685800@confederaciopenyes.cat
SUMMARY:20th Anniversary of PB Cantoria
DESCRIPTION:Federation of Andalucia\, Ceuta & Melilla.
URL:https://confederaciopenyes.cat/en/event/20th-anniversary-of-pb-cantoria/
LOCATION:Londres
ATTACH;FMTTYPE=image/jpeg:https://confederaciopenyes.cat/wp-content/uploads/2023/12/agenda_aniversari.jpg
END:VEVENT
BEGIN:VEVENT
DTSTART;TZID=Europe/Madrid:20240629T200000
DTEND;TZID=Europe/Madrid:20240629T230000
DTSTAMP:20260420T101112
CREATED:20240620T084552Z
LAST-MODIFIED:20240620T084552Z
UID:10000672-1719691200-1719702000@confederaciopenyes.cat
SUMMARY:Participation in charity dinner by PB Sant Vicenç dels Horts
DESCRIPTION:Federation of Baix Llobregat.
URL:https://confederaciopenyes.cat/en/event/participation-in-charity-dinner-by-pb-sant-vicenc-dels-horts/
LOCATION:Londres
ATTACH;FMTTYPE=image/jpeg:https://confederaciopenyes.cat/wp-content/uploads/2023/12/agenda_solidaritat.jpg
END:VEVENT
BEGIN:VEVENT
DTSTART;TZID=Europe/Madrid:20240629T200000
DTEND;TZID=Europe/Madrid:20240629T233000
DTSTAMP:20260420T101112
CREATED:20240618T113040Z
LAST-MODIFIED:20240618T113040Z
UID:10000648-1719691200-1719703800@confederaciopenyes.cat
SUMMARY:Popular dinner of end-of-season by PB Vallirana
DESCRIPTION:Federation of Baix Llobregat. \n 
URL:https://confederaciopenyes.cat/en/event/popular-dinner-of-end-of-season-by-pb-vallirana/
LOCATION:Londres
ATTACH;FMTTYPE=image/jpeg:https://confederaciopenyes.cat/wp-content/uploads/2024/06/448151850_912381964235583_5895323396956376537_n.jpg
END:VEVENT
BEGIN:VEVENT
DTSTART;VALUE=DATE:20240630
DTEND;VALUE=DATE:20240701
DTSTAMP:20260420T101112
CREATED:20240618T140808Z
LAST-MODIFIED:20240618T140808Z
UID:10000650-1719705600-1719791999@confederaciopenyes.cat
SUMMARY:18th Tournament Josep Seguer at PB l'Hospitalet de l'Infant
DESCRIPTION:Federation of Tarragona North.
URL:https://confederaciopenyes.cat/en/event/18th-tournament-josep-seguer-at-pb-lhospitalet-de-linfant/
LOCATION:Londres
ATTACH;FMTTYPE=image/jpeg:https://confederaciopenyes.cat/wp-content/uploads/2023/12/agenda_activitat-futbol.jpg
END:VEVENT
BEGIN:VEVENT
DTSTART;TZID=Europe/Madrid:20240630T140000
DTEND;TZID=Europe/Madrid:20240630T170000
DTSTAMP:20260420T101112
CREATED:20240618T140538Z
LAST-MODIFIED:20240618T140538Z
UID:10000652-1719756000-1719766800@confederaciopenyes.cat
SUMMARY:Lunch of end-of-season by PB Sant Adrià del Besòs
DESCRIPTION:Federation of Barcelonès Est.
URL:https://confederaciopenyes.cat/en/event/lunch-of-end-of-season-by-pb-sant-adria-del-besos/
LOCATION:Londres
ATTACH;FMTTYPE=image/jpeg:https://confederaciopenyes.cat/wp-content/uploads/2023/12/agenda_dinar_sopar.jpg
END:VEVENT
BEGIN:VEVENT
DTSTART;TZID=Europe/Madrid:20240705T100000
DTEND;TZID=Europe/Madrid:20240705T170000
DTSTAMP:20260420T101112
CREATED:20240702T094233Z
LAST-MODIFIED:20240702T094233Z
UID:10000690-1720173600-1720198800@confederaciopenyes.cat
SUMMARY:Volunteer day by PB Hristo Stoichkov
DESCRIPTION:In collaboration with Eusebio Fundation\, with the motto “football as an integrating value”. \nFederation of Castilla & León.
URL:https://confederaciopenyes.cat/en/event/volunteer-day-by-pb-hristo-stoichkov/
LOCATION:Londres
ATTACH;FMTTYPE=image/jpeg:https://confederaciopenyes.cat/wp-content/uploads/2024/07/4a31d146-6441-4c8e-86d8-cf27fbe7fe4c.jpg
END:VEVENT
END:VCALENDAR