BEGIN:VCALENDAR
VERSION:2.0
PRODID:-//Confederació Mundial de Penyes del FC Barcelona - ECPv6.15.20//NONSGML v1.0//EN
CALSCALE:GREGORIAN
METHOD:PUBLISH
X-WR-CALNAME:Confederació Mundial de Penyes del FC Barcelona
X-ORIGINAL-URL:https://confederaciopenyes.cat/en/
X-WR-CALDESC:Events for Confederació Mundial de Penyes del FC Barcelona
REFRESH-INTERVAL;VALUE=DURATION:PT1H
X-Robots-Tag:noindex
X-PUBLISHED-TTL:PT1H
BEGIN:VTIMEZONE
TZID:Europe/Madrid
BEGIN:DAYLIGHT
TZOFFSETFROM:+0100
TZOFFSETTO:+0200
TZNAME:CEST
DTSTART:20230326T010000
END:DAYLIGHT
BEGIN:STANDARD
TZOFFSETFROM:+0200
TZOFFSETTO:+0100
TZNAME:CET
DTSTART:20231029T010000
END:STANDARD
BEGIN:DAYLIGHT
TZOFFSETFROM:+0100
TZOFFSETTO:+0200
TZNAME:CEST
DTSTART:20240331T010000
END:DAYLIGHT
BEGIN:STANDARD
TZOFFSETFROM:+0200
TZOFFSETTO:+0100
TZNAME:CET
DTSTART:20241027T010000
END:STANDARD
BEGIN:DAYLIGHT
TZOFFSETFROM:+0100
TZOFFSETTO:+0200
TZNAME:CEST
DTSTART:20250330T010000
END:DAYLIGHT
BEGIN:STANDARD
TZOFFSETFROM:+0200
TZOFFSETTO:+0100
TZNAME:CET
DTSTART:20251026T010000
END:STANDARD
END:VTIMEZONE
BEGIN:VEVENT
DTSTART;VALUE=DATE:20240823
DTEND;VALUE=DATE:20240824
DTSTAMP:20260420T183749
CREATED:20240808T102839Z
LAST-MODIFIED:20240814T094025Z
UID:10000749-1724371200-1724457599@confederaciopenyes.cat
SUMMARY:6th blood donation campaign by PB Solsona  Comarca
DESCRIPTION:Federation of Ponent Nord\, la Franja Nord Andorra.
URL:https://confederaciopenyes.cat/en/event/6th-blood-donation-campaign-by-pb-solsona-comarca/
ATTACH;FMTTYPE=image/jpeg:https://confederaciopenyes.cat/wp-content/uploads/2024/08/WhatsApp-Image-2024-08-09-at-09.46.52-1.jpeg
END:VEVENT
BEGIN:VEVENT
DTSTART;VALUE=DATE:20240824
DTEND;VALUE=DATE:20240825
DTSTAMP:20260420T183749
CREATED:20240822T091412Z
LAST-MODIFIED:20240822T091412Z
UID:10000781-1724457600-1724543999@confederaciopenyes.cat
SUMMARY:Matt Manson Memorial by PB San Francisco
DESCRIPTION:Federation of World.
URL:https://confederaciopenyes.cat/en/event/matt-manson-memorial-by-pb-san-francisco/
ATTACH;FMTTYPE=image/jpeg:https://confederaciopenyes.cat/wp-content/uploads/2023/12/agenda_activitat-cultural.jpg
END:VEVENT
BEGIN:VEVENT
DTSTART;VALUE=DATE:20240824
DTEND;VALUE=DATE:20240825
DTSTAMP:20260420T183749
CREATED:20240822T091044Z
LAST-MODIFIED:20240822T091044Z
UID:10000779-1724457600-1724543999@confederaciopenyes.cat
SUMMARY:Football tournament 7-a-side by PB "Voz Castua"
DESCRIPTION:Federation of Extremadura.
URL:https://confederaciopenyes.cat/en/event/football-tournament-7-a-side-by-pb-voz-castua/
ATTACH;FMTTYPE=image/jpeg:https://confederaciopenyes.cat/wp-content/uploads/2023/12/agenda_activitat-futbol.jpg
END:VEVENT
BEGIN:VEVENT
DTSTART;TZID=Europe/Madrid:20240824T090000
DTEND;TZID=Europe/Madrid:20240824T130000
DTSTAMP:20260420T183749
CREATED:20240808T103114Z
LAST-MODIFIED:20240814T093523Z
UID:10000751-1724490000-1724504400@confederaciopenyes.cat
SUMMARY:9th Card Championship by PB Solsona  Comarca
DESCRIPTION:Federation of Ponent Nord\, la Franja Nord Andorra.
URL:https://confederaciopenyes.cat/en/event/9th-card-championship-by-pb-solsona-comarca/
ATTACH;FMTTYPE=image/jpeg:https://confederaciopenyes.cat/wp-content/uploads/2024/08/WhatsApp-Image-2024-08-09-at-09.46.52.jpeg
END:VEVENT
BEGIN:VEVENT
DTSTART;TZID=Europe/Madrid:20240827T100000
DTEND;TZID=Europe/Madrid:20240827T130000
DTSTAMP:20260420T183749
CREATED:20240822T091941Z
LAST-MODIFIED:20240822T091941Z
UID:10000783-1724752800-1724763600@confederaciopenyes.cat
SUMMARY:Reception for the women's team tour by PB San Francisco
DESCRIPTION:Federation of World.
URL:https://confederaciopenyes.cat/en/event/reception-for-the-womens-team-tour-by-pb-san-francisco/
ATTACH;FMTTYPE=image/jpeg:https://confederaciopenyes.cat/wp-content/uploads/2023/12/agenda_trobada.jpg
END:VEVENT
BEGIN:VEVENT
DTSTART;TZID=Europe/Madrid:20240827T160000
DTEND;TZID=Europe/Madrid:20240827T200000
DTSTAMP:20260420T183749
CREATED:20240806T111324Z
LAST-MODIFIED:20240814T093321Z
UID:10000753-1724774400-1724788800@confederaciopenyes.cat
SUMMARY:4th FIFA tournament of PB Vilamajor's
DESCRIPTION:Federation of Vallès.
URL:https://confederaciopenyes.cat/en/event/4th-fifa-tournament-of-pb-vilamajors/
ATTACH;FMTTYPE=image/jpeg:https://confederaciopenyes.cat/wp-content/uploads/2024/08/WhatsApp-Image-2024-08-14-at-11.06.14.jpeg
END:VEVENT
BEGIN:VEVENT
DTSTART;TZID=Europe/Madrid:20240827T173000
DTEND;TZID=Europe/Madrid:20240827T190000
DTSTAMP:20260420T183749
CREATED:20240820T083734Z
LAST-MODIFIED:20240820T083734Z
UID:10000768-1724779800-1724785200@confederaciopenyes.cat
SUMMARY:I Tournament of table football by PB Tortosa
DESCRIPTION:At the town hall square. Federation of Terres de l’Ebre.
URL:https://confederaciopenyes.cat/en/event/i-tournament-of-table-football-by-pb-tortosa/
ATTACH;FMTTYPE=image/jpeg:https://confederaciopenyes.cat/wp-content/uploads/2024/08/Screenshot_20240813_122534_Instagram.jpg
END:VEVENT
BEGIN:VEVENT
DTSTART;TZID=Europe/Madrid:20240828T193000
DTEND;TZID=Europe/Madrid:20240828T213000
DTSTAMP:20260420T183749
CREATED:20240822T082041Z
LAST-MODIFIED:20240822T082041Z
UID:10000787-1724873400-1724880600@confederaciopenyes.cat
SUMMARY:Presentation of the XIth edition of the U12 football tournament by PB Peguera
DESCRIPTION:Presentation ceremony of the solidarity tournament of Villa de Peguera. Tournament that will be played on 13\, 14 and 15 september. Federation of Balears.
URL:https://confederaciopenyes.cat/en/event/presentation-of-the-xith-edition-of-the-u12-football-tournament-by-pb-peguera/
LOCATION:Casal de Peguera\, Carrer dels Pins\, 15\, 07160 Peguera\, Illes Balears\, Peguera\, Illes Balears\, 07160\, Spain
ATTACH;FMTTYPE=image/jpeg:https://confederaciopenyes.cat/wp-content/uploads/2024/08/455850720_1020523933415355_313410673182299569_n.jpg
END:VEVENT
BEGIN:VEVENT
DTSTART;TZID=Europe/Madrid:20240830T100000
DTEND;TZID=Europe/Madrid:20240830T130000
DTSTAMP:20260420T183749
CREATED:20240822T092315Z
LAST-MODIFIED:20240822T092315Z
UID:10000786-1725012000-1725022800@confederaciopenyes.cat
SUMMARY:Reception for the women's team tour by PB Dallas
DESCRIPTION:Federation of World.
URL:https://confederaciopenyes.cat/en/event/reception-for-the-womens-team-tour-by-pb-dallas/
ATTACH;FMTTYPE=image/jpeg:https://confederaciopenyes.cat/wp-content/uploads/2023/12/agenda_trobada.jpg
END:VEVENT
BEGIN:VEVENT
DTSTART;TZID=Europe/Madrid:20240831T160000
DTEND;TZID=Europe/Madrid:20240831T203000
DTSTAMP:20260420T183749
CREATED:20240814T091200Z
LAST-MODIFIED:20240814T091200Z
UID:10000758-1725120000-1725136200@confederaciopenyes.cat
SUMMARY:4th Cards Championship of PB Anglès
DESCRIPTION:At Can Cendra’s gardens. Federation of Gironès\, la Selva\, la Garrotxa  el Pla de l’Estany.  
URL:https://confederaciopenyes.cat/en/event/4th-cards-championship-of-pb-angles/
ATTACH;FMTTYPE=image/jpeg:https://confederaciopenyes.cat/wp-content/uploads/2024/08/Imagen-de-WhatsApp-2024-08-12-a-las-11.47.00_e094a3e6.jpg
END:VEVENT
BEGIN:VEVENT
DTSTART;TZID=Europe/Madrid:20240906T200000
DTEND;TZID=Europe/Madrid:20240906T230000
DTSTAMP:20260420T183749
CREATED:20240822T092637Z
LAST-MODIFIED:20240822T092637Z
UID:10000789-1725652800-1725663600@confederaciopenyes.cat
SUMMARY:12th Anniversary of PB Ablitas
DESCRIPTION:Federation of Aragó\, La Rioja Navarra.
URL:https://confederaciopenyes.cat/en/event/12th-anniversary-of-pb-ablitas/
ATTACH;FMTTYPE=image/jpeg:https://confederaciopenyes.cat/wp-content/uploads/2023/12/agenda_aniversari.jpg
END:VEVENT
BEGIN:VEVENT
DTSTART;TZID=Europe/Madrid:20240907T080000
DTEND;TZID=Europe/Madrid:20240907T170000
DTSTAMP:20260420T183749
CREATED:20240806T112447Z
LAST-MODIFIED:20240806T112447Z
UID:10000755-1725696000-1725728400@confederaciopenyes.cat
SUMMARY:Card championship by PB Fontalba d'Ulldemolins
DESCRIPTION:A lunch will be held at 15:00h at the end of the tournament. Federation of Tarragona North.  
URL:https://confederaciopenyes.cat/en/event/card-championship-by-pb-fontalba-dulldemolins/
ATTACH;FMTTYPE=image/jpeg:https://confederaciopenyes.cat/wp-content/uploads/2023/12/agenda_torneig-cartes.jpg
END:VEVENT
BEGIN:VEVENT
DTSTART;TZID=Europe/Madrid:20240907T103000
DTEND;TZID=Europe/Madrid:20240907T120000
DTSTAMP:20260420T183749
CREATED:20240725T101441Z
LAST-MODIFIED:20240725T103938Z
UID:10000715-1725705000-1725710400@confederaciopenyes.cat
SUMMARY:Conference "Barça and Catalunya" at PB d'Arbúcies
DESCRIPTION:Conference “Barça and Catalunya 2ª part “Times of Darkness”\, by Salva Torres. Federation of Gironès\, La Selva\, La Garrotxa and el Pla de l’Estany.
URL:https://confederaciopenyes.cat/en/event/conference-barca-catalunya-en-la-pb-darbucies-2/
ATTACH;FMTTYPE=image/jpeg:https://confederaciopenyes.cat/wp-content/uploads/2023/12/agenda_conferencia-e1703173694737.jpg
END:VEVENT
BEGIN:VEVENT
DTSTART;TZID=Europe/Madrid:20240907T120000
DTEND;TZID=Europe/Madrid:20240907T140000
DTSTAMP:20260420T183749
CREATED:20240905T090518Z
LAST-MODIFIED:20240905T090518Z
UID:10000830-1725710400-1725717600@confederaciopenyes.cat
SUMMARY:Official inauguration of PB Everest
DESCRIPTION:Federation of World.
URL:https://confederaciopenyes.cat/en/event/official-inauguration-of-pb-everest/
ATTACH;FMTTYPE=image/jpeg:https://confederaciopenyes.cat/wp-content/uploads/2023/12/agenda_activitat-cultural.jpg
END:VEVENT
BEGIN:VEVENT
DTSTART;TZID=Europe/Madrid:20240907T210000
DTEND;TZID=Europe/Madrid:20240907T233000
DTSTAMP:20260420T183749
CREATED:20240822T095914Z
LAST-MODIFIED:20240822T095914Z
UID:10000794-1725742800-1725751800@confederaciopenyes.cat
SUMMARY:40th Anniversary of PB Ciutadella
DESCRIPTION:Federation of Balears.
URL:https://confederaciopenyes.cat/en/event/40th-anniversary-of-pb-ciutadella/
LOCATION:Restaurant Club Nautic de Ciutadella\, NAUT\, BAJO;REST. DEL CLUB\, Camí de Baix\, 8\, 07760 Ciutadella de Menorca\, Illes Balears\, Menorca\, Balears\, 07760\, Spain
ATTACH;FMTTYPE=image/png:https://confederaciopenyes.cat/wp-content/uploads/2024/08/Captura-de-Pantalla-2024-08-29-a-las-9.56.11.png
END:VEVENT
BEGIN:VEVENT
DTSTART;TZID=Europe/Madrid:20240913T200000
DTEND;TZID=Europe/Madrid:20240913T233000
DTSTAMP:20260420T183749
CREATED:20240718T104919Z
LAST-MODIFIED:20240718T104919Z
UID:10000705-1726257600-1726270200@confederaciopenyes.cat
SUMMARY:50th anniversary of the PB Montcada i Reixac
DESCRIPTION:At the restaurant Can Piqué. \nWelcome photocall and musical performance by the group “Holaquedixie”. \nBus service: Depart from Pl. Lluis Companys at 7.30pm.
URL:https://confederaciopenyes.cat/en/event/50th-anniversary-of-the-pb-montcada-i-reixac/
LOCATION:Restaurant Can Piqué\, Ctra. Badalona a Montcada\, km. 7\, 08110\, Barcelona\, Montcada i Reixac\, Barcelona\, 08110\, Spain
ATTACH;FMTTYPE=image/jpeg:https://confederaciopenyes.cat/wp-content/uploads/2024/07/46615d11-a67d-468f-b7d7-cfd4609ea102.jpeg
END:VEVENT
BEGIN:VEVENT
DTSTART;VALUE=DATE:20240914
DTEND;VALUE=DATE:20240915
DTSTAMP:20260420T183749
CREATED:20240905T090844Z
LAST-MODIFIED:20240905T090844Z
UID:10000832-1726272000-1726358399@confederaciopenyes.cat
SUMMARY:2nd Manel Comas Memorial by PB Tiana
DESCRIPTION:Federation of Maresme.
URL:https://confederaciopenyes.cat/en/event/2nd-manel-comas-memorial-by-pb-tiana/
ATTACH;FMTTYPE=image/jpeg:https://confederaciopenyes.cat/wp-content/uploads/2023/12/agenda_solidaritat.jpg
END:VEVENT
BEGIN:VEVENT
DTSTART;TZID=Europe/Madrid:20240914T090000
DTEND;TZID=Europe/Madrid:20240915T170000
DTSTAMP:20260420T183749
CREATED:20240725T112330Z
LAST-MODIFIED:20240725T112330Z
UID:10000725-1726304400-1726419600@confederaciopenyes.cat
SUMMARY:Solidary tournament by PB Peguera
DESCRIPTION:During all the weekend. Will exhibit the Champions League. Federation of Balears.
URL:https://confederaciopenyes.cat/en/event/solidary-tournament-by-pb-peguera/
ATTACH;FMTTYPE=image/jpeg:https://confederaciopenyes.cat/wp-content/uploads/2023/12/agenda_activitat-futbol.jpg
END:VEVENT
BEGIN:VEVENT
DTSTART;TZID=Europe/Madrid:20240914T110000
DTEND;TZID=Europe/Madrid:20240915T180000
DTSTAMP:20260420T183749
CREATED:20240523T142647Z
LAST-MODIFIED:20240523T142647Z
UID:10000537-1726311600-1726423200@confederaciopenyes.cat
SUMMARY:7th edition of Trophy of Meknes by Gent Blaugrana Meknès
DESCRIPTION:The 14 & 15 september of 2024. \nFederation of World.
URL:https://confederaciopenyes.cat/en/event/7th-edition-of-trophy-of-meknes-by-gent-blaugrana-meknes/
ATTACH;FMTTYPE=image/jpeg:https://confederaciopenyes.cat/wp-content/uploads/2024/05/444500768_980303710768710_6224736856559846317_n.jpg
END:VEVENT
BEGIN:VEVENT
DTSTART;TZID=Europe/Madrid:20240914T130000
DTEND;TZID=Europe/Madrid:20240914T173000
DTSTAMP:20260420T183749
CREATED:20240822T101212Z
LAST-MODIFIED:20240822T101212Z
UID:10000805-1726318800-1726335000@confederaciopenyes.cat
SUMMARY:41th Anniversary of PB El Papiol
DESCRIPTION:Federation of Baix Llobregat.
URL:https://confederaciopenyes.cat/en/event/41th-anniversary-of-pb-el-papiol/
ATTACH;FMTTYPE=image/jpeg:https://confederaciopenyes.cat/wp-content/uploads/2023/12/agenda_aniversari.jpg
END:VEVENT
BEGIN:VEVENT
DTSTART;TZID=Europe/Madrid:20240914T200000
DTEND;TZID=Europe/Madrid:20240914T230000
DTSTAMP:20260420T183749
CREATED:20240822T101358Z
LAST-MODIFIED:20240822T101358Z
UID:10000807-1726344000-1726354800@confederaciopenyes.cat
SUMMARY:Tribute dinner of PB Santa Margalida
DESCRIPTION:Federation of Balears.
URL:https://confederaciopenyes.cat/en/event/tribute-dinner-of-pb-santa-margalida/
ATTACH;FMTTYPE=image/jpeg:https://confederaciopenyes.cat/wp-content/uploads/2023/12/agenda_dinar_sopar.jpg
END:VEVENT
BEGIN:VEVENT
DTSTART;TZID=Europe/Madrid:20240916T170000
DTEND;TZID=Europe/Madrid:20240916T200000
DTSTAMP:20260420T183749
CREATED:20240822T101537Z
LAST-MODIFIED:20240822T101537Z
UID:10000809-1726506000-1726516800@confederaciopenyes.cat
SUMMARY:Exposure by PB Igualada
DESCRIPTION:Federation of Anoia\, Alt Penedès and el Garraf.
URL:https://confederaciopenyes.cat/en/event/exposure-by-pb-igualada/
ATTACH;FMTTYPE=image/jpeg:https://confederaciopenyes.cat/wp-content/uploads/2023/12/agenda_activitat-cultural.jpg
END:VEVENT
BEGIN:VEVENT
DTSTART;TZID=Europe/Madrid:20240919T190000
DTEND;TZID=Europe/Madrid:20240919T203000
DTSTAMP:20260420T183749
CREATED:20240822T101727Z
LAST-MODIFIED:20240822T101727Z
UID:10000811-1726772400-1726777800@confederaciopenyes.cat
SUMMARY:Conference at PB Igualada
DESCRIPTION:Federation of Anoia\, Alt Penedès and el Garraf.
URL:https://confederaciopenyes.cat/en/event/conference-at-pb-igualada/
ATTACH;FMTTYPE=image/jpeg:https://confederaciopenyes.cat/wp-content/uploads/2023/12/agenda_conferencia-e1703173694737.jpg
END:VEVENT
BEGIN:VEVENT
DTSTART;TZID=Europe/Madrid:20240920T170000
DTEND;TZID=Europe/Madrid:20241006T200000
DTSTAMP:20260420T183749
CREATED:20240917T083812Z
LAST-MODIFIED:20240917T083812Z
UID:10000845-1726851600-1728244800@confederaciopenyes.cat
SUMMARY:Photographic exhibition by PB d'Olot and Comarca
DESCRIPTION:On the occasion of the 50th Anniversary. Organised by AAVV Sant Ferriol district.  Federation of Gironès\, la Selva\, la Garrotxa and el Pla de l’Estany.
URL:https://confederaciopenyes.cat/en/event/photographic-exhibition-by-pb-dolot-and-comarca/
ATTACH;FMTTYPE=image/jpeg:https://confederaciopenyes.cat/wp-content/uploads/2024/09/Imagen-de-WhatsApp-2024-09-17-a-las-10.00.41_911005fa.jpg
END:VEVENT
BEGIN:VEVENT
DTSTART;TZID=Europe/Madrid:20240921T130000
DTEND;TZID=Europe/Madrid:20240921T173000
DTSTAMP:20260420T183749
CREATED:20240822T101932Z
LAST-MODIFIED:20240822T101932Z
UID:10000813-1726923600-1726939800@confederaciopenyes.cat
SUMMARY:25th Anniversary of PB Monteagudo
DESCRIPTION:Federation of Aragó\, La Rioja and Navarra.
URL:https://confederaciopenyes.cat/en/event/25th-anniversary-of-pb-monteagudo/
ATTACH;FMTTYPE=image/jpeg:https://confederaciopenyes.cat/wp-content/uploads/2024/08/thumbnail_IMG_5832.jpg
END:VEVENT
BEGIN:VEVENT
DTSTART;TZID=Europe/Madrid:20240921T210000
DTEND;TZID=Europe/Madrid:20240921T233000
DTSTAMP:20260420T183749
CREATED:20240917T113039Z
LAST-MODIFIED:20240917T113610Z
UID:10000851-1726952400-1726961400@confederaciopenyes.cat
SUMMARY:15th Anniversary of PB Badia del Vallès
DESCRIPTION:Federation of Vallès.
URL:https://confederaciopenyes.cat/en/event/15th-anniversary-de-la-pb-badia-del-valles/
LOCATION:Centre Cultural Antonio Machado\, Avinguda de la Costa Blava\, 08214 Badia del Vallès\, Barcelona\, Badia del Vallès\, Barcelona\, 08214\, Spain
ATTACH;FMTTYPE=image/jpeg:https://confederaciopenyes.cat/wp-content/uploads/2024/09/1000880978.jpg
END:VEVENT
BEGIN:VEVENT
DTSTART;TZID=Europe/Madrid:20240922T123000
DTEND;TZID=Europe/Madrid:20240922T163000
DTSTAMP:20260420T183749
CREATED:20240912T084044Z
LAST-MODIFIED:20240912T084044Z
UID:10000842-1727008200-1727022600@confederaciopenyes.cat
SUMMARY:15th Anniversary of PB Washington DC
DESCRIPTION:Match viewing Villarreal vs FC Barcelona. Federation of World.
URL:https://confederaciopenyes.cat/en/event/15th-anniversary-of-pb-washington-dc/
LOCATION:Elephant & Castle\, 1201 Pennsylvania Avenue NW\, Washington\, DC 20004\, Estados Unidos\, Washington DC\, WA\, 1201\, United States
ATTACH;FMTTYPE=image/png:https://confederaciopenyes.cat/wp-content/uploads/2024/09/Next-Game-24-09-22-15th-Anniversary.png
END:VEVENT
BEGIN:VEVENT
DTSTART;VALUE=DATE:20240926
DTEND;VALUE=DATE:20240927
DTSTAMP:20260420T183749
CREATED:20240822T102148Z
LAST-MODIFIED:20240822T102148Z
UID:10000815-1727308800-1727395199@confederaciopenyes.cat
SUMMARY:Event with Cruyff Foundation by PB "Johan"
DESCRIPTION:Federation of Barcelonès Est.
URL:https://confederaciopenyes.cat/en/event/event-with-cruyff-foundation-by-pb-johan/
ATTACH;FMTTYPE=image/jpeg:https://confederaciopenyes.cat/wp-content/uploads/2023/12/agenda_solidaritat.jpg
END:VEVENT
BEGIN:VEVENT
DTSTART;TZID=Europe/Madrid:20240926T193000
DTEND;TZID=Europe/Madrid:20240926T210000
DTSTAMP:20260420T183749
CREATED:20240910T113010Z
LAST-MODIFIED:20240910T113010Z
UID:10000839-1727379000-1727384400@confederaciopenyes.cat
SUMMARY:Conference "Barça and Catalunya" at PB Valls and l'Alt Camp
DESCRIPTION:Conference “Barça and Catalunya” 1st part “The Origins of Symbiosis” by Salva Torres. In the headquarters of the Peña. Federation of Tarragona North.
URL:https://confederaciopenyes.cat/en/event/conference-barca-and-catalunya-at-pb-valls-and-lalt-camp/
ATTACH;FMTTYPE=image/jpeg:https://confederaciopenyes.cat/wp-content/uploads/2023/12/agenda_conferencia-e1703173694737.jpg
END:VEVENT
BEGIN:VEVENT
DTSTART;TZID=Europe/Madrid:20240927T170000
DTEND;TZID=Europe/Madrid:20240927T190000
DTSTAMP:20260420T183749
CREATED:20240822T102725Z
LAST-MODIFIED:20240822T102725Z
UID:10000817-1727456400-1727463600@confederaciopenyes.cat
SUMMARY:Official inauguration of PB Tsunami Blaugrana
DESCRIPTION:Federation of Barcelonès Est.
URL:https://confederaciopenyes.cat/en/event/official-inauguration-of-pb-tsunami-blaugrana/
ATTACH;FMTTYPE=image/jpeg:https://confederaciopenyes.cat/wp-content/uploads/2023/12/agenda_activitat-cultural.jpg
END:VEVENT
END:VCALENDAR