BEGIN:VCALENDAR
VERSION:2.0
PRODID:-//Confederació Mundial de Penyes del FC Barcelona - ECPv6.15.20//NONSGML v1.0//EN
CALSCALE:GREGORIAN
METHOD:PUBLISH
X-WR-CALNAME:Confederació Mundial de Penyes del FC Barcelona
X-ORIGINAL-URL:https://confederaciopenyes.cat/en/
X-WR-CALDESC:Events for Confederació Mundial de Penyes del FC Barcelona
REFRESH-INTERVAL;VALUE=DURATION:PT1H
X-Robots-Tag:noindex
X-PUBLISHED-TTL:PT1H
BEGIN:VTIMEZONE
TZID:Europe/Madrid
BEGIN:DAYLIGHT
TZOFFSETFROM:+0100
TZOFFSETTO:+0200
TZNAME:CEST
DTSTART:20230326T010000
END:DAYLIGHT
BEGIN:STANDARD
TZOFFSETFROM:+0200
TZOFFSETTO:+0100
TZNAME:CET
DTSTART:20231029T010000
END:STANDARD
BEGIN:DAYLIGHT
TZOFFSETFROM:+0100
TZOFFSETTO:+0200
TZNAME:CEST
DTSTART:20240331T010000
END:DAYLIGHT
BEGIN:STANDARD
TZOFFSETFROM:+0200
TZOFFSETTO:+0100
TZNAME:CET
DTSTART:20241027T010000
END:STANDARD
BEGIN:DAYLIGHT
TZOFFSETFROM:+0100
TZOFFSETTO:+0200
TZNAME:CEST
DTSTART:20250330T010000
END:DAYLIGHT
BEGIN:STANDARD
TZOFFSETFROM:+0200
TZOFFSETTO:+0100
TZNAME:CET
DTSTART:20251026T010000
END:STANDARD
END:VTIMEZONE
BEGIN:VEVENT
DTSTART;TZID=Europe/Madrid:20240921T130000
DTEND;TZID=Europe/Madrid:20240921T173000
DTSTAMP:20260422T162422
CREATED:20240822T101932Z
LAST-MODIFIED:20240822T101932Z
UID:10000813-1726923600-1726939800@confederaciopenyes.cat
SUMMARY:25th Anniversary of PB Monteagudo
DESCRIPTION:Federation of Aragó\, La Rioja and Navarra.
URL:https://confederaciopenyes.cat/en/event/25th-anniversary-of-pb-monteagudo/
LOCATION:Girona
ATTACH;FMTTYPE=image/jpeg:https://confederaciopenyes.cat/wp-content/uploads/2024/08/thumbnail_IMG_5832.jpg
END:VEVENT
BEGIN:VEVENT
DTSTART;TZID=Europe/Madrid:20240921T210000
DTEND;TZID=Europe/Madrid:20240921T233000
DTSTAMP:20260422T162422
CREATED:20240917T113039Z
LAST-MODIFIED:20240917T113610Z
UID:10000851-1726952400-1726961400@confederaciopenyes.cat
SUMMARY:15th Anniversary of PB Badia del Vallès
DESCRIPTION:Federation of Vallès.
URL:https://confederaciopenyes.cat/en/event/15th-anniversary-de-la-pb-badia-del-valles/
LOCATION:Centre Cultural Antonio Machado\, Avinguda de la Costa Blava\, 08214 Badia del Vallès\, Barcelona\, Badia del Vallès\, Barcelona\, 08214\, Spain
ATTACH;FMTTYPE=image/jpeg:https://confederaciopenyes.cat/wp-content/uploads/2024/09/1000880978.jpg
END:VEVENT
BEGIN:VEVENT
DTSTART;TZID=Europe/Madrid:20240922T123000
DTEND;TZID=Europe/Madrid:20240922T163000
DTSTAMP:20260422T162422
CREATED:20240912T084044Z
LAST-MODIFIED:20240912T084044Z
UID:10000842-1727008200-1727022600@confederaciopenyes.cat
SUMMARY:15th Anniversary of PB Washington DC
DESCRIPTION:Match viewing Villarreal vs FC Barcelona. Federation of World.
URL:https://confederaciopenyes.cat/en/event/15th-anniversary-of-pb-washington-dc/
LOCATION:Elephant & Castle\, 1201 Pennsylvania Avenue NW\, Washington\, DC 20004\, Estados Unidos\, Washington DC\, WA\, 1201\, United States
ATTACH;FMTTYPE=image/png:https://confederaciopenyes.cat/wp-content/uploads/2024/09/Next-Game-24-09-22-15th-Anniversary.png
END:VEVENT
BEGIN:VEVENT
DTSTART;VALUE=DATE:20240926
DTEND;VALUE=DATE:20240927
DTSTAMP:20260422T162422
CREATED:20240822T102148Z
LAST-MODIFIED:20240822T102148Z
UID:10000815-1727308800-1727395199@confederaciopenyes.cat
SUMMARY:Event with Cruyff Foundation by PB "Johan"
DESCRIPTION:Federation of Barcelonès Est.
URL:https://confederaciopenyes.cat/en/event/event-with-cruyff-foundation-by-pb-johan/
LOCATION:Girona
ATTACH;FMTTYPE=image/jpeg:https://confederaciopenyes.cat/wp-content/uploads/2023/12/agenda_solidaritat.jpg
END:VEVENT
BEGIN:VEVENT
DTSTART;TZID=Europe/Madrid:20240926T193000
DTEND;TZID=Europe/Madrid:20240926T210000
DTSTAMP:20260422T162422
CREATED:20240910T113010Z
LAST-MODIFIED:20240910T113010Z
UID:10000839-1727379000-1727384400@confederaciopenyes.cat
SUMMARY:Conference "Barça and Catalunya" at PB Valls and l'Alt Camp
DESCRIPTION:Conference “Barça and Catalunya” 1st part “The Origins of Symbiosis” by Salva Torres. In the headquarters of the Peña. Federation of Tarragona North.
URL:https://confederaciopenyes.cat/en/event/conference-barca-and-catalunya-at-pb-valls-and-lalt-camp/
LOCATION:Girona
ATTACH;FMTTYPE=image/jpeg:https://confederaciopenyes.cat/wp-content/uploads/2023/12/agenda_conferencia-e1703173694737.jpg
END:VEVENT
BEGIN:VEVENT
DTSTART;TZID=Europe/Madrid:20240927T170000
DTEND;TZID=Europe/Madrid:20240927T190000
DTSTAMP:20260422T162422
CREATED:20240822T102725Z
LAST-MODIFIED:20240822T102725Z
UID:10000817-1727456400-1727463600@confederaciopenyes.cat
SUMMARY:Official inauguration of PB Tsunami Blaugrana
DESCRIPTION:Federation of Barcelonès Est.
URL:https://confederaciopenyes.cat/en/event/official-inauguration-of-pb-tsunami-blaugrana/
LOCATION:Girona
ATTACH;FMTTYPE=image/jpeg:https://confederaciopenyes.cat/wp-content/uploads/2023/12/agenda_activitat-cultural.jpg
END:VEVENT
BEGIN:VEVENT
DTSTART;TZID=Europe/Madrid:20240927T190000
DTEND;TZID=Europe/Madrid:20240927T210000
DTSTAMP:20260422T162422
CREATED:20240926T093007Z
LAST-MODIFIED:20240926T093007Z
UID:10000868-1727463600-1727470800@confederaciopenyes.cat
SUMMARY:Presentation of the book "Sortiu i rescateu-vos" by PB Igualada
DESCRIPTION:Presentation with the author Joel Codina\, accompanied by the presenters Robert Agramunt (a member of the penya and player for 12 seasons of the CF Igualada) and Cesc Elias (social educator\, photographer and music lover). Federation of Anoia\, Alt Penedès and el Garraf.
URL:https://confederaciopenyes.cat/en/event/presentation-of-the-book-sortiu-i-rescateu-vos-by-pb-igualada/
LOCATION:Llibreria Aqualata\, Carrer de Sant Josep\, 14\, 08700 Igualada\, Barcelona\, Igualada\, Barcelona\, 08700\, Spain
ATTACH;FMTTYPE=image/jpeg:https://confederaciopenyes.cat/wp-content/uploads/2024/09/461040917_547704167813433_6283833320135731196_n.jpg
END:VEVENT
BEGIN:VEVENT
DTSTART;TZID=Europe/Madrid:20240927T200000
DTEND;TZID=Europe/Madrid:20240927T233000
DTSTAMP:20260422T162422
CREATED:20240822T102538Z
LAST-MODIFIED:20240822T102538Z
UID:10000819-1727467200-1727479800@confederaciopenyes.cat
SUMMARY:50th Anniversary of PB d'Agramunt i Comarca
DESCRIPTION:Federation of Lleida Sud and Franja Central.
URL:https://confederaciopenyes.cat/en/event/50th-anniversary-of-pb-dagramunt-i-comarca/
LOCATION:Girona
ATTACH;FMTTYPE=image/jpeg:https://confederaciopenyes.cat/wp-content/uploads/2024/08/Programa-50-anys-PBAiC_page-0001.jpg
END:VEVENT
BEGIN:VEVENT
DTSTART;TZID=Europe/Madrid:20240928T130000
DTEND;TZID=Europe/Madrid:20240928T180000
DTSTAMP:20260422T162422
CREATED:20240822T102906Z
LAST-MODIFIED:20240822T102906Z
UID:10000821-1727528400-1727546400@confederaciopenyes.cat
SUMMARY:33rd Anniversary of PB Soriana
DESCRIPTION:Federation of Castilla and León.
URL:https://confederaciopenyes.cat/en/event/33rd-anniversary-of-pb-soriana/
LOCATION:Girona
ATTACH;FMTTYPE=image/jpeg:https://confederaciopenyes.cat/wp-content/uploads/2023/12/agenda_aniversari.jpg
END:VEVENT
BEGIN:VEVENT
DTSTART;TZID=Europe/Madrid:20240929T080000
DTEND;TZID=Europe/Madrid:20240929T133000
DTSTAMP:20260422T162422
CREATED:20240926T091956Z
LAST-MODIFIED:20240926T091956Z
UID:10000870-1727596800-1727616600@confederaciopenyes.cat
SUMMARY:2nd Padel Tournament Interpenyes Barcelonès Est
DESCRIPTION:Venue: Courts of Bon Pastor.
URL:https://confederaciopenyes.cat/en/event/2nd-padel-tournament-interpenyes-barcelones-est/
LOCATION:Girona
ATTACH;FMTTYPE=image/jpeg:https://confederaciopenyes.cat/wp-content/uploads/2024/09/WhatsApp-Image-2024-09-20-at-11.24.04.jpeg
END:VEVENT
BEGIN:VEVENT
DTSTART;TZID=Europe/Madrid:20240929T093000
DTEND;TZID=Europe/Madrid:20240929T133000
DTSTAMP:20260422T162422
CREATED:20240919T084134Z
LAST-MODIFIED:20240919T084134Z
UID:10000854-1727602200-1727616600@confederaciopenyes.cat
SUMMARY:Bicycle route by PB Torrelameu
DESCRIPTION:On the occasion of the European Mobility Week. Federation of Ponent Nord\, la Franja Nord and Andorra.
URL:https://confederaciopenyes.cat/en/event/bicycle-route-by-pb-torrelameu/
LOCATION:Girona
ATTACH;FMTTYPE=image/jpeg:https://confederaciopenyes.cat/wp-content/uploads/2024/09/IMG-20240917-WA0000.jpg
END:VEVENT
BEGIN:VEVENT
DTSTART;TZID=Europe/Madrid:20240929T110000
DTEND;TZID=Europe/Madrid:20240929T170000
DTSTAMP:20260422T162422
CREATED:20240919T102352Z
LAST-MODIFIED:20240919T102352Z
UID:10000857-1727607600-1727629200@confederaciopenyes.cat
SUMMARY:Cultural visit and popular lunch by PB Minerva
DESCRIPTION:Federation of Andalucia\, Ceuta and Melilla.
URL:https://confederaciopenyes.cat/en/event/cultural-visit-and-popular-lunch-by-pb-minerva/
LOCATION:Girona
ATTACH;FMTTYPE=image/jpeg:https://confederaciopenyes.cat/wp-content/uploads/2023/12/agenda_activitat-cultural.jpg
END:VEVENT
BEGIN:VEVENT
DTSTART;TZID=Europe/Madrid:20241004T190000
DTEND;TZID=Europe/Madrid:20241004T210000
DTSTAMP:20260422T162422
CREATED:20241001T092709Z
LAST-MODIFIED:20241001T092709Z
UID:10000889-1728068400-1728075600@confederaciopenyes.cat
SUMMARY:Visit to the head office of PB Sant Cugat
DESCRIPTION:Federation of Vallès.
URL:https://confederaciopenyes.cat/en/event/visit-to-the-head-office-of-pb-sant-cugat/
LOCATION:Girona
ATTACH;FMTTYPE=image/jpeg:https://confederaciopenyes.cat/wp-content/uploads/2023/12/agenda_activitat-cultural.jpg
END:VEVENT
BEGIN:VEVENT
DTSTART;TZID=Europe/Madrid:20241004T193000
DTEND;TZID=Europe/Madrid:20241004T223000
DTSTAMP:20260422T162423
CREATED:20241001T092519Z
LAST-MODIFIED:20241001T095022Z
UID:10000891-1728070200-1728081000@confederaciopenyes.cat
SUMMARY:7th Anniversary of PB Panamá
DESCRIPTION:Federation of World.
URL:https://confederaciopenyes.cat/en/event/7th-anniversary-of-pb-panama/
LOCATION:Girona
ATTACH;FMTTYPE=image/png:https://confederaciopenyes.cat/wp-content/uploads/2024/10/FireShot-Capture-405-Pena-Barcelonista-de-Panama-🔵🔴-@penabarcelonistadepanama_ofici-•-_-www.instagram.com_.png
END:VEVENT
BEGIN:VEVENT
DTSTART;VALUE=DATE:20241005
DTEND;VALUE=DATE:20241006
DTSTAMP:20260422T162423
CREATED:20241008T085548Z
LAST-MODIFIED:20241008T085548Z
UID:10000938-1728086400-1728172799@confederaciopenyes.cat
SUMMARY:Participation in local association fair by PB Benissa Avi Joan Casals
DESCRIPTION:Federation of Comarques d’Alacant.
URL:https://confederaciopenyes.cat/en/event/participation-in-local-association-fair-by-pb-benissa-avi-joan-casals/
LOCATION:Girona
ATTACH;FMTTYPE=image/jpeg:https://confederaciopenyes.cat/wp-content/uploads/2023/12/agenda_activitat-cultural.jpg
END:VEVENT
BEGIN:VEVENT
DTSTART;VALUE=DATE:20241005
DTEND;VALUE=DATE:20241006
DTSTAMP:20260422T162423
CREATED:20241001T093652Z
LAST-MODIFIED:20241001T093652Z
UID:10000893-1728086400-1728172799@confederaciopenyes.cat
SUMMARY:Solidarity collection of toys by PB La Costera
DESCRIPTION:Federation of Comarques de València la Marina Alta.
URL:https://confederaciopenyes.cat/en/event/solidarity-collection-of-toys-by-pb-la-costera/
LOCATION:Girona
ATTACH;FMTTYPE=image/jpeg:https://confederaciopenyes.cat/wp-content/uploads/2023/12/agenda_solidaritat.jpg
END:VEVENT
BEGIN:VEVENT
DTSTART;VALUE=DATE:20241005
DTEND;VALUE=DATE:20241006
DTSTAMP:20260422T162423
CREATED:20240926T094318Z
LAST-MODIFIED:20240926T094318Z
UID:10000872-1728086400-1728172799@confederaciopenyes.cat
SUMMARY:Fair of entities of PB Mataró
DESCRIPTION:Federation of Maresme.
URL:https://confederaciopenyes.cat/en/event/fair-of-entities-of-pb-mataro/
LOCATION:Girona
ATTACH;FMTTYPE=image/jpeg:https://confederaciopenyes.cat/wp-content/uploads/2023/12/agenda_activitat-cultural.jpg
END:VEVENT
BEGIN:VEVENT
DTSTART;TZID=Europe/Madrid:20241005T090000
DTEND;TZID=Europe/Madrid:20241005T130000
DTSTAMP:20260422T162423
CREATED:20241001T093250Z
LAST-MODIFIED:20241001T093250Z
UID:10000895-1728118800-1728133200@confederaciopenyes.cat
SUMMARY:4th chess tournament at PB Les Corts
DESCRIPTION:Federation of Barcelones Oest.
URL:https://confederaciopenyes.cat/en/event/4th-chess-tournament-at-pb-les-corts/
LOCATION:Girona
ATTACH;FMTTYPE=image/jpeg:https://confederaciopenyes.cat/wp-content/uploads/2023/12/agenda_activitat-cultural.jpg
END:VEVENT
BEGIN:VEVENT
DTSTART;TZID=Europe/Madrid:20241005T100000
DTEND;TZID=Europe/Madrid:20241005T170000
DTSTAMP:20260422T162423
CREATED:20241001T093837Z
LAST-MODIFIED:20241001T093837Z
UID:10000897-1728122400-1728147600@confederaciopenyes.cat
SUMMARY:Local fair participation by PB Vall de Bisaura
DESCRIPTION:Federation of Osona and Ripollès.
URL:https://confederaciopenyes.cat/en/event/local-fair-participation-by-pb-vall-de-bisaura/
LOCATION:Girona
ATTACH;FMTTYPE=image/jpeg:https://confederaciopenyes.cat/wp-content/uploads/2023/12/agenda_activitat-cultural.jpg
END:VEVENT
BEGIN:VEVENT
DTSTART;TZID=Europe/Madrid:20241005T110000
DTEND;TZID=Europe/Madrid:20241005T140000
DTSTAMP:20260422T162423
CREATED:20241003T093126Z
LAST-MODIFIED:20241003T093126Z
UID:10000917-1728126000-1728136800@confederaciopenyes.cat
SUMMARY:XIII Sample of entities of PB Sant Adrià de Besòs
DESCRIPTION:Federation of Barcelonès Est.
URL:https://confederaciopenyes.cat/en/event/xiii-sample-of-entities-of-pb-sant-adria-de-besos/
LOCATION:Girona
ATTACH;FMTTYPE=image/jpeg:https://confederaciopenyes.cat/wp-content/uploads/2024/10/Screenshot_20241003-093405_Instagram.jpg
END:VEVENT
BEGIN:VEVENT
DTSTART;TZID=Europe/Madrid:20241005T143000
DTEND;TZID=Europe/Madrid:20241005T183000
DTSTAMP:20260422T162423
CREATED:20240222T100826Z
LAST-MODIFIED:20240912T134149Z
UID:10000150-1728138600-1728153000@confederaciopenyes.cat
SUMMARY:25th Anniversary of PB Cuellarana Nicolás Casaus
DESCRIPTION:Lunch for the 25th Anniversary. Assembly of supporters at 11:00pm. Reception with authorities at the Town Hall at 1:00pm. Federation of Castilla and León.
URL:https://confederaciopenyes.cat/en/event/25th-anniversary-of-pb-cuellarana-nicolas-casaus/
LOCATION:Restaurante San Francisco\, Av. Camilo Jose Cela\, 2\, 40200 Cuéllar\, Segovia\, Cuéllar\, Segovia\, 40200\, Espanya
ATTACH;FMTTYPE=image/jpeg:https://confederaciopenyes.cat/wp-content/uploads/2024/02/WhatsApp-Image-2024-09-12-at-15.27.43.jpeg
END:VEVENT
BEGIN:VEVENT
DTSTART;TZID=Europe/Madrid:20241007T180000
DTEND;TZID=Europe/Madrid:20241007T210000
DTSTAMP:20260422T162423
CREATED:20241003T092713Z
LAST-MODIFIED:20241003T092713Z
UID:10000919-1728324000-1728334800@confederaciopenyes.cat
SUMMARY:Donation of blood at PB de Soses
DESCRIPTION:At the Civic Center. Federation of Lleida Sud and Franja Central.
URL:https://confederaciopenyes.cat/en/event/donation-of-blood-at-pb-de-soses/
LOCATION:Girona
ATTACH;FMTTYPE=image/jpeg:https://confederaciopenyes.cat/wp-content/uploads/2024/10/461876183_18297243472200339_2737790979564176006_n.jpg
END:VEVENT
BEGIN:VEVENT
DTSTART;TZID=Europe/Madrid:20241010T200000
DTEND;TZID=Europe/Madrid:20241010T213000
DTSTAMP:20260422T162423
CREATED:20240725T102728Z
LAST-MODIFIED:20241003T090303Z
UID:10000719-1728590400-1728595800@confederaciopenyes.cat
SUMMARY:Conference Embassies. "The history of Penyes" at PB l'Ampolla
DESCRIPTION:Conference Embassies. “The history of Penyes”\, by Salva Torres. Federation of Terres de l’Ebre.  
URL:https://confederaciopenyes.cat/en/event/conference-embassies-the-history-of-penyes-at-pb-lampolla/
LOCATION:Girona
ATTACH;FMTTYPE=image/jpeg:https://confederaciopenyes.cat/wp-content/uploads/2024/07/cartell-i-programa-aniversari-Penya-Barcelonista_page-0002.jpg
END:VEVENT
BEGIN:VEVENT
DTSTART;VALUE=DATE:20241011
DTEND;VALUE=DATE:20241012
DTSTAMP:20260422T162423
CREATED:20241003T092031Z
LAST-MODIFIED:20241003T092031Z
UID:10000921-1728604800-1728691199@confederaciopenyes.cat
SUMMARY:Donations of school materials by PB Dakar Senegal
DESCRIPTION:Federation of World.
URL:https://confederaciopenyes.cat/en/event/donations-of-school-materials-by-pb-dakar-senegal/
LOCATION:Village d’Enfants SOS de Dakar\, Dakar 45424\, Senegal\, Dakar\, Senegal
ATTACH;FMTTYPE=image/jpeg:https://confederaciopenyes.cat/wp-content/uploads/2024/10/GY44AROWYAAMnG_.jpg
END:VEVENT
BEGIN:VEVENT
DTSTART;TZID=Europe/Madrid:20241011T200000
DTEND;TZID=Europe/Madrid:20241011T213000
DTSTAMP:20260422T162423
CREATED:20241001T090555Z
LAST-MODIFIED:20241001T090555Z
UID:10000899-1728676800-1728682200@confederaciopenyes.cat
SUMMARY:Wine tasting of Felanitx at PB "Els Tamarells"
DESCRIPTION:At the headquarters of Penya. Federation of Balears.
URL:https://confederaciopenyes.cat/en/event/wine-tasting-of-felanitx-at-pb-els-tamarells/
LOCATION:Girona
ATTACH;FMTTYPE=image/jpeg:https://confederaciopenyes.cat/wp-content/uploads/2024/10/GYkToWLXQAAhdWk.jpg
END:VEVENT
BEGIN:VEVENT
DTSTART;TZID=Europe/Madrid:20241012T090000
DTEND;TZID=Europe/Madrid:20241012T120000
DTSTAMP:20260422T162423
CREATED:20241003T100201Z
LAST-MODIFIED:20241003T100201Z
UID:10000923-1728723600-1728734400@confederaciopenyes.cat
SUMMARY:Members breakfast by PB Garriguella
DESCRIPTION:Federation of Empordà and Catalunya Nord.
URL:https://confederaciopenyes.cat/en/event/members-breakfast-by-pb-garriguella/
LOCATION:Girona
ATTACH;FMTTYPE=image/jpeg:https://confederaciopenyes.cat/wp-content/uploads/2023/12/agenda_dinar_sopar.jpg
END:VEVENT
BEGIN:VEVENT
DTSTART;TZID=Europe/Madrid:20241012T090000
DTEND;TZID=Europe/Madrid:20241012T170000
DTSTAMP:20260422T162423
CREATED:20241001T092141Z
LAST-MODIFIED:20241001T092141Z
UID:10000903-1728723600-1728752400@confederaciopenyes.cat
SUMMARY:XXIX Meeting of supporters of the Federation of Terres de l'Ebre
DESCRIPTION:In conjunction with the 30th Anniversary of PB de l’Ampolla.
URL:https://confederaciopenyes.cat/en/event/xxix-meeting-of-supporters-of-the-federation-of-terres-de-lebre/
LOCATION:Girona
ATTACH;FMTTYPE=image/jpeg:https://confederaciopenyes.cat/wp-content/uploads/2024/10/cartell-i-programa-aniversari-Penya-Barcelonista_page-0003.jpg
END:VEVENT
BEGIN:VEVENT
DTSTART;TZID=Europe/Madrid:20241012T130000
DTEND;TZID=Europe/Madrid:20241012T170000
DTSTAMP:20260422T162423
CREATED:20241003T095958Z
LAST-MODIFIED:20241003T095958Z
UID:10000925-1728738000-1728752400@confederaciopenyes.cat
SUMMARY:30th Anniversary of PB Vilanova i Vall de Meià
DESCRIPTION:Federation of Ponent Nord\, la Franja Nord and Andorra.
URL:https://confederaciopenyes.cat/en/event/30th-anniversary-of-pb-vilanova-i-vall-de-meia/
LOCATION:Girona
ATTACH;FMTTYPE=image/jpeg:https://confederaciopenyes.cat/wp-content/uploads/2023/12/agenda_aniversari.jpg
END:VEVENT
BEGIN:VEVENT
DTSTART;TZID=Europe/Madrid:20241012T130000
DTEND;TZID=Europe/Madrid:20241012T180000
DTSTAMP:20260422T162423
CREATED:20241001T091657Z
LAST-MODIFIED:20241001T091657Z
UID:10000901-1728738000-1728756000@confederaciopenyes.cat
SUMMARY:30th Anniversary of PB de l'Ampolla
DESCRIPTION:In conjunction with the XXIX Meeting of supporters of the Federation of Terres de l’Ebre. Federation of Terres de l’Ebre.
URL:https://confederaciopenyes.cat/en/event/30th-anniversary-of-pb-de-lampolla/
LOCATION:Girona
ATTACH;FMTTYPE=image/jpeg:https://confederaciopenyes.cat/wp-content/uploads/2024/10/cartell-i-programa-aniversari-Penya-Barcelonista_page-0001.jpg
END:VEVENT
BEGIN:VEVENT
DTSTART;TZID=Europe/Madrid:20241012T203000
DTEND;TZID=Europe/Madrid:20241012T233000
DTSTAMP:20260422T162423
CREATED:20240827T082525Z
LAST-MODIFIED:20240827T082525Z
UID:10000824-1728765000-1728775800@confederaciopenyes.cat
SUMMARY:40th Anniversary of PB Motril
DESCRIPTION:Federation of Andalucia\, Ceuta and Melilla.
URL:https://confederaciopenyes.cat/en/event/40th-anniversary-of-pb-motril/
LOCATION:Chiringuito El Espeto\, Playa Pte.\, s/n\, 18613\, Granada\, Motril\, Granada\, 18613\, Spain
ATTACH;FMTTYPE=image/jpeg:https://confederaciopenyes.cat/wp-content/uploads/2024/08/40-aniversario-programa_page-0001-scaled.jpg
END:VEVENT
END:VCALENDAR