BEGIN:VCALENDAR
VERSION:2.0
PRODID:-//Confederació Mundial de Penyes del FC Barcelona - ECPv6.15.20//NONSGML v1.0//EN
CALSCALE:GREGORIAN
METHOD:PUBLISH
X-WR-CALNAME:Confederació Mundial de Penyes del FC Barcelona
X-ORIGINAL-URL:https://confederaciopenyes.cat/es/
X-WR-CALDESC:Eventos para Confederació Mundial de Penyes del FC Barcelona
REFRESH-INTERVAL;VALUE=DURATION:PT1H
X-Robots-Tag:noindex
X-PUBLISHED-TTL:PT1H
BEGIN:VTIMEZONE
TZID:Europe/Madrid
BEGIN:DAYLIGHT
TZOFFSETFROM:+0100
TZOFFSETTO:+0200
TZNAME:CEST
DTSTART:20240331T010000
END:DAYLIGHT
BEGIN:STANDARD
TZOFFSETFROM:+0200
TZOFFSETTO:+0100
TZNAME:CET
DTSTART:20241027T010000
END:STANDARD
BEGIN:DAYLIGHT
TZOFFSETFROM:+0100
TZOFFSETTO:+0200
TZNAME:CEST
DTSTART:20250330T010000
END:DAYLIGHT
BEGIN:STANDARD
TZOFFSETFROM:+0200
TZOFFSETTO:+0100
TZNAME:CET
DTSTART:20251026T010000
END:STANDARD
BEGIN:DAYLIGHT
TZOFFSETFROM:+0100
TZOFFSETTO:+0200
TZNAME:CEST
DTSTART:20260329T010000
END:DAYLIGHT
BEGIN:STANDARD
TZOFFSETFROM:+0200
TZOFFSETTO:+0100
TZNAME:CET
DTSTART:20261025T010000
END:STANDARD
END:VTIMEZONE
BEGIN:VEVENT
DTSTART;TZID=Europe/Madrid:20250503T100000
DTEND;TZID=Europe/Madrid:20250628T180000
DTSTAMP:20260420T144033
CREATED:20250506T090453Z
LAST-MODIFIED:20250506T090453Z
UID:10001647-1746266400-1751133600@confederaciopenyes.cat
SUMMARY:2ª Edición del Torneo de fútbol de la PB Dakar
DESCRIPTION:Federación Mundo.
URL:https://confederaciopenyes.cat/es/event/2a-edicion-del-torneo-de-futbol-de-la-pb-dakar/
LOCATION:Terrain Mobile des Maristes\, PHMC+9G5\, Dakar\, Senegal\, Dakar\, Dakar\, Senegal
ATTACH;FMTTYPE=image/jpeg:https://confederaciopenyes.cat/wp-content/uploads/2025/05/GpuRoU4XwAAcIY2.jpg
END:VEVENT
BEGIN:VEVENT
DTSTART;TZID=Europe/Madrid:20250613T170000
DTEND;TZID=Europe/Madrid:20250613T200000
DTSTAMP:20260420T144033
CREATED:20250605T120817Z
LAST-MODIFIED:20250605T120817Z
UID:10001837-1749834000-1749844800@confederaciopenyes.cat
SUMMARY:Colaboración en acto solidario de la PB Castellana
DESCRIPTION:Federación de Castilla y León.
URL:https://confederaciopenyes.cat/es/event/colaboracion-en-acto-solidario-de-la-pb-castellana/
ATTACH;FMTTYPE=image/jpeg:https://confederaciopenyes.cat/wp-content/uploads/2023/12/agenda_solidaritat.jpg
END:VEVENT
BEGIN:VEVENT
DTSTART;TZID=Europe/Madrid:20250613T193000
DTEND;TZID=Europe/Madrid:20250613T210000
DTSTAMP:20260420T144033
CREATED:20250527T113728Z
LAST-MODIFIED:20250527T113728Z
UID:10001782-1749843000-1749848400@confederaciopenyes.cat
SUMMARY:Conferencia "Barça y Cataluña" en la PB "Vora Sèquia"
DESCRIPTION:Conferencia «Barça y Cataluña» 1ª parte «Els Orígens de la Simbiosi»\, a cargo de Salva Torres. \nFederación de les Comarques de Castelló.
URL:https://confederaciopenyes.cat/es/event/conferencia-barca-y-cataluna-en-la-pb-vora-sequia/
LOCATION:Hotel Luz\, Carrer del Pintor Oliet\, 3\, 12006 Castelló de la Plana\, Castelló\, Castellón de la Plana\, Castelló\, 12006\, Spain
ATTACH;FMTTYPE=image/png:https://confederaciopenyes.cat/wp-content/uploads/2025/05/Captura-de-Pantalla-2025-05-27-a-las-13.24.54.png
END:VEVENT
BEGIN:VEVENT
DTSTART;TZID=Europe/Madrid:20250613T210000
DTEND;TZID=Europe/Madrid:20250613T233000
DTSTAMP:20260420T144033
CREATED:20250529T092824Z
LAST-MODIFIED:20250529T092824Z
UID:10001821-1749848400-1749857400@confederaciopenyes.cat
SUMMARY:Cena de final de temporada de la PB Sa Pobla
DESCRIPTION:Federación de Baleares.
URL:https://confederaciopenyes.cat/es/event/cena-de-final-de-temporada-de-la-pb-sa-pobla-2/
LOCATION:Tobogan Food & Cocktails\, Carretera d'Artà\, 29A\, 07400 Alcúdia\, Illes Balears\, Alcúdia\, Mallorca\, 07400\, Spain
ATTACH;FMTTYPE=image/png:https://confederaciopenyes.cat/wp-content/uploads/2025/05/Screenshot_20250528-0954302.png
END:VEVENT
END:VCALENDAR