BEGIN:VCALENDAR
VERSION:2.0
PRODID:-//Confederació Mundial de Penyes del FC Barcelona - ECPv6.15.20//NONSGML v1.0//EN
CALSCALE:GREGORIAN
METHOD:PUBLISH
X-WR-CALNAME:Confederació Mundial de Penyes del FC Barcelona
X-ORIGINAL-URL:https://confederaciopenyes.cat/es/
X-WR-CALDESC:Eventos para Confederació Mundial de Penyes del FC Barcelona
REFRESH-INTERVAL;VALUE=DURATION:PT1H
X-Robots-Tag:noindex
X-PUBLISHED-TTL:PT1H
BEGIN:VTIMEZONE
TZID:Europe/Madrid
BEGIN:DAYLIGHT
TZOFFSETFROM:+0100
TZOFFSETTO:+0200
TZNAME:CEST
DTSTART:20240331T010000
END:DAYLIGHT
BEGIN:STANDARD
TZOFFSETFROM:+0200
TZOFFSETTO:+0100
TZNAME:CET
DTSTART:20241027T010000
END:STANDARD
BEGIN:DAYLIGHT
TZOFFSETFROM:+0100
TZOFFSETTO:+0200
TZNAME:CEST
DTSTART:20250330T010000
END:DAYLIGHT
BEGIN:STANDARD
TZOFFSETFROM:+0200
TZOFFSETTO:+0100
TZNAME:CET
DTSTART:20251026T010000
END:STANDARD
BEGIN:DAYLIGHT
TZOFFSETFROM:+0100
TZOFFSETTO:+0200
TZNAME:CEST
DTSTART:20260329T010000
END:DAYLIGHT
BEGIN:STANDARD
TZOFFSETFROM:+0200
TZOFFSETTO:+0100
TZNAME:CET
DTSTART:20261025T010000
END:STANDARD
END:VTIMEZONE
BEGIN:VEVENT
DTSTART;TZID=Europe/Madrid:20250626T100000
DTEND;TZID=Europe/Madrid:20250724T180000
DTSTAMP:20260423T211450
CREATED:20250605T083950Z
LAST-MODIFIED:20250605T083950Z
UID:10001832-1750932000-1753380000@confederaciopenyes.cat
SUMMARY:XX Trofeo de Fútbol Sala de la PB Premià de Dalt Sant Jaume
DESCRIPTION:Federación del Maresme.
URL:https://confederaciopenyes.cat/es/event/xx-trofeo-de-futbol-sala-de-la-pb-premia-de-dalt-sant-jaume/
LOCATION:León
ATTACH;FMTTYPE=image/png:https://confederaciopenyes.cat/wp-content/uploads/2025/06/Captura-de-Pantalla-2025-06-05-a-las-10.28.49.png
END:VEVENT
BEGIN:VEVENT
DTSTART;TZID=Europe/Madrid:20250717T190000
DTEND;TZID=Europe/Madrid:20250717T203000
DTSTAMP:20260423T211450
CREATED:20250220T111010Z
LAST-MODIFIED:20250220T111010Z
UID:10001385-1752778800-1752784200@confederaciopenyes.cat
SUMMARY:Conferencia "Barça y Cataluña" en la PB Premiá de Dalt Sant Jaume
DESCRIPTION:Conferencia «Barça y Cataluña» 2ª parte «Temps de Foscor»\, a cargo de Salva Torres. \nFederación del Maresme.
URL:https://confederaciopenyes.cat/es/event/conferencia-barca-y-cataluna-en-la-pb-premia-de-dalt-sant-jaume-2/
LOCATION:León
ATTACH;FMTTYPE=image/jpeg:https://confederaciopenyes.cat/wp-content/uploads/2023/12/agenda_conferencia-e1703173694737.jpg
END:VEVENT
END:VCALENDAR