BEGIN:VCALENDAR
VERSION:2.0
PRODID:-//Confederació Mundial de Penyes del FC Barcelona - ECPv6.15.20//NONSGML v1.0//EN
CALSCALE:GREGORIAN
METHOD:PUBLISH
X-WR-CALNAME:Confederació Mundial de Penyes del FC Barcelona
X-ORIGINAL-URL:https://confederaciopenyes.cat/es/
X-WR-CALDESC:Eventos para Confederació Mundial de Penyes del FC Barcelona
REFRESH-INTERVAL;VALUE=DURATION:PT1H
X-Robots-Tag:noindex
X-PUBLISHED-TTL:PT1H
BEGIN:VTIMEZONE
TZID:Europe/Madrid
BEGIN:DAYLIGHT
TZOFFSETFROM:+0100
TZOFFSETTO:+0200
TZNAME:CEST
DTSTART:20240331T010000
END:DAYLIGHT
BEGIN:STANDARD
TZOFFSETFROM:+0200
TZOFFSETTO:+0100
TZNAME:CET
DTSTART:20241027T010000
END:STANDARD
BEGIN:DAYLIGHT
TZOFFSETFROM:+0100
TZOFFSETTO:+0200
TZNAME:CEST
DTSTART:20250330T010000
END:DAYLIGHT
BEGIN:STANDARD
TZOFFSETFROM:+0200
TZOFFSETTO:+0100
TZNAME:CET
DTSTART:20251026T010000
END:STANDARD
BEGIN:DAYLIGHT
TZOFFSETFROM:+0100
TZOFFSETTO:+0200
TZNAME:CEST
DTSTART:20260329T010000
END:DAYLIGHT
BEGIN:STANDARD
TZOFFSETFROM:+0200
TZOFFSETTO:+0100
TZNAME:CET
DTSTART:20261025T010000
END:STANDARD
END:VTIMEZONE
BEGIN:VEVENT
DTSTART;TZID=Europe/Madrid:20250725T100000
DTEND;TZID=Europe/Madrid:20250725T130000
DTSTAMP:20260423T211449
CREATED:20250724T095744Z
LAST-MODIFIED:20250724T095744Z
UID:10001999-1753437600-1753448400@confederaciopenyes.cat
SUMMARY:Clausura del 21r Campus de fútbol formativo de la PB Ciutat de Peñíscola
DESCRIPTION:Federación de Terres de l’Ebre.
URL:https://confederaciopenyes.cat/es/event/clausura-del-21r-campus-de-futbol-formativo-de-la-pb-ciutat-de-peniscola/
LOCATION:León
ATTACH;FMTTYPE=image/jpeg:https://confederaciopenyes.cat/wp-content/uploads/2023/12/agenda_activitat-futbol.jpg
END:VEVENT
BEGIN:VEVENT
DTSTART;TZID=Europe/Madrid:20250725T193000
DTEND;TZID=Europe/Madrid:20250725T203000
DTSTAMP:20260423T211449
CREATED:20250724T095929Z
LAST-MODIFIED:20250724T095929Z
UID:10002001-1753471800-1753475400@confederaciopenyes.cat
SUMMARY:Obra de teatro de la PB Puigcerdà
DESCRIPTION:Federación del Bages\, el Berguedà y la Cerdanya.
URL:https://confederaciopenyes.cat/es/event/obra-de-teatro-de-la-pb-puigcerda/
LOCATION:Teatre Casino Cereta\, Plaça de Barcelona\, 3\, 17520 Puigcerdà\, Girona\, Puigcerdà\, Girona\, 17520\, Spain
ATTACH;FMTTYPE=image/jpeg:https://confederaciopenyes.cat/wp-content/uploads/2025/07/teatre-cartell.jpg
END:VEVENT
END:VCALENDAR