BEGIN:VCALENDAR
VERSION:2.0
PRODID:-//Confederació Mundial de Penyes del FC Barcelona - ECPv6.15.20//NONSGML v1.0//EN
CALSCALE:GREGORIAN
METHOD:PUBLISH
X-WR-CALNAME:Confederació Mundial de Penyes del FC Barcelona
X-ORIGINAL-URL:https://confederaciopenyes.cat/es/
X-WR-CALDESC:Eventos para Confederació Mundial de Penyes del FC Barcelona
REFRESH-INTERVAL;VALUE=DURATION:PT1H
X-Robots-Tag:noindex
X-PUBLISHED-TTL:PT1H
BEGIN:VTIMEZONE
TZID:Europe/Madrid
BEGIN:DAYLIGHT
TZOFFSETFROM:+0100
TZOFFSETTO:+0200
TZNAME:CEST
DTSTART:20240331T010000
END:DAYLIGHT
BEGIN:STANDARD
TZOFFSETFROM:+0200
TZOFFSETTO:+0100
TZNAME:CET
DTSTART:20241027T010000
END:STANDARD
BEGIN:DAYLIGHT
TZOFFSETFROM:+0100
TZOFFSETTO:+0200
TZNAME:CEST
DTSTART:20250330T010000
END:DAYLIGHT
BEGIN:STANDARD
TZOFFSETFROM:+0200
TZOFFSETTO:+0100
TZNAME:CET
DTSTART:20251026T010000
END:STANDARD
BEGIN:DAYLIGHT
TZOFFSETFROM:+0100
TZOFFSETTO:+0200
TZNAME:CEST
DTSTART:20260329T010000
END:DAYLIGHT
BEGIN:STANDARD
TZOFFSETFROM:+0200
TZOFFSETTO:+0100
TZNAME:CET
DTSTART:20261025T010000
END:STANDARD
END:VTIMEZONE
BEGIN:VEVENT
DTSTART;TZID=Europe/Madrid:20250906T080000
DTEND;TZID=Europe/Madrid:20250906T150000
DTSTAMP:20260422T003333
CREATED:20250724T121133Z
LAST-MODIFIED:20250724T121413Z
UID:10002020-1757145600-1757170800@confederaciopenyes.cat
SUMMARY:15º Campeonato de cartas de la PB Fontalba d'Ulldemolins
DESCRIPTION:Federación de Tarragona Nord.
URL:https://confederaciopenyes.cat/es/event/15o-campeonato-de-cartas-de-la-pb-fontalba-dulldemolins/
ATTACH;FMTTYPE=image/jpeg:https://confederaciopenyes.cat/wp-content/uploads/2025/07/Cartell-Botifarra.jpg
END:VEVENT
BEGIN:VEVENT
DTSTART;TZID=Europe/Madrid:20250906T140000
DTEND;TZID=Europe/Madrid:20250906T170000
DTSTAMP:20260422T003333
CREATED:20250821T083232Z
LAST-MODIFIED:20250821T083232Z
UID:10002080-1757167200-1757178000@confederaciopenyes.cat
SUMMARY:5º Aniversario de la PB Viriato de Zamora
DESCRIPTION:Federación de Castilla y León.
URL:https://confederaciopenyes.cat/es/event/5o-aniversario-de-la-pb-viriato-de-zamora/
ATTACH;FMTTYPE=image/jpeg:https://confederaciopenyes.cat/wp-content/uploads/2023/12/agenda_aniversari.jpg
END:VEVENT
BEGIN:VEVENT
DTSTART;TZID=Europe/Madrid:20250906T160000
DTEND;TZID=Europe/Madrid:20250906T200000
DTSTAMP:20260422T003333
CREATED:20250821T075551Z
LAST-MODIFIED:20250821T075551Z
UID:10002072-1757174400-1757188800@confederaciopenyes.cat
SUMMARY:5º Campeonato de cartas de la PB d'Anglès
DESCRIPTION:Federación del Girones\, la Selva\, la Garrotxa y el Pla de l’Estany.
URL:https://confederaciopenyes.cat/es/event/5o-campeonato-de-cartas-de-la-pb-dangles/
LOCATION:Jardins de Can Cendra\, 17160 Anglès\, Girona\, Anglès\, Girona\, 17160\, Spain
ATTACH;FMTTYPE=image/png:https://confederaciopenyes.cat/wp-content/uploads/2025/08/Screenshot_20250820-0932182.png
END:VEVENT
END:VCALENDAR