BEGIN:VCALENDAR
VERSION:2.0
PRODID:-//Confederació Mundial de Penyes del FC Barcelona - ECPv6.15.20//NONSGML v1.0//EN
CALSCALE:GREGORIAN
METHOD:PUBLISH
X-WR-CALNAME:Confederació Mundial de Penyes del FC Barcelona
X-ORIGINAL-URL:https://confederaciopenyes.cat/es/
X-WR-CALDESC:Eventos para Confederació Mundial de Penyes del FC Barcelona
REFRESH-INTERVAL;VALUE=DURATION:PT1H
X-Robots-Tag:noindex
X-PUBLISHED-TTL:PT1H
BEGIN:VTIMEZONE
TZID:Europe/Madrid
BEGIN:DAYLIGHT
TZOFFSETFROM:+0100
TZOFFSETTO:+0200
TZNAME:CEST
DTSTART:20240331T010000
END:DAYLIGHT
BEGIN:STANDARD
TZOFFSETFROM:+0200
TZOFFSETTO:+0100
TZNAME:CET
DTSTART:20241027T010000
END:STANDARD
BEGIN:DAYLIGHT
TZOFFSETFROM:+0100
TZOFFSETTO:+0200
TZNAME:CEST
DTSTART:20250330T010000
END:DAYLIGHT
BEGIN:STANDARD
TZOFFSETFROM:+0200
TZOFFSETTO:+0100
TZNAME:CET
DTSTART:20251026T010000
END:STANDARD
BEGIN:DAYLIGHT
TZOFFSETFROM:+0100
TZOFFSETTO:+0200
TZNAME:CEST
DTSTART:20260329T010000
END:DAYLIGHT
BEGIN:STANDARD
TZOFFSETFROM:+0200
TZOFFSETTO:+0100
TZNAME:CET
DTSTART:20261025T010000
END:STANDARD
END:VTIMEZONE
BEGIN:VEVENT
DTSTART;TZID=Europe/Madrid:20251209T173000
DTEND;TZID=Europe/Madrid:20251219T193000
DTSTAMP:20260425T123125
CREATED:20251118T115813Z
LAST-MODIFIED:20251118T115813Z
UID:10002389-1765301400-1766172600@confederaciopenyes.cat
SUMMARY:XVII Navidad Solidaria de la PB Villabalter
DESCRIPTION:CRE Discapacidad y Dependencia – Martes 9 de diciembre a las 17:30h\nAtención a la Infancia – Jueves 18 de diciembre a las 16:30h (Pinilla) / Viernes 19 de diciembre a las 18:30h (Trobajo)\nCentro de Día para las personas mayores – Viernes 19 de diciembre a las 16:00h\n\nFederación de Castilla y León.
URL:https://confederaciopenyes.cat/es/event/xvii-navidad-solidaria-de-la-pb-villabalter/
LOCATION:León
ATTACH;FMTTYPE=image/jpeg:https://confederaciopenyes.cat/wp-content/uploads/2025/11/XVII-NAVIDAD-SOLIDARIA-2025_page-0001.jpg
END:VEVENT
BEGIN:VEVENT
DTSTART;TZID=Europe/Madrid:20251213T100000
DTEND;TZID=Europe/Madrid:20251214T170000
DTSTAMP:20260425T123125
CREATED:20251211T093541Z
LAST-MODIFIED:20251211T102445Z
UID:10002522-1765620000-1765731600@confederaciopenyes.cat
SUMMARY:Tómbola solidaria de la PB Anguera por la Marató de TV3
DESCRIPTION:Federación del Barcelones Oest.
URL:https://confederaciopenyes.cat/es/event/tombola-solidaria-de-la-pb-anguera-por-la-marato-de-tv3/
LOCATION:Camp de futbol Escola Industrial\, Carrer de Viladomat\, 244\, L'Eixample\, 08029 Barcelona\, Barcelona\, Barcelona\, 08029\, Spain
ATTACH;FMTTYPE=image/jpeg:https://confederaciopenyes.cat/wp-content/uploads/2025/12/instagram_DR9SNTLCAb8.jpg
END:VEVENT
BEGIN:VEVENT
DTSTART;TZID=Europe/Madrid:20251213T110000
DTEND;TZID=Europe/Madrid:20251214T200000
DTSTAMP:20260425T123125
CREATED:20251211T092758Z
LAST-MODIFIED:20251211T092758Z
UID:10002524-1765623600-1765742400@confederaciopenyes.cat
SUMMARY:Participación en la Feria de Navidad de la PB Parets
DESCRIPTION:Federación del Vallés.
URL:https://confederaciopenyes.cat/es/event/participacion-en-la-feria-de-navidad-de-la-pb-parets/
LOCATION:Plaça de la Vila\, 08150 Parets del Vallès\, Barcelona\, Parets del Vallès\, Barcelona\, 08150\, Spain
ATTACH;FMTTYPE=image/jpeg:https://confederaciopenyes.cat/wp-content/uploads/2025/12/IMG-20251208-WA0002.jpg
END:VEVENT
BEGIN:VEVENT
DTSTART;TZID=Europe/Madrid:20251213T110000
DTEND;TZID=Europe/Madrid:20251229T183000
DTSTAMP:20260425T123125
CREATED:20251211T093120Z
LAST-MODIFIED:20251211T093120Z
UID:10002526-1765623600-1767033000@confederaciopenyes.cat
SUMMARY:Concurso de dibujo "Nadal i Barça" -Memorial Joaquim Esteve- de la PB Parets
DESCRIPTION:Entrega de los premios el 29 de diciembre a las 18:30h. \nFederación del Vallès.
URL:https://confederaciopenyes.cat/es/event/concurso-de-dibujo-nadal-i-barca-memorial-joaquim-esteve-de-la-pb-parets/
LOCATION:León
ATTACH;FMTTYPE=image/jpeg:https://confederaciopenyes.cat/wp-content/uploads/2025/12/thumbnail_IMG_20251209_095811.jpg
END:VEVENT
BEGIN:VEVENT
DTSTART;TZID=Europe/Madrid:20251214T090000
DTEND;TZID=Europe/Madrid:20251214T110000
DTSTAMP:20260425T123125
CREATED:20251211T115109Z
LAST-MODIFIED:20251211T120545Z
UID:10002545-1765702800-1765710000@confederaciopenyes.cat
SUMMARY:Participación en la Marató de TV3 de la PB Capellades
DESCRIPTION:Federación de Anoia\, el Garraf i l’Alt Penedès.
URL:https://confederaciopenyes.cat/es/event/participacion-en-la-marato-de-tv3-de-la-pb-capellades/
LOCATION:León
ATTACH;FMTTYPE=image/jpeg:https://confederaciopenyes.cat/wp-content/uploads/2023/12/agenda_solidaritat.jpg
END:VEVENT
BEGIN:VEVENT
DTSTART;TZID=Europe/Madrid:20251214T090000
DTEND;TZID=Europe/Madrid:20251214T120000
DTSTAMP:20260425T123125
CREATED:20251009T144300Z
LAST-MODIFIED:20251014T104136Z
UID:10002236-1765702800-1765713600@confederaciopenyes.cat
SUMMARY:Desayuno solidario por la Marató de TV3 de la PB Sant Andreu de la Barca
DESCRIPTION:Federación del Baix Llobregat.
URL:https://confederaciopenyes.cat/es/event/desayuno-solidario-por-la-marato-de-tv3-de-la-pb-sant-andreu-de-la-barca/
LOCATION:León
ATTACH;FMTTYPE=image/jpeg:https://confederaciopenyes.cat/wp-content/uploads/2023/12/agenda_solidaritat.jpg
END:VEVENT
BEGIN:VEVENT
DTSTART;TZID=Europe/Madrid:20251214T100000
DTEND;TZID=Europe/Madrid:20251214T120000
DTSTAMP:20260425T123125
CREATED:20251125T100547Z
LAST-MODIFIED:20251125T100547Z
UID:10002449-1765706400-1765713600@confederaciopenyes.cat
SUMMARY:Actividad por la Marató de TV3 de la PB Puigverd de Lleida
DESCRIPTION:Federación de Lleida Sud y la Franja Central.
URL:https://confederaciopenyes.cat/es/event/actividad-por-la-marato-de-tv3-de-la-pb-puigverd-de-lleida/
LOCATION:León
ATTACH;FMTTYPE=image/jpeg:https://confederaciopenyes.cat/wp-content/uploads/2023/12/agenda_solidaritat.jpg
END:VEVENT
BEGIN:VEVENT
DTSTART;TZID=Europe/Madrid:20251214T100000
DTEND;TZID=Europe/Madrid:20251214T140000
DTSTAMP:20260425T123125
CREATED:20251211T114506Z
LAST-MODIFIED:20251211T121039Z
UID:10002547-1765706400-1765720800@confederaciopenyes.cat
SUMMARY:Participación en la Marató de TV3 de la PB Balaguer i Comarca
DESCRIPTION:Federación de Ponent Nord.
URL:https://confederaciopenyes.cat/es/event/participacion-en-la-marato-de-tv3-de-la-pb-balaguer-i-comarca/
LOCATION:León
ATTACH;FMTTYPE=image/jpeg:https://confederaciopenyes.cat/wp-content/uploads/2025/12/instagram_DSD3VKEjPWB.jpg
END:VEVENT
BEGIN:VEVENT
DTSTART;TZID=Europe/Madrid:20251214T100000
DTEND;TZID=Europe/Madrid:20251214T170000
DTSTAMP:20260425T123125
CREATED:20251127T154525Z
LAST-MODIFIED:20251127T154525Z
UID:10002493-1765706400-1765731600@confederaciopenyes.cat
SUMMARY:Participación en la Marató de TV3 de la PB "Aquest Any Sí" de les Piles
DESCRIPTION:Federación de Tarragona Nord.
URL:https://confederaciopenyes.cat/es/event/participacion-en-la-marato-de-tv3-de-la-pb-aquest-any-si-de-les-piles/
LOCATION:León
ATTACH;FMTTYPE=image/jpeg:https://confederaciopenyes.cat/wp-content/uploads/2023/12/agenda_solidaritat.jpg
END:VEVENT
BEGIN:VEVENT
DTSTART;TZID=Europe/Madrid:20251214T110000
DTEND;TZID=Europe/Madrid:20251214T123000
DTSTAMP:20260425T123125
CREATED:20251211T095354Z
LAST-MODIFIED:20251211T095354Z
UID:10002530-1765710000-1765715400@confederaciopenyes.cat
SUMMARY:17º Vermut solidario por la Marató de TV3 de la PB Cambrils
DESCRIPTION:Federación de Tarragona Nord.
URL:https://confederaciopenyes.cat/es/event/17o-vermut-solidario-por-la-marato-de-tv3-de-la-pb-cambrils/
LOCATION:Plaça de l’Esglesia de Sant Pere de Cambrils\, Plaça Esglesia Sant Pere\, 1\, 43850 Cambrils\, Tarragona\, Cambrils\, Tarragona\, 43850\, Spain
ATTACH;FMTTYPE=image/jpeg:https://confederaciopenyes.cat/wp-content/uploads/2025/12/584373239_18356549323164382_6102281621341913813_n.jpg
END:VEVENT
BEGIN:VEVENT
DTSTART;TZID=Europe/Madrid:20251214T110000
DTEND;TZID=Europe/Madrid:20251214T133000
DTSTAMP:20260425T123125
CREATED:20251028T102808Z
LAST-MODIFIED:20251028T102808Z
UID:10002323-1765710000-1765719000@confederaciopenyes.cat
SUMMARY:Vermut de la Maratón de TV3 de la PB Cambrils
DESCRIPTION:Federación de Tarragona Nord.
URL:https://confederaciopenyes.cat/es/event/vermut-de-la-maraton-de-tv3-de-la-pb-cambrils/
LOCATION:León
ATTACH;FMTTYPE=image/jpeg:https://confederaciopenyes.cat/wp-content/uploads/2023/12/agenda_solidaritat.jpg
END:VEVENT
BEGIN:VEVENT
DTSTART;TZID=Europe/Madrid:20251214T130000
DTEND;TZID=Europe/Madrid:20251214T133000
DTSTAMP:20260425T123125
CREATED:20251118T151008Z
LAST-MODIFIED:20251118T151008Z
UID:10002422-1765717200-1765719000@confederaciopenyes.cat
SUMMARY:Brindis por Navidad de la PB Córdoba-Argentina
DESCRIPTION:Federación Mundo.
URL:https://confederaciopenyes.cat/es/event/brindis-por-navidad-de-la-pb-cordoba-argentina/
LOCATION:León
ATTACH;FMTTYPE=image/png:https://confederaciopenyes.cat/wp-content/uploads/2025/11/VERMUT-COCKTAIL.png
END:VEVENT
BEGIN:VEVENT
DTSTART;TZID=Europe/Madrid:20251214T140000
DTEND;TZID=Europe/Madrid:20251214T170000
DTSTAMP:20260425T123125
CREATED:20251211T115320Z
LAST-MODIFIED:20251211T121400Z
UID:10002549-1765720800-1765731600@confederaciopenyes.cat
SUMMARY:Almuerzo de Navidad de la PB El Zorro Culé
DESCRIPTION:Federación de Extremadura.
URL:https://confederaciopenyes.cat/es/event/almuerzo-de-navidad-de-la-pb-el-zorro-cule/
LOCATION:León
ATTACH;FMTTYPE=image/jpeg:https://confederaciopenyes.cat/wp-content/uploads/2023/12/agenda_dinar_sopar.jpg
END:VEVENT
BEGIN:VEVENT
DTSTART;TZID=Europe/Madrid:20251214T143000
DTEND;TZID=Europe/Madrid:20251214T173000
DTSTAMP:20260425T123125
CREATED:20251118T120214Z
LAST-MODIFIED:20251118T120214Z
UID:10002387-1765722600-1765733400@confederaciopenyes.cat
SUMMARY:Almuerzo de Navidad de la PB Villabalter
DESCRIPTION:Federación de Castilla y León.
URL:https://confederaciopenyes.cat/es/event/almuerzo-de-navidad-de-la-pb-villabalter-2/
LOCATION:Restaurante Luna\, C. de los Caboalles\, 300\, Km 1\, 24010 León\, Villabalter\, León\, 24010\, Spain
ATTACH;FMTTYPE=image/jpeg:https://confederaciopenyes.cat/wp-content/uploads/2025/11/COMIDA-DE-NAVIDAD-2025-JPG.jpg
END:VEVENT
BEGIN:VEVENT
DTSTART;TZID=Europe/Madrid:20251214T143000
DTEND;TZID=Europe/Madrid:20251214T173000
DTSTAMP:20260425T123125
CREATED:20251125T091346Z
LAST-MODIFIED:20251125T091346Z
UID:10002443-1765722600-1765733400@confederaciopenyes.cat
SUMMARY:12ª Escudellada de la PB Monells
DESCRIPTION:Federación del Empordà y la Catalunya Nord.
URL:https://confederaciopenyes.cat/es/event/12a-escudellada-de-la-pb-monells/
LOCATION:León
ATTACH;FMTTYPE=image/jpeg:https://confederaciopenyes.cat/wp-content/uploads/2025/11/WhatsApp-Image-2025-11-21-at-10.10.55.jpeg
END:VEVENT
BEGIN:VEVENT
DTSTART;TZID=Europe/Madrid:20251214T180000
DTEND;TZID=Europe/Madrid:20251214T200000
DTSTAMP:20260425T123125
CREATED:20251211T115637Z
LAST-MODIFIED:20251211T122135Z
UID:10002551-1765735200-1765742400@confederaciopenyes.cat
SUMMARY:Acción solidaria de la PB Corazón Blaugrana Bogotá
DESCRIPTION:Federación Mundo.
URL:https://confederaciopenyes.cat/es/event/accion-solidaria-de-la-pb-corazon-blaugrana-bogota/
LOCATION:León
ATTACH;FMTTYPE=image/jpeg:https://confederaciopenyes.cat/wp-content/uploads/2023/12/agenda_solidaritat.jpg
END:VEVENT
END:VCALENDAR