BEGIN:VCALENDAR
VERSION:2.0
PRODID:-//Confederació Mundial de Penyes del FC Barcelona - ECPv6.15.20//NONSGML v1.0//EN
CALSCALE:GREGORIAN
METHOD:PUBLISH
X-ORIGINAL-URL:https://confederaciopenyes.cat/es/
X-WR-CALDESC:Eventos para Confederació Mundial de Penyes del FC Barcelona
REFRESH-INTERVAL;VALUE=DURATION:PT1H
X-Robots-Tag:noindex
X-PUBLISHED-TTL:PT1H
BEGIN:VTIMEZONE
TZID:Europe/Madrid
BEGIN:DAYLIGHT
TZOFFSETFROM:+0100
TZOFFSETTO:+0200
TZNAME:CEST
DTSTART:20250330T010000
END:DAYLIGHT
BEGIN:STANDARD
TZOFFSETFROM:+0200
TZOFFSETTO:+0100
TZNAME:CET
DTSTART:20251026T010000
END:STANDARD
BEGIN:DAYLIGHT
TZOFFSETFROM:+0100
TZOFFSETTO:+0200
TZNAME:CEST
DTSTART:20260329T010000
END:DAYLIGHT
BEGIN:STANDARD
TZOFFSETFROM:+0200
TZOFFSETTO:+0100
TZNAME:CET
DTSTART:20261025T010000
END:STANDARD
BEGIN:DAYLIGHT
TZOFFSETFROM:+0100
TZOFFSETTO:+0200
TZNAME:CEST
DTSTART:20270328T010000
END:DAYLIGHT
BEGIN:STANDARD
TZOFFSETFROM:+0200
TZOFFSETTO:+0100
TZNAME:CET
DTSTART:20271031T010000
END:STANDARD
END:VTIMEZONE
BEGIN:VEVENT
DTSTART;TZID=Europe/Madrid:20260214T090000
DTEND;TZID=Europe/Madrid:20260214T150000
DTSTAMP:20260421T214854
CREATED:20260127T094918Z
LAST-MODIFIED:20260127T094918Z
UID:10002672-1771059600-1771081200@confederaciopenyes.cat
SUMMARY:XVIII Diada del Soci de la PB Vall del Tenes
DESCRIPTION:Federación del Vallés.
URL:https://confederaciopenyes.cat/es/event/xviii-diada-del-soci-de-la-pb-vall-del-tenes/
LOCATION:Plaça Miquel Bosch\, Avinguda Prat de la Riba\, 111\, 08415 Bigues i Riells\, Barcelona\, Bigues i Riells\, Barcelona\, 08415\, Spain
ATTACH;FMTTYPE=image/jpeg:https://confederaciopenyes.cat/wp-content/uploads/2026/01/G_NzqGHWUAEnD8R.jpg
END:VEVENT
BEGIN:VEVENT
DTSTART;TZID=Europe/Madrid:20260214T100000
DTEND;TZID=Europe/Madrid:20260214T180000
DTSTAMP:20260421T214854
CREATED:20260113T103628Z
LAST-MODIFIED:20260210T114229Z
UID:10002614-1771063200-1771092000@confederaciopenyes.cat
SUMMARY:Torneo de las Estrellas de la PB Cervelló y la PB Sant Vicenç dels Horts
DESCRIPTION:Federación del Baix Llobregat.
URL:https://confederaciopenyes.cat/es/event/torneo-de-futbol-7-carnival-cup-de-la-pb-cervello/
LOCATION:Camp municipal de Cervello\, La Plana de Can Esteve s/n\, 08758 Cervelló\, Barcelona\, Cervelló\, Barcelona\, 08758\, Spain
ATTACH;FMTTYPE=image/jpeg:https://confederaciopenyes.cat/wp-content/uploads/2026/01/1000009061.jpg
END:VEVENT
BEGIN:VEVENT
DTSTART;TZID=Europe/Madrid:20260214T120000
DTEND;TZID=Europe/Madrid:20260214T140000
DTSTAMP:20260421T214854
CREATED:20260127T105253Z
LAST-MODIFIED:20260127T111545Z
UID:10002674-1771070400-1771077600@confederaciopenyes.cat
SUMMARY:Carrera de camas disfrazadas de la PB Sitges
DESCRIPTION:Federación de Anoia\, Alt Penedes y el Garraf.
URL:https://confederaciopenyes.cat/es/event/carrera-de-camas-disfrazadas-de-la-pb-sitges/
ATTACH;FMTTYPE=image/jpeg:https://confederaciopenyes.cat/wp-content/uploads/2026/01/instagram_DT-OBIwDKnO.jpg
END:VEVENT
END:VCALENDAR