BEGIN:VCALENDAR
VERSION:2.0
PRODID:-//Confederació Mundial de Penyes del FC Barcelona - ECPv6.15.20//NONSGML v1.0//EN
CALSCALE:GREGORIAN
METHOD:PUBLISH
X-WR-CALNAME:Confederació Mundial de Penyes del FC Barcelona
X-ORIGINAL-URL:https://confederaciopenyes.cat/es/
X-WR-CALDESC:Eventos para Confederació Mundial de Penyes del FC Barcelona
REFRESH-INTERVAL;VALUE=DURATION:PT1H
X-Robots-Tag:noindex
X-PUBLISHED-TTL:PT1H
BEGIN:VTIMEZONE
TZID:Europe/Madrid
BEGIN:DAYLIGHT
TZOFFSETFROM:+0100
TZOFFSETTO:+0200
TZNAME:CEST
DTSTART:20250330T010000
END:DAYLIGHT
BEGIN:STANDARD
TZOFFSETFROM:+0200
TZOFFSETTO:+0100
TZNAME:CET
DTSTART:20251026T010000
END:STANDARD
BEGIN:DAYLIGHT
TZOFFSETFROM:+0100
TZOFFSETTO:+0200
TZNAME:CEST
DTSTART:20260329T010000
END:DAYLIGHT
BEGIN:STANDARD
TZOFFSETFROM:+0200
TZOFFSETTO:+0100
TZNAME:CET
DTSTART:20261025T010000
END:STANDARD
BEGIN:DAYLIGHT
TZOFFSETFROM:+0100
TZOFFSETTO:+0200
TZNAME:CEST
DTSTART:20270328T010000
END:DAYLIGHT
BEGIN:STANDARD
TZOFFSETFROM:+0200
TZOFFSETTO:+0100
TZNAME:CET
DTSTART:20271031T010000
END:STANDARD
END:VTIMEZONE
BEGIN:VEVENT
DTSTART;TZID=Europe/Madrid:20260419T110000
DTEND;TZID=Europe/Madrid:20260607T170000
DTSTAMP:20260425T055400
CREATED:20260421T103623Z
LAST-MODIFIED:20260421T103623Z
UID:10002970-1776596400-1780851600@confederaciopenyes.cat
SUMMARY:3ª Edición del Torneo de fútbol U13 de la PB Dakar Senegal
DESCRIPTION:Federación Mundo.
URL:https://confederaciopenyes.cat/es/event/3a-edicion-del-torneo-de-futbol-u13-de-la-pb-dakar-senegal/
LOCATION:Stade Alassane Djigo\, QJ34+WRP\, Tally Boubess\, Pikine\, Senegal\, Dakar\, Senegal\, Senegal
ATTACH;FMTTYPE=image/jpeg:https://confederaciopenyes.cat/wp-content/uploads/2026/04/1000014712-1.jpg
END:VEVENT
BEGIN:VEVENT
DTSTART;TZID=Europe/Madrid:20260425T100000
DTEND;TZID=Europe/Madrid:20260425T130000
DTSTAMP:20260425T055401
CREATED:20260423T082803Z
LAST-MODIFIED:20260423T082803Z
UID:10003004-1777111200-1777122000@confederaciopenyes.cat
SUMMARY:Fiesta infantil de la PB Artesa de Segre
DESCRIPTION:Federación de Ponent Nord.
URL:https://confederaciopenyes.cat/es/event/fiesta-infantil-de-la-pb-artesa-de-segre/
LOCATION:León
ATTACH;FMTTYPE=image/jpeg:https://confederaciopenyes.cat/wp-content/uploads/2026/04/activitat-cultural.jpg
END:VEVENT
BEGIN:VEVENT
DTSTART;TZID=Europe/Madrid:20260425T100000
DTEND;TZID=Europe/Madrid:20260425T133000
DTSTAMP:20260425T055401
CREATED:20260421T090046Z
LAST-MODIFIED:20260421T090046Z
UID:10002976-1777111200-1777123800@confederaciopenyes.cat
SUMMARY:Jornada "Márcale un gol al alzheimer" de la PB Sant Cugat
DESCRIPTION:Federación del Vallés.
URL:https://confederaciopenyes.cat/es/event/jornada-marcale-un-gol-al-alzheimer-de-la-pb-sant-cugat/
LOCATION:ZEM Can Magi\, Av. de Can Magí\, 6\, 08173 Sant Cugat del Vallès\, Barcelona\, Sant Cugat del Vallès\, Barcelona\, 08173\, Spain
ATTACH;FMTTYPE=image/jpeg:https://confederaciopenyes.cat/wp-content/uploads/2026/04/670392565_18579452800040576_490298769182420139_n.jpg
END:VEVENT
BEGIN:VEVENT
DTSTART;TZID=Europe/Madrid:20260425T120000
DTEND;TZID=Europe/Madrid:20260425T190000
DTSTAMP:20260425T055401
CREATED:20260407T084932Z
LAST-MODIFIED:20260407T085518Z
UID:10002889-1777118400-1777143600@confederaciopenyes.cat
SUMMARY:Almuerzo Popular de la PB Breda
DESCRIPTION:Federación del Gironès\, Selva\, Garrotxa i Pla de l’Estany.
URL:https://confederaciopenyes.cat/es/event/almuerzo-popular-de-la-pb-breda-2/
LOCATION:Plaça Bassa del Moli\, 17400 Breda\, Girona\, Breda\, Girona\, 17400\, Espanya
ATTACH;FMTTYPE=image/jpeg:https://confederaciopenyes.cat/wp-content/uploads/2026/04/658345908_18345762913210421_2019037427503251277_n.jpg
END:VEVENT
BEGIN:VEVENT
DTSTART;TZID=Europe/Madrid:20260425T133000
DTEND;TZID=Europe/Madrid:20260425T163000
DTSTAMP:20260425T055401
CREATED:20260414T114502Z
LAST-MODIFIED:20260414T114502Z
UID:10002978-1777123800-1777134600@confederaciopenyes.cat
SUMMARY:17º Aniversario de la PB Isona i Conca Dellà
DESCRIPTION:Federación de Ponent Nord.
URL:https://confederaciopenyes.cat/es/event/17o-aniversario-de-la-pb-isona-i-conca-della/
LOCATION:León
ATTACH;FMTTYPE=image/jpeg:https://confederaciopenyes.cat/wp-content/uploads/2026/04/657485968_18397064296153259_7144253256686528618_n.jpg
END:VEVENT
BEGIN:VEVENT
DTSTART;TZID=Europe/Madrid:20260425T180000
DTEND;TZID=Europe/Madrid:20260425T193000
DTSTAMP:20260425T055401
CREATED:20260319T101639Z
LAST-MODIFIED:20260319T101639Z
UID:10002835-1777140000-1777145400@confederaciopenyes.cat
SUMMARY:Conferencia "Barça y Cataluña" en la PB Prats de Mollo
DESCRIPTION:Conferencia «Barça y Cataluña» 2ª parte «Temps de Foscor»\, a cargo de Salva Torres. \nFederación de l’Empordà i la Catalunya Nord.
URL:https://confederaciopenyes.cat/es/event/conferencia-barca-y-cataluna-en-la-pb-prats-de-mollo-2/
LOCATION:León
ATTACH;FMTTYPE=image/jpeg:https://confederaciopenyes.cat/wp-content/uploads/2023/12/agenda_conferencia-e1703173694737.jpg
END:VEVENT
END:VCALENDAR