BEGIN:VCALENDAR
VERSION:2.0
PRODID:-//Confederació Mundial de Penyes del FC Barcelona - ECPv6.15.20//NONSGML v1.0//EN
CALSCALE:GREGORIAN
METHOD:PUBLISH
X-WR-CALNAME:Confederació Mundial de Penyes del FC Barcelona
X-ORIGINAL-URL:https://confederaciopenyes.cat
X-WR-CALDESC:Esdeveniments per Confederació Mundial de Penyes del FC Barcelona
REFRESH-INTERVAL;VALUE=DURATION:PT1H
X-Robots-Tag:noindex
X-PUBLISHED-TTL:PT1H
BEGIN:VTIMEZONE
TZID:Europe/Madrid
BEGIN:DAYLIGHT
TZOFFSETFROM:+0100
TZOFFSETTO:+0200
TZNAME:CEST
DTSTART:20220327T010000
END:DAYLIGHT
BEGIN:STANDARD
TZOFFSETFROM:+0200
TZOFFSETTO:+0100
TZNAME:CET
DTSTART:20221030T010000
END:STANDARD
BEGIN:DAYLIGHT
TZOFFSETFROM:+0100
TZOFFSETTO:+0200
TZNAME:CEST
DTSTART:20230326T010000
END:DAYLIGHT
BEGIN:STANDARD
TZOFFSETFROM:+0200
TZOFFSETTO:+0100
TZNAME:CET
DTSTART:20231029T010000
END:STANDARD
BEGIN:DAYLIGHT
TZOFFSETFROM:+0100
TZOFFSETTO:+0200
TZNAME:CEST
DTSTART:20240331T010000
END:DAYLIGHT
BEGIN:STANDARD
TZOFFSETFROM:+0200
TZOFFSETTO:+0100
TZNAME:CET
DTSTART:20241027T010000
END:STANDARD
END:VTIMEZONE
BEGIN:VEVENT
DTSTART;VALUE=DATE:20231217
DTEND;VALUE=DATE:20231218
DTSTAMP:20260422T040943
CREATED:20231221T112210Z
LAST-MODIFIED:20231221T112210Z
UID:10000015-1702771200-1702857599@confederaciopenyes.cat
SUMMARY:9ª Trail Solidària de la PB "Els Tamarells"
DESCRIPTION:Multitudinaria participació en l’activitat de la Penya de la Federació de Balears
URL:https://confederaciopenyes.cat/event/9a-trail-solidaria-de-la-pb-els-tamarells/
ATTACH;FMTTYPE=image/jpeg:https://confederaciopenyes.cat/wp-content/uploads/2023/12/Foto-grup-participants.jpg
END:VEVENT
BEGIN:VEVENT
DTSTART;VALUE=DATE:20231217
DTEND;VALUE=DATE:20231218
DTSTAMP:20260422T040943
CREATED:20231221T112352Z
LAST-MODIFIED:20231221T112352Z
UID:10000016-1702771200-1702857599@confederaciopenyes.cat
SUMMARY:Col·laboració amb la Marató de Tv3 de la PB Puigverd de Lleida
DESCRIPTION:Federació de Lleida Sud i la Franja Central
URL:https://confederaciopenyes.cat/event/col%c2%b7laboracio-amb-la-marato-de-tv3-de-la-pb-puigverd-de-lleida/
ATTACH;FMTTYPE=image/jpeg:https://confederaciopenyes.cat/wp-content/uploads/2023/12/agenda_solidaritat.jpg
END:VEVENT
END:VCALENDAR