BEGIN:VCALENDAR
VERSION:2.0
PRODID:-//Confederació Mundial de Penyes del FC Barcelona - ECPv6.15.20//NONSGML v1.0//EN
CALSCALE:GREGORIAN
METHOD:PUBLISH
X-WR-CALNAME:Confederació Mundial de Penyes del FC Barcelona
X-ORIGINAL-URL:https://confederaciopenyes.cat
X-WR-CALDESC:Esdeveniments per Confederació Mundial de Penyes del FC Barcelona
REFRESH-INTERVAL;VALUE=DURATION:PT1H
X-Robots-Tag:noindex
X-PUBLISHED-TTL:PT1H
BEGIN:VTIMEZONE
TZID:Europe/Madrid
BEGIN:DAYLIGHT
TZOFFSETFROM:+0100
TZOFFSETTO:+0200
TZNAME:CEST
DTSTART:20230326T010000
END:DAYLIGHT
BEGIN:STANDARD
TZOFFSETFROM:+0200
TZOFFSETTO:+0100
TZNAME:CET
DTSTART:20231029T010000
END:STANDARD
BEGIN:DAYLIGHT
TZOFFSETFROM:+0100
TZOFFSETTO:+0200
TZNAME:CEST
DTSTART:20240331T010000
END:DAYLIGHT
BEGIN:STANDARD
TZOFFSETFROM:+0200
TZOFFSETTO:+0100
TZNAME:CET
DTSTART:20241027T010000
END:STANDARD
BEGIN:DAYLIGHT
TZOFFSETFROM:+0100
TZOFFSETTO:+0200
TZNAME:CEST
DTSTART:20250330T010000
END:DAYLIGHT
BEGIN:STANDARD
TZOFFSETFROM:+0200
TZOFFSETTO:+0100
TZNAME:CET
DTSTART:20251026T010000
END:STANDARD
END:VTIMEZONE
BEGIN:VEVENT
DTSTART;TZID=Europe/Madrid:20240607T150000
DTEND;TZID=Europe/Madrid:20240607T200000
DTSTAMP:20260420T153818
CREATED:20240530T094449Z
LAST-MODIFIED:20240530T094449Z
UID:10000565-1717772400-1717790400@confederaciopenyes.cat
SUMMARY:Torneig de cartes a la PB Vall de Bisaura
DESCRIPTION:Federació d’Osona i el Ripollès.
URL:https://confederaciopenyes.cat/event/torneig-de-cartes-a-la-pb-vall-de-bisaura/
ATTACH;FMTTYPE=image/jpeg:https://confederaciopenyes.cat/wp-content/uploads/2023/12/agenda_torneig-cartes.jpg
END:VEVENT
BEGIN:VEVENT
DTSTART;TZID=Europe/Madrid:20240607T173000
DTEND;TZID=Europe/Madrid:20240607T200000
DTSTAMP:20260420T153818
CREATED:20240604T092214Z
LAST-MODIFIED:20240604T092214Z
UID:10000607-1717781400-1717790400@confederaciopenyes.cat
SUMMARY:Torneig FIFA 24 de la PB Sant Joan Despí
DESCRIPTION:La participació es gratuïta. \nPremi targeta Network valorada en 20€. \nFederació del Baix Llobregat.
URL:https://confederaciopenyes.cat/event/torneig-fifa-24-de-la-pb-sant-joan-despi/
LOCATION:El Bulevard\, Av. de Barcelona\, 85\, 08970 Sant Joan Despí\, Barcelona\, Sant Joan Despí\, Barcelona\, 08970\, Espanya
ATTACH;FMTTYPE=image/jpeg:https://confederaciopenyes.cat/wp-content/uploads/2024/06/GPN1RUfWUAA-ebn.jpeg
END:VEVENT
BEGIN:VEVENT
DTSTART;TZID=Europe/Madrid:20240607T180000
DTEND;TZID=Europe/Madrid:20240609T210000
DTSTAMP:20260420T153818
CREATED:20240229T105130Z
LAST-MODIFIED:20240312T085402Z
UID:10000154-1717783200-1717966800@confederaciopenyes.cat
SUMMARY:Torneig de pàdel de la PB de Lagartera
DESCRIPTION:Torneig de pàdel els dies 7\, 8 i 9 de juny. \nFederació de Castella-La Manxa.
URL:https://confederaciopenyes.cat/event/torneig-de-padel-de-la-penya-barcelonista-de-lagartera/
LOCATION:Polideportivo la Milagrosa\, C. Ruiz de Luna\, 31\, 45567 Lagartera\, Lagartera\, Castella-La Manxa
ATTACH;FMTTYPE=image/png:https://confederaciopenyes.cat/wp-content/uploads/2024/02/pena-barcelonista-de-lagartera.png
END:VEVENT
BEGIN:VEVENT
DTSTART;TZID=Europe/Madrid:20240607T190000
DTEND;TZID=Europe/Madrid:20240607T203000
DTSTAMP:20260420T153818
CREATED:20240319T130718Z
LAST-MODIFIED:20240607T084231Z
UID:10000198-1717786800-1717792200@confederaciopenyes.cat
SUMMARY:Conferència Invulnerables a la PB d'Alpicat
DESCRIPTION:Conferència a càrrec de Sor Lucia Caram. \nFederació de Lleida Sud i la Franja Central.
URL:https://confederaciopenyes.cat/event/conferencia-invulnerables-a-la-pb-dalpicat/
ATTACH;FMTTYPE=image/png:https://confederaciopenyes.cat/wp-content/uploads/2024/03/PBAlpicat-Invulnerables.png
END:VEVENT
BEGIN:VEVENT
DTSTART;TZID=Europe/Madrid:20240607T190000
DTEND;TZID=Europe/Madrid:20240607T203000
DTSTAMP:20260420T153818
CREATED:20240604T083331Z
LAST-MODIFIED:20240604T083331Z
UID:10000601-1717786800-1717792200@confederaciopenyes.cat
SUMMARY:Col·loqui a la PB Lleida 1970
DESCRIPTION:Federació Lleida Sud i la Franja Central.
URL:https://confederaciopenyes.cat/event/colloqui-a-la-pb-lleida-1970/
ATTACH;FMTTYPE=image/jpeg:https://confederaciopenyes.cat/wp-content/uploads/2023/12/agenda_activitat-cultural.jpg
END:VEVENT
BEGIN:VEVENT
DTSTART;TZID=Europe/Madrid:20240607T193000
DTEND;TZID=Europe/Madrid:20240607T220000
DTSTAMP:20260420T153818
CREATED:20240604T084651Z
LAST-MODIFIED:20240604T084651Z
UID:10000602-1717788600-1717797600@confederaciopenyes.cat
SUMMARY:Presentació del llibre "Un segle costa amunt. Una història política del ciclisme" a la PB Som un Sentiment
DESCRIPTION:A la seu de la Penya. \nA càrrec del seu autor\, Ramon Usall. \nEn acabar l’acte\, pica-pica de comiat de temporada per a socis/es i assistents. \nFederació de Lleida Sud i la Franja Central.
URL:https://confederaciopenyes.cat/event/presentacio-del-llibre-un-segle-costa-amunt-una-historia-politica-del-ciclisme-a-la-pb-som-un-sentiment/
ATTACH;FMTTYPE=image/jpeg:https://confederaciopenyes.cat/wp-content/uploads/2024/06/Screenshot_20240604-095612_Instagram.jpg
END:VEVENT
BEGIN:VEVENT
DTSTART;TZID=Europe/Madrid:20240607T200000
DTEND;TZID=Europe/Madrid:20240607T213000
DTSTAMP:20260420T153818
CREATED:20240222T095105Z
LAST-MODIFIED:20240528T105036Z
UID:10000061-1717790400-1717795800@confederaciopenyes.cat
SUMMARY:Conferència "La història de les Penyes" a la PB de Montán
DESCRIPTION:Conferència Ambaixades. “La història de les Penyes” a càrrec de Salva Torres. \nFederació de Comarques de Castelló.
URL:https://confederaciopenyes.cat/event/conferencia-la-historia-de-les-penyes-a-la-pb-de-montan/
ATTACH;FMTTYPE=image/jpeg:https://confederaciopenyes.cat/wp-content/uploads/2023/12/agenda_conferencia-e1703173694737.jpg
END:VEVENT
BEGIN:VEVENT
DTSTART;TZID=Europe/Madrid:20240607T200000
DTEND;TZID=Europe/Madrid:20240608T180000
DTSTAMP:20260420T153818
CREATED:20240326T103145Z
LAST-MODIFIED:20240528T104907Z
UID:10000244-1717790400-1717869600@confederaciopenyes.cat
SUMMARY:XXIV Trobada de Penyes Barcelonistes de les Comarques de Castelló
DESCRIPTION:Programa del divendres 7 de juny: \n\n20:00h – Xerrada col·loqui a càrrec de Salva Torres (Ambaixades)\n22:00h – Sopar de germanor al Bar Restaurant La Piscina\n\nPrograma del dissabte 8 de juny: \n\n9:30h – Recepció de les Penyes a la seu de la PB Montán\n10:00h – Esmorzar popular\n11:30h – Visita cultural guiada al Convent dels Pares Servites\n13:00h – Concentració de les Penyes a la seu de la PB Montán\n13:30h – Recepció d’autoritats del FC Barcelona a la Plaça de l’Ajuntament\n14:30h – Presentació de les Penyes participants i Dinar de germanor
URL:https://confederaciopenyes.cat/event/xxiv-trobada-de-penyes-barcelonistes-de-les-comarques-de-castello/
ATTACH;FMTTYPE=image/jpeg:https://confederaciopenyes.cat/wp-content/uploads/2024/03/GJjAklHXQAAv7FC.jpeg
END:VEVENT
END:VCALENDAR