BEGIN:VCALENDAR
VERSION:2.0
PRODID:-//Confederació Mundial de Penyes del FC Barcelona - ECPv6.15.20//NONSGML v1.0//EN
CALSCALE:GREGORIAN
METHOD:PUBLISH
X-ORIGINAL-URL:https://confederaciopenyes.cat
X-WR-CALDESC:Esdeveniments per Confederació Mundial de Penyes del FC Barcelona
REFRESH-INTERVAL;VALUE=DURATION:PT1H
X-Robots-Tag:noindex
X-PUBLISHED-TTL:PT1H
BEGIN:VTIMEZONE
TZID:Europe/Madrid
BEGIN:DAYLIGHT
TZOFFSETFROM:+0100
TZOFFSETTO:+0200
TZNAME:CEST
DTSTART:20240331T010000
END:DAYLIGHT
BEGIN:STANDARD
TZOFFSETFROM:+0200
TZOFFSETTO:+0100
TZNAME:CET
DTSTART:20241027T010000
END:STANDARD
BEGIN:DAYLIGHT
TZOFFSETFROM:+0100
TZOFFSETTO:+0200
TZNAME:CEST
DTSTART:20250330T010000
END:DAYLIGHT
BEGIN:STANDARD
TZOFFSETFROM:+0200
TZOFFSETTO:+0100
TZNAME:CET
DTSTART:20251026T010000
END:STANDARD
BEGIN:DAYLIGHT
TZOFFSETFROM:+0100
TZOFFSETTO:+0200
TZNAME:CEST
DTSTART:20260329T010000
END:DAYLIGHT
BEGIN:STANDARD
TZOFFSETFROM:+0200
TZOFFSETTO:+0100
TZNAME:CET
DTSTART:20261025T010000
END:STANDARD
END:VTIMEZONE
BEGIN:VEVENT
DTSTART;TZID=Europe/Madrid:20250503T100000
DTEND;TZID=Europe/Madrid:20250628T180000
DTSTAMP:20260425T140024
CREATED:20250506T090453Z
LAST-MODIFIED:20250506T090453Z
UID:10001640-1746266400-1751133600@confederaciopenyes.cat
SUMMARY:2ª Edició del Torneig de futbol de la PB Dakar
DESCRIPTION:Federació Món.
URL:https://confederaciopenyes.cat/event/2a-edicio-del-torneig-de-futbol-de-la-pb-dakar/
LOCATION:Terrain Mobile des Maristes\, PHMC+9G5\, Dakar\, Senegal\, Dakar\, Dakar\, Senegal
ATTACH;FMTTYPE=image/jpeg:https://confederaciopenyes.cat/wp-content/uploads/2025/05/GpuRoU4XwAAcIY2.jpg
END:VEVENT
BEGIN:VEVENT
DTSTART;TZID=Europe/Madrid:20250620T100000
DTEND;TZID=Europe/Madrid:20250620T130000
DTSTAMP:20260425T140024
CREATED:20250617T105604Z
LAST-MODIFIED:20250617T105604Z
UID:10001852-1750413600-1750424400@confederaciopenyes.cat
SUMMARY:Col·laboració amb festa fi de curs de la PB "La Societat"
DESCRIPTION:Federació de Lleida Sud i la Franja Central.
URL:https://confederaciopenyes.cat/event/collaboracio-amb-festa-fi-de-curs-de-la-pb-la-societat/
LOCATION:León
ATTACH;FMTTYPE=image/jpeg:https://confederaciopenyes.cat/wp-content/uploads/2023/12/agenda_activitat-cultural.jpg
END:VEVENT
BEGIN:VEVENT
DTSTART;TZID=Europe/Madrid:20250620T170000
DTEND;TZID=Europe/Madrid:20250620T173000
DTSTAMP:20260425T140024
CREATED:20250617T105249Z
LAST-MODIFIED:20250617T105249Z
UID:10001850-1750438800-1750440600@confederaciopenyes.cat
SUMMARY:Entrega premi a millor jugadora de la PB Sils
DESCRIPTION:Federació del Gironès\, la Selva\, la Garrotxa i el Pla de l’Estany.
URL:https://confederaciopenyes.cat/event/entrega-premi-a-millor-jugadora-de-la-pb-sils/
LOCATION:León
ATTACH;FMTTYPE=image/jpeg:https://confederaciopenyes.cat/wp-content/uploads/2023/12/agenda_activitat-futbol.jpg
END:VEVENT
BEGIN:VEVENT
DTSTART;TZID=Europe/Madrid:20250620T190000
DTEND;TZID=Europe/Madrid:20250620T210000
DTSTAMP:20260425T140024
CREATED:20250617T104119Z
LAST-MODIFIED:20250617T104119Z
UID:10001845-1750446000-1750453200@confederaciopenyes.cat
SUMMARY:Xerrada col·loqui a la PB Foment Martinenc
DESCRIPTION:Federació del Barcelonès Est.
URL:https://confederaciopenyes.cat/event/xerrada-colloqui-a-la-pb-foment-martinenc/
LOCATION:León
ATTACH;FMTTYPE=image/jpeg:https://confederaciopenyes.cat/wp-content/uploads/2025/06/Imagen-de-WhatsApp-2025-06-16-a-las-11.50.00_f8cc8e9d.jpg
END:VEVENT
BEGIN:VEVENT
DTSTART;TZID=Europe/Madrid:20250620T210000
DTEND;TZID=Europe/Madrid:20250620T230000
DTSTAMP:20260425T140024
CREATED:20250617T105424Z
LAST-MODIFIED:20250617T105424Z
UID:10001851-1750453200-1750460400@confederaciopenyes.cat
SUMMARY:Sopar de germanor de la PB Vilavella
DESCRIPTION:Federació de les Comarques de Castelló.
URL:https://confederaciopenyes.cat/event/sopar-de-germanor-de-la-pb-vilavella/
LOCATION:León
ATTACH;FMTTYPE=image/jpeg:https://confederaciopenyes.cat/wp-content/uploads/2023/12/agenda_dinar_sopar.jpg
END:VEVENT
END:VCALENDAR