BEGIN:VCALENDAR
VERSION:2.0
PRODID:-//Confederació Mundial de Penyes del FC Barcelona - ECPv6.15.20//NONSGML v1.0//EN
CALSCALE:GREGORIAN
METHOD:PUBLISH
X-ORIGINAL-URL:https://confederaciopenyes.cat
X-WR-CALDESC:Esdeveniments per Confederació Mundial de Penyes del FC Barcelona
REFRESH-INTERVAL;VALUE=DURATION:PT1H
X-Robots-Tag:noindex
X-PUBLISHED-TTL:PT1H
BEGIN:VTIMEZONE
TZID:Europe/Madrid
BEGIN:DAYLIGHT
TZOFFSETFROM:+0100
TZOFFSETTO:+0200
TZNAME:CEST
DTSTART:20240331T010000
END:DAYLIGHT
BEGIN:STANDARD
TZOFFSETFROM:+0200
TZOFFSETTO:+0100
TZNAME:CET
DTSTART:20241027T010000
END:STANDARD
BEGIN:DAYLIGHT
TZOFFSETFROM:+0100
TZOFFSETTO:+0200
TZNAME:CEST
DTSTART:20250330T010000
END:DAYLIGHT
BEGIN:STANDARD
TZOFFSETFROM:+0200
TZOFFSETTO:+0100
TZNAME:CET
DTSTART:20251026T010000
END:STANDARD
BEGIN:DAYLIGHT
TZOFFSETFROM:+0100
TZOFFSETTO:+0200
TZNAME:CEST
DTSTART:20260329T010000
END:DAYLIGHT
BEGIN:STANDARD
TZOFFSETFROM:+0200
TZOFFSETTO:+0100
TZNAME:CET
DTSTART:20261025T010000
END:STANDARD
END:VTIMEZONE
BEGIN:VEVENT
DTSTART;TZID=Europe/Madrid:20251114T200000
DTEND;TZID=Europe/Madrid:20251114T213000
DTSTAMP:20260422T232735
CREATED:20250805T081739Z
LAST-MODIFIED:20251104T093817Z
UID:10002037-1763150400-1763155800@confederaciopenyes.cat
SUMMARY:Conferència "Barça i Catalunya" a la PB Alt Empordà
DESCRIPTION:Conferència “Barça i Catalunya” 2ª part “Temps de Foscor”\, a càrrec de Salva Torres. \nFederació de l’Empordà i la Catalunya Nord.
URL:https://confederaciopenyes.cat/event/conferencia-barca-i-catalunya-a-la-pb-alt-emporda/
LOCATION:Cercle Sport Figueres\, Carrer Monturiol\, 3\, 17600 Figueres\, Girona\, Figueres\, Girona\, 17600\, Spain
ATTACH;FMTTYPE=image/jpeg:https://confederaciopenyes.cat/wp-content/uploads/2025/08/573684691_18321734164246302_7648753146988428114_n.jpg
END:VEVENT
BEGIN:VEVENT
DTSTART;TZID=Europe/Madrid:20251114T210000
DTEND;TZID=Europe/Madrid:20251114T233000
DTSTAMP:20260422T232735
CREATED:20251016T083754Z
LAST-MODIFIED:20251028T120327Z
UID:10002238-1763154000-1763163000@confederaciopenyes.cat
SUMMARY:50è Aniversari de la PB d'Esparreguera
DESCRIPTION:A les 19:30h – Col·loqui periodístic.\nA les 21:00h – Sopar.\n\nFederació del Baix Llobregat.
URL:https://confederaciopenyes.cat/event/50e-aniversari-de-la-pb-desparreguera/
LOCATION:Heretat Casa Cordelles\, Carrer de les Hortes\, 46\, 08292 Esparreguera\, Barcelona\, Esparreguera\, Barcelona\, 08292\, Spain
ATTACH;FMTTYPE=image/jpeg:https://confederaciopenyes.cat/wp-content/uploads/2025/10/IMG-20251028-WA0004.jpg
END:VEVENT
END:VCALENDAR