BEGIN:VCALENDAR
VERSION:2.0
PRODID:-//Confederació Mundial de Penyes del FC Barcelona - ECPv6.15.20//NONSGML v1.0//EN
CALSCALE:GREGORIAN
METHOD:PUBLISH
X-ORIGINAL-URL:https://confederaciopenyes.cat
X-WR-CALDESC:Esdeveniments per Confederació Mundial de Penyes del FC Barcelona
REFRESH-INTERVAL;VALUE=DURATION:PT1H
X-Robots-Tag:noindex
X-PUBLISHED-TTL:PT1H
BEGIN:VTIMEZONE
TZID:Europe/Madrid
BEGIN:DAYLIGHT
TZOFFSETFROM:+0100
TZOFFSETTO:+0200
TZNAME:CEST
DTSTART:20240331T010000
END:DAYLIGHT
BEGIN:STANDARD
TZOFFSETFROM:+0200
TZOFFSETTO:+0100
TZNAME:CET
DTSTART:20241027T010000
END:STANDARD
BEGIN:DAYLIGHT
TZOFFSETFROM:+0100
TZOFFSETTO:+0200
TZNAME:CEST
DTSTART:20250330T010000
END:DAYLIGHT
BEGIN:STANDARD
TZOFFSETFROM:+0200
TZOFFSETTO:+0100
TZNAME:CET
DTSTART:20251026T010000
END:STANDARD
BEGIN:DAYLIGHT
TZOFFSETFROM:+0100
TZOFFSETTO:+0200
TZNAME:CEST
DTSTART:20260329T010000
END:DAYLIGHT
BEGIN:STANDARD
TZOFFSETFROM:+0200
TZOFFSETTO:+0100
TZNAME:CET
DTSTART:20261025T010000
END:STANDARD
END:VTIMEZONE
BEGIN:VEVENT
DTSTART;TZID=Europe/Madrid:20251128T120000
DTEND;TZID=Europe/Madrid:20251130T170000
DTSTAMP:20260420T172948
CREATED:20251009T143818Z
LAST-MODIFIED:20251125T154233Z
UID:10002184-1764331200-1764522000@confederaciopenyes.cat
SUMMARY:Stand per la Tradicional Fira del Gall de la PB "Quarta Lliga" Sant Cosme i Sant Damià
DESCRIPTION:Federació del Baix Llobregat.
URL:https://confederaciopenyes.cat/event/stand-per-la-tradicional-fira-del-gall-de-la-pb-quarta-lliga-sant-cosme-i-sant-damia/
ATTACH;FMTTYPE=image/png:https://confederaciopenyes.cat/wp-content/uploads/2025/10/STAND-FIRA.png
END:VEVENT
BEGIN:VEVENT
DTSTART;TZID=Europe/Madrid:20251128T200000
DTEND;TZID=Europe/Madrid:20251129T120000
DTSTAMP:20260420T172949
CREATED:20251125T094721Z
LAST-MODIFIED:20251125T094721Z
UID:10002445-1764360000-1764417600@confederaciopenyes.cat
SUMMARY:Conferència "Horologia de Felanitx" a la PB "Els Tamarells"
DESCRIPTION:Federació de Balears.
URL:https://confederaciopenyes.cat/event/conferencia-horologia-de-felanitx-a-la-pb-els-tamarells/
ATTACH;FMTTYPE=image/jpeg:https://confederaciopenyes.cat/wp-content/uploads/2025/11/G6lsL9JXwAAsNkg.jpeg
END:VEVENT
END:VCALENDAR