BEGIN:VCALENDAR
VERSION:2.0
PRODID:-//Confederació Mundial de Penyes del FC Barcelona - ECPv6.15.20//NONSGML v1.0//EN
CALSCALE:GREGORIAN
METHOD:PUBLISH
X-ORIGINAL-URL:https://confederaciopenyes.cat
X-WR-CALDESC:Esdeveniments per Confederació Mundial de Penyes del FC Barcelona
REFRESH-INTERVAL;VALUE=DURATION:PT1H
X-Robots-Tag:noindex
X-PUBLISHED-TTL:PT1H
BEGIN:VTIMEZONE
TZID:Europe/Madrid
BEGIN:DAYLIGHT
TZOFFSETFROM:+0100
TZOFFSETTO:+0200
TZNAME:CEST
DTSTART:20250330T010000
END:DAYLIGHT
BEGIN:STANDARD
TZOFFSETFROM:+0200
TZOFFSETTO:+0100
TZNAME:CET
DTSTART:20251026T010000
END:STANDARD
BEGIN:DAYLIGHT
TZOFFSETFROM:+0100
TZOFFSETTO:+0200
TZNAME:CEST
DTSTART:20260329T010000
END:DAYLIGHT
BEGIN:STANDARD
TZOFFSETFROM:+0200
TZOFFSETTO:+0100
TZNAME:CET
DTSTART:20261025T010000
END:STANDARD
BEGIN:DAYLIGHT
TZOFFSETFROM:+0100
TZOFFSETTO:+0200
TZNAME:CEST
DTSTART:20270328T010000
END:DAYLIGHT
BEGIN:STANDARD
TZOFFSETFROM:+0200
TZOFFSETTO:+0100
TZNAME:CET
DTSTART:20271031T010000
END:STANDARD
END:VTIMEZONE
BEGIN:VEVENT
DTSTART;TZID=Europe/Madrid:20260117T100000
DTEND;TZID=Europe/Madrid:20260117T120000
DTSTAMP:20260423T151004
CREATED:20260115T094618Z
LAST-MODIFIED:20260115T094618Z
UID:10002616-1768644000-1768651200@confederaciopenyes.cat
SUMMARY:12è Esmorzar del Soci de la PB Sant Cugat
DESCRIPTION:Federació del Vallès.
URL:https://confederaciopenyes.cat/event/12e-esmorzar-del-soci-de-la-pb-sant-cugat/
LOCATION:León
ATTACH;FMTTYPE=image/png:https://confederaciopenyes.cat/wp-content/uploads/2026/01/Captura-de-pantalla-2026-01-15-095108.png
END:VEVENT
BEGIN:VEVENT
DTSTART;TZID=Europe/Madrid:20260117T100000
DTEND;TZID=Europe/Madrid:20260117T170000
DTSTAMP:20260423T151004
CREATED:20260115T102035Z
LAST-MODIFIED:20260115T102035Z
UID:10002625-1768644000-1768669200@confederaciopenyes.cat
SUMMARY:Torneig de futbol sala de la PB "Blaugranor" du Nord de la France
DESCRIPTION:Federació Món.
URL:https://confederaciopenyes.cat/event/torneig-de-futbol-sala-de-la-pb-blaugranor-du-nord-de-la-france-2/
LOCATION:León
ATTACH;FMTTYPE=image/jpeg:https://confederaciopenyes.cat/wp-content/uploads/2023/12/agenda_activitat-futbol.jpg
END:VEVENT
BEGIN:VEVENT
DTSTART;TZID=Europe/Madrid:20260117T180000
DTEND;TZID=Europe/Madrid:20260117T193000
DTSTAMP:20260423T151004
CREATED:20260115T140611Z
LAST-MODIFIED:20260115T140611Z
UID:10002637-1768672800-1768678200@confederaciopenyes.cat
SUMMARY:Conferència "Barça i Catalunya" a la PB Manresa
DESCRIPTION:Conferència “Barça i Catalunya” 3ª part “Llums i ombres”\, a càrrec de Salva Torres. \nFederació del Bages\, el Berguedà i la Cerdanya.
URL:https://confederaciopenyes.cat/event/conferencia-barca-i-catalunya-a-la-pb-manresa/
LOCATION:León
ATTACH;FMTTYPE=image/jpeg:https://confederaciopenyes.cat/wp-content/uploads/2023/12/agenda_conferencia-e1703173694737.jpg
END:VEVENT
BEGIN:VEVENT
DTSTART;TZID=Europe/Madrid:20260117T183000
DTEND;TZID=Europe/Madrid:20260117T223000
DTSTAMP:20260423T151004
CREATED:20251125T103348Z
LAST-MODIFIED:20251216T085708Z
UID:10002451-1768674600-1768689000@confederaciopenyes.cat
SUMMARY:40è Aniversari de la PB London
DESCRIPTION:Federació Món.
URL:https://confederaciopenyes.cat/event/40e-aniversari-de-la-pb-london/
LOCATION:Bat & Ball Covent Garden\, 50 Earlham St\, London WC2H 9LJ\, Reino Unido\, Londres\, Londres\, United Kingdom
ATTACH;FMTTYPE=image/jpeg:https://confederaciopenyes.cat/wp-content/uploads/2025/11/601163188_18035465693734341_6487871297402291724_n.jpg
END:VEVENT
END:VCALENDAR