BEGIN:VCALENDAR
VERSION:2.0
PRODID:-//Confederació Mundial de Penyes del FC Barcelona - ECPv6.15.20//NONSGML v1.0//EN
CALSCALE:GREGORIAN
METHOD:PUBLISH
X-ORIGINAL-URL:https://confederaciopenyes.cat
X-WR-CALDESC:Esdeveniments per Confederació Mundial de Penyes del FC Barcelona
REFRESH-INTERVAL;VALUE=DURATION:PT1H
X-Robots-Tag:noindex
X-PUBLISHED-TTL:PT1H
BEGIN:VTIMEZONE
TZID:Europe/Madrid
BEGIN:DAYLIGHT
TZOFFSETFROM:+0100
TZOFFSETTO:+0200
TZNAME:CEST
DTSTART:20250330T010000
END:DAYLIGHT
BEGIN:STANDARD
TZOFFSETFROM:+0200
TZOFFSETTO:+0100
TZNAME:CET
DTSTART:20251026T010000
END:STANDARD
BEGIN:DAYLIGHT
TZOFFSETFROM:+0100
TZOFFSETTO:+0200
TZNAME:CEST
DTSTART:20260329T010000
END:DAYLIGHT
BEGIN:STANDARD
TZOFFSETFROM:+0200
TZOFFSETTO:+0100
TZNAME:CET
DTSTART:20261025T010000
END:STANDARD
BEGIN:DAYLIGHT
TZOFFSETFROM:+0100
TZOFFSETTO:+0200
TZNAME:CEST
DTSTART:20270328T010000
END:DAYLIGHT
BEGIN:STANDARD
TZOFFSETFROM:+0200
TZOFFSETTO:+0100
TZNAME:CET
DTSTART:20271031T010000
END:STANDARD
END:VTIMEZONE
BEGIN:VEVENT
DTSTART;TZID=Europe/Madrid:20260307T120000
DTEND;TZID=Europe/Madrid:20260307T180000
DTSTAMP:20260425T140104
CREATED:20260210T123654Z
LAST-MODIFIED:20260210T123654Z
UID:10002697-1772884800-1772906400@confederaciopenyes.cat
SUMMARY:Diada del soci de la PB "Julio Alberto"
DESCRIPTION:Federació d’Astúries i Cantàbria.
URL:https://confederaciopenyes.cat/event/diada-del-soci-de-la-pb-julio-alberto/
LOCATION:León
ATTACH;FMTTYPE=image/jpeg:https://confederaciopenyes.cat/wp-content/uploads/2023/12/agenda_dinar_sopar.jpg
END:VEVENT
BEGIN:VEVENT
DTSTART;TZID=Europe/Madrid:20260307T130000
DTEND;TZID=Europe/Madrid:20260307T160000
DTSTAMP:20260425T140104
CREATED:20260210T123439Z
LAST-MODIFIED:20260210T123439Z
UID:10002696-1772888400-1772899200@confederaciopenyes.cat
SUMMARY:1r Aniversari de la PB San Miguel de Novés
DESCRIPTION:Federació de Castella-La Manxa.
URL:https://confederaciopenyes.cat/event/1r-aniversari-de-la-pb-san-miguel-de-noves/
LOCATION:León
ATTACH;FMTTYPE=image/jpeg:https://confederaciopenyes.cat/wp-content/uploads/2023/12/agenda_aniversari.jpg
END:VEVENT
BEGIN:VEVENT
DTSTART;TZID=Europe/Madrid:20260307T133000
DTEND;TZID=Europe/Madrid:20260307T163000
DTSTAMP:20260425T140104
CREATED:20260219T095954Z
LAST-MODIFIED:20260219T095954Z
UID:10002716-1772890200-1772901000@confederaciopenyes.cat
SUMMARY:IX Calçotada de la PB "Els Tamarells"
DESCRIPTION:Federació de les Balears.
URL:https://confederaciopenyes.cat/event/ix-calcotada-de-la-pb-els-tamarells/
LOCATION:León
ATTACH;FMTTYPE=image/jpeg:https://confederaciopenyes.cat/wp-content/uploads/2026/02/HBG0-aOakAclrVL.jpg
END:VEVENT
BEGIN:VEVENT
DTSTART;TZID=Europe/Madrid:20260307T133000
DTEND;TZID=Europe/Madrid:20260307T173000
DTSTAMP:20260425T140104
CREATED:20260226T115617Z
LAST-MODIFIED:20260226T115617Z
UID:10002762-1772890200-1772904600@confederaciopenyes.cat
SUMMARY:25è Aniversari de la PB Nova York
DESCRIPTION:Federació Món.
URL:https://confederaciopenyes.cat/event/25e-aniversari-de-la-pb-nova-york/
LOCATION:León
ATTACH;FMTTYPE=image/png:https://confederaciopenyes.cat/wp-content/uploads/2026/02/25e-ANIVERSARI.png
END:VEVENT
BEGIN:VEVENT
DTSTART;TZID=Europe/Madrid:20260307T140000
DTEND;TZID=Europe/Madrid:20260307T170000
DTSTAMP:20260425T140104
CREATED:20260224T091711Z
LAST-MODIFIED:20260224T091711Z
UID:10002748-1772892000-1772902800@confederaciopenyes.cat
SUMMARY:9ª Calçotada Popular de la PB Barberà
DESCRIPTION:Federació del Vallès.
URL:https://confederaciopenyes.cat/event/9a-calcotada-popular-de-la-pb-barbera/
LOCATION:Carrer de Migdia\, 08210 Barberà del Vallès\, Barcelona\, Barberà del Vallès\, Barcelona\, 08210\, Spain
ATTACH;FMTTYPE=image/jpeg:https://confederaciopenyes.cat/wp-content/uploads/2026/02/HBm70XkWIAAIIgx.jpg
END:VEVENT
BEGIN:VEVENT
DTSTART;TZID=Europe/Madrid:20260307T150000
DTEND;TZID=Europe/Madrid:20260307T230000
DTSTAMP:20260425T140104
CREATED:20260305T104640Z
LAST-MODIFIED:20260305T104640Z
UID:10002788-1772895600-1772924400@confederaciopenyes.cat
SUMMARY:Prèvia del partit i visualització del Athletic Club Bilbao vs FC Barcelona a la PB BizkaBarça
DESCRIPTION:Federació d’Euskadi.
URL:https://confederaciopenyes.cat/event/previa-del-partit-i-visualitzacio-del-athletic-club-bilbao-vs-fc-barcelona-a-la-pb-bizkabarca/
LOCATION:León
ATTACH;FMTTYPE=image/jpeg:https://confederaciopenyes.cat/wp-content/uploads/2026/03/WhatsApp-Image-2026-03-05-at-10.05.09.jpeg
END:VEVENT
BEGIN:VEVENT
DTSTART;TZID=Europe/Madrid:20260307T200000
DTEND;TZID=Europe/Madrid:20260307T230000
DTSTAMP:20260425T140104
CREATED:20260210T123235Z
LAST-MODIFIED:20260210T123235Z
UID:10002695-1772913600-1772924400@confederaciopenyes.cat
SUMMARY:21è Aniversari de la PB Som Un Sentiment
DESCRIPTION:Federació de Lleida Sud i la Franja Central.
URL:https://confederaciopenyes.cat/event/21e-aniversari-de-la-pb-som-un-sentiment/
LOCATION:León
ATTACH;FMTTYPE=image/jpeg:https://confederaciopenyes.cat/wp-content/uploads/2023/12/agenda_aniversari.jpg
END:VEVENT
END:VCALENDAR