BEGIN:VCALENDAR
VERSION:2.0
PRODID:-//Confederació Mundial de Penyes del FC Barcelona - ECPv6.15.20//NONSGML v1.0//EN
CALSCALE:GREGORIAN
METHOD:PUBLISH
X-ORIGINAL-URL:https://confederaciopenyes.cat
X-WR-CALDESC:Esdeveniments per Confederació Mundial de Penyes del FC Barcelona
REFRESH-INTERVAL;VALUE=DURATION:PT1H
X-Robots-Tag:noindex
X-PUBLISHED-TTL:PT1H
BEGIN:VTIMEZONE
TZID:Europe/Madrid
BEGIN:DAYLIGHT
TZOFFSETFROM:+0100
TZOFFSETTO:+0200
TZNAME:CEST
DTSTART:20250330T010000
END:DAYLIGHT
BEGIN:STANDARD
TZOFFSETFROM:+0200
TZOFFSETTO:+0100
TZNAME:CET
DTSTART:20251026T010000
END:STANDARD
BEGIN:DAYLIGHT
TZOFFSETFROM:+0100
TZOFFSETTO:+0200
TZNAME:CEST
DTSTART:20260329T010000
END:DAYLIGHT
BEGIN:STANDARD
TZOFFSETFROM:+0200
TZOFFSETTO:+0100
TZNAME:CET
DTSTART:20261025T010000
END:STANDARD
BEGIN:DAYLIGHT
TZOFFSETFROM:+0100
TZOFFSETTO:+0200
TZNAME:CEST
DTSTART:20270328T010000
END:DAYLIGHT
BEGIN:STANDARD
TZOFFSETFROM:+0200
TZOFFSETTO:+0100
TZNAME:CET
DTSTART:20271031T010000
END:STANDARD
END:VTIMEZONE
BEGIN:VEVENT
DTSTART;TZID=Europe/Madrid:20260419T143000
DTEND;TZID=Europe/Madrid:20260419T183000
DTSTAMP:20260422T034443
CREATED:20260326T105749Z
LAST-MODIFIED:20260326T105749Z
UID:10002858-1776609000-1776623400@confederaciopenyes.cat
SUMMARY:13è Aniversari de la PB Campredó
DESCRIPTION:Federació de les Terres de l’Ebre.
URL:https://confederaciopenyes.cat/event/13e-aniversari-de-la-pb-campredo/
ATTACH;FMTTYPE=image/jpeg:https://confederaciopenyes.cat/wp-content/uploads/2026/03/Aniversari.jpg
END:VEVENT
BEGIN:VEVENT
DTSTART;TZID=Europe/Madrid:20260422T180000
DTEND;TZID=Europe/Madrid:20260422T200000
DTSTAMP:20260422T034443
CREATED:20260326T110032Z
LAST-MODIFIED:20260326T110032Z
UID:10002859-1776880800-1776888000@confederaciopenyes.cat
SUMMARY:Col·laboració amb aniversari d'Escola de futbol de la PB Perpinyà
DESCRIPTION:Federació de l’Empordà i la Catalunya Nord.
URL:https://confederaciopenyes.cat/event/collaboracio-amb-aniversari-descola-de-futbol-de-la-pb-perpinya/
ATTACH;FMTTYPE=image/jpeg:https://confederaciopenyes.cat/wp-content/uploads/2026/03/activitat-futbol.jpg
END:VEVENT
BEGIN:VEVENT
DTSTART;TZID=Europe/Madrid:20260423T090000
DTEND;TZID=Europe/Madrid:20260423T190000
DTSTAMP:20260422T034443
CREATED:20260409T090216Z
LAST-MODIFIED:20260421T114411Z
UID:10002913-1776934800-1776970800@confederaciopenyes.cat
SUMMARY:Parada per Sant Jordi de la PB Almogàvers Empordà
DESCRIPTION:Federació de l’Empordà i la Catalunya Nord.
URL:https://confederaciopenyes.cat/event/parada-per-sant-jordi-de-la-pb-almogavers-emporda/
ATTACH;FMTTYPE=image/jpeg:https://confederaciopenyes.cat/wp-content/uploads/2026/04/670937471_18319802377283374_192730646932023720_n.jpg
END:VEVENT
BEGIN:VEVENT
DTSTART;TZID=Europe/Madrid:20260423T090000
DTEND;TZID=Europe/Madrid:20260423T190000
DTSTAMP:20260422T034443
CREATED:20260414T120459Z
LAST-MODIFIED:20260414T120459Z
UID:10002936-1776934800-1776970800@confederaciopenyes.cat
SUMMARY:Parada per Sant Jordi de la PB Viladecans
DESCRIPTION:Federació del Baix Llobregat.
URL:https://confederaciopenyes.cat/event/parada-per-sant-jordi-de-la-pb-viladecans/
ATTACH;FMTTYPE=image/png:https://confederaciopenyes.cat/wp-content/uploads/2026/03/STAND-FIRA.png
END:VEVENT
BEGIN:VEVENT
DTSTART;TZID=Europe/Madrid:20260423T090000
DTEND;TZID=Europe/Madrid:20260423T190000
DTSTAMP:20260422T034443
CREATED:20260414T120754Z
LAST-MODIFIED:20260421T115310Z
UID:10002937-1776934800-1776970800@confederaciopenyes.cat
SUMMARY:Parada per Sant Jordi de la PB Les Corts
DESCRIPTION:Federació del Barcelonès Oest.
URL:https://confederaciopenyes.cat/event/parada-per-sant-jordi-de-la-pb-les-corts-3/
ATTACH;FMTTYPE=image/jpeg:https://confederaciopenyes.cat/wp-content/uploads/2026/04/WhatsApp-Image-2026-04-20-at-23.00.53.jpeg
END:VEVENT
BEGIN:VEVENT
DTSTART;TZID=Europe/Madrid:20260423T090000
DTEND;TZID=Europe/Madrid:20260423T190000
DTSTAMP:20260422T034443
CREATED:20260421T085221Z
LAST-MODIFIED:20260421T085221Z
UID:10002960-1776934800-1776970800@confederaciopenyes.cat
SUMMARY:Parada per Sant Jordi de la PB "La Pulga" de Castelldefels
DESCRIPTION:Federació del Baix Llobregat.
URL:https://confederaciopenyes.cat/event/parada-per-sant-jordi-de-la-pb-la-pulga-de-castelldefels/
ATTACH;FMTTYPE=image/png:https://confederaciopenyes.cat/wp-content/uploads/2026/03/STAND-FIRA.png
END:VEVENT
BEGIN:VEVENT
DTSTART;TZID=Europe/Madrid:20260423T100000
DTEND;TZID=Europe/Madrid:20260423T190000
DTSTAMP:20260422T034443
CREATED:20260326T110228Z
LAST-MODIFIED:20260326T110228Z
UID:10002860-1776938400-1776970800@confederaciopenyes.cat
SUMMARY:Parada per Sant Jordi de la PB Castellbisbal
DESCRIPTION:Federació del Vallès.
URL:https://confederaciopenyes.cat/event/parada-per-sant-jordi-de-la-pb-castellbisbal/
ATTACH;FMTTYPE=image/png:https://confederaciopenyes.cat/wp-content/uploads/2026/03/STAND-FIRA.png
END:VEVENT
BEGIN:VEVENT
DTSTART;TZID=Europe/Madrid:20260423T100000
DTEND;TZID=Europe/Madrid:20260423T190000
DTSTAMP:20260422T034443
CREATED:20260326T110429Z
LAST-MODIFIED:20260326T110429Z
UID:10002861-1776938400-1776970800@confederaciopenyes.cat
SUMMARY:Parada per Sant Jordi de la PB La Bisbal de l'Empordà
DESCRIPTION:Federació de l’Empordà i la Catalunya Nord.
URL:https://confederaciopenyes.cat/event/parada-per-sant-jordi-de-la-pb-la-bisbal-de-lemporda/
ATTACH;FMTTYPE=image/png:https://confederaciopenyes.cat/wp-content/uploads/2026/03/STAND-FIRA.png
END:VEVENT
BEGIN:VEVENT
DTSTART;TZID=Europe/Madrid:20260423T170000
DTEND;TZID=Europe/Madrid:20260423T180000
DTSTAMP:20260422T034443
CREATED:20260407T135838Z
LAST-MODIFIED:20260407T135838Z
UID:10002900-1776963600-1776967200@confederaciopenyes.cat
SUMMARY:VII Concurs de relats curts per Sant Jordi 2026 de la PB Villabalter
DESCRIPTION:Federació de Castella i Lleó.
URL:https://confederaciopenyes.cat/event/vii-concurs-de-relats-curts-per-sant-jordi-2026-de-la-pb-villabalter/
ATTACH;FMTTYPE=image/jpeg:https://confederaciopenyes.cat/wp-content/uploads/2026/04/WhatsApp-Image-2026-04-07-at-11.35.30.jpeg
END:VEVENT
BEGIN:VEVENT
DTSTART;TZID=Europe/Madrid:20260424T200000
DTEND;TZID=Europe/Madrid:20260424T213000
DTSTAMP:20260422T034443
CREATED:20260414T105319Z
LAST-MODIFIED:20260414T105319Z
UID:10002928-1777060800-1777066200@confederaciopenyes.cat
SUMMARY:Presentació del llibre: "Festes\, tradicions i costums a Mallorca II" a la PB "Els Tamarells"
DESCRIPTION:Federació de les Illes Balears.
URL:https://confederaciopenyes.cat/event/presentacio-del-llibre-festes-tradicions-i-costums-a-mallorca-ii-a-la-pb-els-tamarells/
LOCATION:Seu social PB “Els Tamarells”\, Carrer dels Horts\, 50\, 07200 Felanitx\, Illes Balears\, Felanitx\, Illes Balears\, 07200\, Spain
ATTACH;FMTTYPE=image/jpeg:https://confederaciopenyes.cat/wp-content/uploads/2026/04/d8876d02-344c-4bb3-9ab2-526c82070892-scaled.jpeg
END:VEVENT
BEGIN:VEVENT
DTSTART;TZID=Europe/Madrid:20260425T100000
DTEND;TZID=Europe/Madrid:20260425T133000
DTSTAMP:20260422T034443
CREATED:20260421T090046Z
LAST-MODIFIED:20260421T090046Z
UID:10002961-1777111200-1777123800@confederaciopenyes.cat
SUMMARY:Jornada "Marca-li un gol a l'alzheimer" de la PB Sant Cugat
DESCRIPTION:Federació del Vallès.
URL:https://confederaciopenyes.cat/event/jornada-marca-li-un-gol-a-lalzheimer-de-la-pb-sant-cugat/
LOCATION:ZEM Can Magi\, Av. de Can Magí\, 6\, 08173 Sant Cugat del Vallès\, Barcelona\, Sant Cugat del Vallès\, Barcelona\, 08173\, Spain
ATTACH;FMTTYPE=image/jpeg:https://confederaciopenyes.cat/wp-content/uploads/2026/04/670392565_18579452800040576_490298769182420139_n.jpg
END:VEVENT
BEGIN:VEVENT
DTSTART;TZID=Europe/Madrid:20260425T120000
DTEND;TZID=Europe/Madrid:20260425T190000
DTSTAMP:20260422T034443
CREATED:20260407T084932Z
LAST-MODIFIED:20260407T084932Z
UID:10002888-1777118400-1777143600@confederaciopenyes.cat
SUMMARY:Dinar Popular de la PB Breda
DESCRIPTION:Federació del Gironès\, Selva\, Garrotxa i Pla de l’Estany.
URL:https://confederaciopenyes.cat/event/dinar-popular-de-la-pb-breda-3/
LOCATION:Plaça Bassa del Moli\, 17400 Breda\, Girona\, Breda\, Girona\, 17400\, Espanya
ATTACH;FMTTYPE=image/jpeg:https://confederaciopenyes.cat/wp-content/uploads/2026/04/658345908_18345762913210421_2019037427503251277_n.jpg
END:VEVENT
BEGIN:VEVENT
DTSTART;TZID=Europe/Madrid:20260425T133000
DTEND;TZID=Europe/Madrid:20260425T163000
DTSTAMP:20260422T034443
CREATED:20260414T114502Z
LAST-MODIFIED:20260414T114502Z
UID:10002934-1777123800-1777134600@confederaciopenyes.cat
SUMMARY:17è Aniversari de la PB Isona i Conca Dellà
DESCRIPTION:Federació de Ponent Nord.
URL:https://confederaciopenyes.cat/event/17e-aniversari-de-la-pb-isona-i-conca-della/
ATTACH;FMTTYPE=image/jpeg:https://confederaciopenyes.cat/wp-content/uploads/2026/04/657485968_18397064296153259_7144253256686528618_n.jpg
END:VEVENT
BEGIN:VEVENT
DTSTART;TZID=Europe/Madrid:20260425T180000
DTEND;TZID=Europe/Madrid:20260425T193000
DTSTAMP:20260422T034443
CREATED:20260319T101639Z
LAST-MODIFIED:20260319T101639Z
UID:10002823-1777140000-1777145400@confederaciopenyes.cat
SUMMARY:Conferència "Barça i Catalunya" a la PB Prats de Mollo
DESCRIPTION:Conferència “Barça i Catalunya” 2ª part “Temps de Foscor”\, a càrrec de Salva Torres. \nFederació de l’Empordà i la Catalunya Nord.
URL:https://confederaciopenyes.cat/event/conferencia-barca-i-catalunya-a-la-pb-prats-de-mollo-2/
ATTACH;FMTTYPE=image/jpeg:https://confederaciopenyes.cat/wp-content/uploads/2023/12/agenda_conferencia-e1703173694737.jpg
END:VEVENT
BEGIN:VEVENT
DTSTART;TZID=Europe/Madrid:20260426T100000
DTEND;TZID=Europe/Madrid:20260426T133000
DTSTAMP:20260422T034443
CREATED:20260409T090535Z
LAST-MODIFIED:20260421T113737Z
UID:10002914-1777197600-1777210200@confederaciopenyes.cat
SUMMARY:Parada de Sant Jordi de la PB Sant Andreu de la Barca
DESCRIPTION:Federació del Baix Llobregat.
URL:https://confederaciopenyes.cat/event/parada-per-sant-jordi-de-la-pb-sant-andreu-de-la-barca-3/
LOCATION:Plaça Font de la Roda\, 08740 Sant Andreu de la Barca\, Barcelona\, Sant Andreu de la Barca\, Barcelona\, 08740\, Spain
ATTACH;FMTTYPE=image/png:https://confederaciopenyes.cat/wp-content/uploads/2026/04/Captura-de-pantalla-2026-04-20-102831.png
END:VEVENT
BEGIN:VEVENT
DTSTART;TZID=Europe/Madrid:20260426T110000
DTEND;TZID=Europe/Madrid:20260426T140000
DTSTAMP:20260422T034443
CREATED:20260421T104932Z
LAST-MODIFIED:20260421T104932Z
UID:10002967-1777201200-1777212000@confederaciopenyes.cat
SUMMARY:El vermut musical de la PB Montgrí i Comarca
DESCRIPTION:Federació de l’Empordà i la Catalunya Nord.
URL:https://confederaciopenyes.cat/event/el-vermut-musical-de-la-pb-montgri-i-comarca-2/
LOCATION:Plaça Pere Rigau\, 17257 Torroella de Montgrí\, Girona\, Torroella de Montgrí\, Girona\, 17257\, Spain
ATTACH;FMTTYPE=image/jpeg:https://confederaciopenyes.cat/wp-content/uploads/2026/04/671319549_18579158893032108_4956041718476487391_n.jpeg
END:VEVENT
BEGIN:VEVENT
DTSTART;TZID=Europe/Madrid:20260427T170000
DTEND;TZID=Europe/Madrid:20260427T210000
DTSTAMP:20260422T034443
CREATED:20260421T091218Z
LAST-MODIFIED:20260421T091218Z
UID:10002962-1777309200-1777323600@confederaciopenyes.cat
SUMMARY:I Memorial Gabi Amengual de la PB Santa Maria del Camí
DESCRIPTION:Durant la jornada també es durà a terme una gran recollida solidària d’aliments no peribles. \nFederació de les Illes Balears.
URL:https://confederaciopenyes.cat/event/i-memorial-gabi-amengual-de-la-pb-santa-maria-del-cami/
ATTACH;FMTTYPE=image/jpeg:https://confederaciopenyes.cat/wp-content/uploads/2026/04/instagram_DXMAaIzDbt3.jpg
END:VEVENT
BEGIN:VEVENT
DTSTART;TZID=Europe/Madrid:20260430T180000
DTEND;TZID=Europe/Madrid:20260503T180000
DTSTAMP:20260422T034443
CREATED:20260407T105035Z
LAST-MODIFIED:20260407T105035Z
UID:10002895-1777572000-1777831200@confederaciopenyes.cat
SUMMARY:Participació a la Fira Expoebre de la PB Tortosa
DESCRIPTION:Federació de les Terres de l’Ebre.
URL:https://confederaciopenyes.cat/event/participacio-a-la-fira-expoebre-de-la-pb-tortosa/
LOCATION:Pavello Firal de Tortosa\, Av. de Remolins\, 34\, 43500 Tortosa\, Tarragona\, Tortosa\, Tarragona\, 43500\, Spain
ATTACH;FMTTYPE=image/jpeg:https://confederaciopenyes.cat/wp-content/uploads/2026/04/HFFCNuEaAAAsbe9.jpeg
END:VEVENT
BEGIN:VEVENT
DTSTART;TZID=Europe/Madrid:20260501T153000
DTEND;TZID=Europe/Madrid:20260501T203000
DTSTAMP:20260422T034443
CREATED:20260421T101530Z
LAST-MODIFIED:20260421T101530Z
UID:10002965-1777649400-1777667400@confederaciopenyes.cat
SUMMARY:3r Campionat de botifarra de la PB Almogàvers Empordà
DESCRIPTION:Federació de l’Empordà i la Catalunya Nord.
URL:https://confederaciopenyes.cat/event/3r-campionat-de-botifarra-de-la-pb-almogavers-emporda/
LOCATION:Plaça del Gra\, 17600 Figueres\, Girona\, Figueres\, Girona\, 17600\, Spain
ATTACH;FMTTYPE=image/jpeg:https://confederaciopenyes.cat/wp-content/uploads/2026/04/670631839_1445406107628060_5873163778238079514_n.jpg
END:VEVENT
BEGIN:VEVENT
DTSTART;TZID=Europe/Madrid:20260501T170000
DTEND;TZID=Europe/Madrid:20260502T170000
DTSTAMP:20260422T034443
CREATED:20260407T083029Z
LAST-MODIFIED:20260407T083029Z
UID:10002886-1777654800-1777741200@confederaciopenyes.cat
SUMMARY:15è Aniversari de la PB IndoBarça Depok
DESCRIPTION:Federació Món.
URL:https://confederaciopenyes.cat/event/15e-aniversari-de-la-pb-indobarca-depok/
LOCATION:Villa Puncak Bogor\, Kp.Pondok Caringin\, RT.02/RW.04\, Tugu Utara\, Kec. Cisarua\, Kabupaten Bogor\, Jawa Barat 16750\, Indonesia\, Bogor\, Jakarta\, Indonesia
ATTACH;FMTTYPE=image/jpeg:https://confederaciopenyes.cat/wp-content/uploads/2026/04/657697253_18035073290788325_7200782199919594302_n.jpg
END:VEVENT
BEGIN:VEVENT
DTSTART;TZID=Europe/Madrid:20260501T173000
DTEND;TZID=Europe/Madrid:20260501T190000
DTSTAMP:20260422T034443
CREATED:20260421T111747Z
LAST-MODIFIED:20260421T111747Z
UID:10002968-1777656600-1777662000@confederaciopenyes.cat
SUMMARY:Tertúlia Barça organitzada per la PB Tortosa
DESCRIPTION:A l’stand de la Penya a la Fira d’Expoebre. \nFederació de les Terres de l’Ebre.
URL:https://confederaciopenyes.cat/event/tertulia-barca-organitzada-per-la-pb-tortosa/
LOCATION:Pavello Firal de Tortosa\, Av. de Remolins\, 34\, 43500 Tortosa\, Tarragona\, Tortosa\, Tarragona\, 43500\, Spain
ATTACH;FMTTYPE=image/jpeg:https://confederaciopenyes.cat/wp-content/uploads/2026/04/1000105899.jpg
END:VEVENT
BEGIN:VEVENT
DTSTART;TZID=Europe/Madrid:20260501T180000
DTEND;TZID=Europe/Madrid:20260501T220000
DTSTAMP:20260422T034443
CREATED:20260407T083919Z
LAST-MODIFIED:20260407T083919Z
UID:10002887-1777658400-1777672800@confederaciopenyes.cat
SUMMARY:30è Aniversari de la PB Tordera
DESCRIPTION:Federació del Maresme.
URL:https://confederaciopenyes.cat/event/30e-aniversari-de-la-pb-tordera/
LOCATION:Plaça de la Concordia de Tordera\, Carrer Dels Ferrers\, 3-1\, 08490 Tordera\, Barcelona\, Tordera\, Barcelona\, 08490\, Spain
ATTACH;FMTTYPE=image/jpeg:https://confederaciopenyes.cat/wp-content/uploads/2026/04/pro-d1KFM6wa.jpeg
END:VEVENT
BEGIN:VEVENT
DTSTART;TZID=Europe/Madrid:20260502T120000
DTEND;TZID=Europe/Madrid:20260502T133000
DTSTAMP:20260422T034443
CREATED:20260115T142018Z
LAST-MODIFIED:20260115T142018Z
UID:10002642-1777723200-1777728600@confederaciopenyes.cat
SUMMARY:Conferència "Barça i Catalunya" a la PB San Mateo
DESCRIPTION:Conferència “Barça i Catalunya” 3ª part “Llums i ombres”\, a càrrec de Salva Torres. \nFederació de les Comarques de Castelló.
URL:https://confederaciopenyes.cat/event/conferencia-barca-i-catalunya-a-la-pb-san-mateo-2/
ATTACH;FMTTYPE=image/jpeg:https://confederaciopenyes.cat/wp-content/uploads/2023/12/agenda_conferencia-e1703173694737.jpg
END:VEVENT
BEGIN:VEVENT
DTSTART;TZID=Europe/Madrid:20260502T123000
DTEND;TZID=Europe/Madrid:20260502T193000
DTSTAMP:20260422T034443
CREATED:20260421T100631Z
LAST-MODIFIED:20260421T100631Z
UID:10002964-1777725000-1777750200@confederaciopenyes.cat
SUMMARY:30è Aniversari de la PB Bagà
DESCRIPTION:Federació del Bages\, Berguedà i Cerdanya.
URL:https://confederaciopenyes.cat/event/30e-aniversari-de-la-pb-baga/
ATTACH;FMTTYPE=image/jpeg:https://confederaciopenyes.cat/wp-content/uploads/2026/04/instagram_DXJ9_a9ClM_-2.jpg
END:VEVENT
BEGIN:VEVENT
DTSTART;TZID=Europe/Madrid:20260507T190000
DTEND;TZID=Europe/Madrid:20260507T203000
DTSTAMP:20260422T034443
CREATED:20260319T141420Z
LAST-MODIFIED:20260319T141420Z
UID:10002830-1778180400-1778185800@confederaciopenyes.cat
SUMMARY:Conferència "Barça i Catalunya" a la PB Mataró
DESCRIPTION:Conferència “Barça i Catalunya” 3ª part “Llums i Ombres”\, a càrrec de Salva Torres. \nFederació del Maresme.
URL:https://confederaciopenyes.cat/event/conferencia-barca-i-catalunya-a-la-pb-mataro-2/
ATTACH;FMTTYPE=image/jpeg:https://confederaciopenyes.cat/wp-content/uploads/2023/12/agenda_conferencia-e1703173694737.jpg
END:VEVENT
BEGIN:VEVENT
DTSTART;TZID=Europe/Madrid:20260508T180000
DTEND;TZID=Europe/Madrid:20260510T140000
DTSTAMP:20260422T034443
CREATED:20260319T093015Z
LAST-MODIFIED:20260319T093015Z
UID:10002820-1778263200-1778421600@confederaciopenyes.cat
SUMMARY:III Torneig de Pàdel de la PB Lagartera
DESCRIPTION:Federació de Castella-La Manxa.
URL:https://confederaciopenyes.cat/event/iii-torneig-de-padel-de-la-pb-lagartera/
LOCATION:Polideportivo la Milagrosa\, C. Ruiz de Luna\, 31\, 45567 Lagartera\, Lagartera\, Castella-La Manxa
ATTACH;FMTTYPE=image/jpeg:https://confederaciopenyes.cat/wp-content/uploads/2026/03/654013392_18043139012740238_2718201891674027194_n.jpg
END:VEVENT
BEGIN:VEVENT
DTSTART;TZID=Europe/Madrid:20260508T190000
DTEND;TZID=Europe/Madrid:20260508T203000
DTSTAMP:20260422T034443
CREATED:20260421T130624Z
LAST-MODIFIED:20260421T144109Z
UID:10002969-1778266800-1778272200@confederaciopenyes.cat
SUMMARY:Presentació del llibre "El Barça la nostra vida" a la PB Sant Cugat
DESCRIPTION:Federació de Vallès.
URL:https://confederaciopenyes.cat/event/presentacio-del-llibre-el-barca-la-nostra-vida-a-pb-sant-cugat/
ATTACH;FMTTYPE=image/jpeg:https://confederaciopenyes.cat/wp-content/uploads/2026/04/instagram_DXMe4pMjJDc.jpg
END:VEVENT
BEGIN:VEVENT
DTSTART;TZID=Europe/Madrid:20260510T120000
DTEND;TZID=Europe/Madrid:20260510T233000
DTSTAMP:20260422T034443
CREATED:20260414T094833Z
LAST-MODIFIED:20260414T094833Z
UID:10002927-1778414400-1778455800@confederaciopenyes.cat
SUMMARY:Trobada del "Clàssic" de la Fan Club Barça Polska
DESCRIPTION:Assemblea General de socis.\n21:00h – Visualització del Clàssic entre FC Barcelona vs Real Madrid\n\nFederació Món.
URL:https://confederaciopenyes.cat/event/trobada-del-classic-de-la-fan-club-barca-polska/
LOCATION:Hotel Campanile Lublin\, Lubomelska 14\, 20-067 Lublin\, Polonia\, Lublin\, Polonia\, Poland
ATTACH;FMTTYPE=image/jpeg:https://confederaciopenyes.cat/wp-content/uploads/2026/04/670459185_1402584791900090_7926043227260454503_n.jpg
END:VEVENT
BEGIN:VEVENT
DTSTART;TZID=Europe/Madrid:20260510T140000
DTEND;TZID=Europe/Madrid:20260510T180000
DTSTAMP:20260422T034443
CREATED:20260414T090913Z
LAST-MODIFIED:20260414T090913Z
UID:10002925-1778421600-1778436000@confederaciopenyes.cat
SUMMARY:Arrossada amb penyistes de la PB Navàs
DESCRIPTION:Federació del Bages\, Berguedà i Cerdanya.
URL:https://confederaciopenyes.cat/event/arrossada-amb-penyistes-de-la-pb-navas/
ATTACH;FMTTYPE=image/jpeg:https://confederaciopenyes.cat/wp-content/uploads/2026/04/instagram_DW_LvoSjM7w.jpg
END:VEVENT
BEGIN:VEVENT
DTSTART;TZID=Europe/Madrid:20260516T090000
DTEND;TZID=Europe/Madrid:20260516T150000
DTSTAMP:20260422T034443
CREATED:20260421T093525Z
LAST-MODIFIED:20260421T093525Z
UID:10002963-1778922000-1778943600@confederaciopenyes.cat
SUMMARY:II Campionat de botifarra de la PB Agramunt i Comarca
DESCRIPTION:Federació de Lleida Sud i la Franja Central.
URL:https://confederaciopenyes.cat/event/ii-campionat-de-botifarra-de-la-pb-agramunt-i-comarca/
LOCATION:Local Social PB Agramunt i Comarca\, Av. de Catalunya\, 19\, 25310 Agramunt\, Lleida\, Agramunt\, Lleida\, 25310\, Spain
ATTACH;FMTTYPE=image/jpeg:https://confederaciopenyes.cat/wp-content/uploads/2026/04/instagram_DXMFQdQjTr0.jpg
END:VEVENT
END:VCALENDAR