BEGIN:VCALENDAR
VERSION:2.0
PRODID:-//Confederació Mundial de Penyes del FC Barcelona - ECPv6.15.20//NONSGML v1.0//EN
CALSCALE:GREGORIAN
METHOD:PUBLISH
X-ORIGINAL-URL:https://confederaciopenyes.cat
X-WR-CALDESC:Esdeveniments per Confederació Mundial de Penyes del FC Barcelona
REFRESH-INTERVAL;VALUE=DURATION:PT1H
X-Robots-Tag:noindex
X-PUBLISHED-TTL:PT1H
BEGIN:VTIMEZONE
TZID:America/New_York
BEGIN:DAYLIGHT
TZOFFSETFROM:-0500
TZOFFSETTO:-0400
TZNAME:EDT
DTSTART:20250309T070000
END:DAYLIGHT
BEGIN:STANDARD
TZOFFSETFROM:-0400
TZOFFSETTO:-0500
TZNAME:EST
DTSTART:20251102T060000
END:STANDARD
BEGIN:DAYLIGHT
TZOFFSETFROM:-0500
TZOFFSETTO:-0400
TZNAME:EDT
DTSTART:20260308T070000
END:DAYLIGHT
BEGIN:STANDARD
TZOFFSETFROM:-0400
TZOFFSETTO:-0500
TZNAME:EST
DTSTART:20261101T060000
END:STANDARD
BEGIN:DAYLIGHT
TZOFFSETFROM:-0500
TZOFFSETTO:-0400
TZNAME:EDT
DTSTART:20270314T070000
END:DAYLIGHT
BEGIN:STANDARD
TZOFFSETFROM:-0400
TZOFFSETTO:-0500
TZNAME:EST
DTSTART:20271107T060000
END:STANDARD
END:VTIMEZONE
BEGIN:VEVENT
DTSTART;TZID=America/New_York:20260516T140000
DTEND;TZID=America/New_York:20260516T180000
DTSTAMP:20260425T140205
CREATED:20260423T084426Z
LAST-MODIFIED:20260423T084426Z
UID:10003001-1778940000-1778954400@confederaciopenyes.cat
SUMMARY:Paella popular de la PB Nova York
DESCRIPTION:Federació Món.
URL:https://confederaciopenyes.cat/event/paella-popular-de-la-pb-nova-york/
ATTACH;FMTTYPE=image/jpeg:https://confederaciopenyes.cat/wp-content/uploads/2026/04/Dinarsopar.jpg
END:VEVENT
END:VCALENDAR