BEGIN:VCALENDAR
VERSION:2.0
PRODID:-//Confederació Mundial de Penyes del FC Barcelona - ECPv6.15.20//NONSGML v1.0//EN
CALSCALE:GREGORIAN
METHOD:PUBLISH
X-WR-CALNAME:Confederació Mundial de Penyes del FC Barcelona
X-ORIGINAL-URL:https://confederaciopenyes.cat
X-WR-CALDESC:Esdeveniments per Confederació Mundial de Penyes del FC Barcelona
REFRESH-INTERVAL;VALUE=DURATION:PT1H
X-Robots-Tag:noindex
X-PUBLISHED-TTL:PT1H
BEGIN:VTIMEZONE
TZID:Europe/Madrid
BEGIN:DAYLIGHT
TZOFFSETFROM:+0100
TZOFFSETTO:+0200
TZNAME:CEST
DTSTART:20240331T010000
END:DAYLIGHT
BEGIN:STANDARD
TZOFFSETFROM:+0200
TZOFFSETTO:+0100
TZNAME:CET
DTSTART:20241027T010000
END:STANDARD
BEGIN:DAYLIGHT
TZOFFSETFROM:+0100
TZOFFSETTO:+0200
TZNAME:CEST
DTSTART:20250330T010000
END:DAYLIGHT
BEGIN:STANDARD
TZOFFSETFROM:+0200
TZOFFSETTO:+0100
TZNAME:CET
DTSTART:20251026T010000
END:STANDARD
BEGIN:DAYLIGHT
TZOFFSETFROM:+0100
TZOFFSETTO:+0200
TZNAME:CEST
DTSTART:20260329T010000
END:DAYLIGHT
BEGIN:STANDARD
TZOFFSETFROM:+0200
TZOFFSETTO:+0100
TZNAME:CET
DTSTART:20261025T010000
END:STANDARD
END:VTIMEZONE
BEGIN:VEVENT
DTSTART;TZID=Europe/Madrid:20250524T170000
DTEND;TZID=Europe/Madrid:20250524T200000
DTSTAMP:20260419T184826
CREATED:20250410T094613Z
LAST-MODIFIED:20250410T094613Z
UID:10001584-1748106000-1748116800@confederaciopenyes.cat
SUMMARY:Partit de veterans de la PB de Villena
DESCRIPTION:Esdeveniment benèfic en motiu del 40è Aniversari. \nPartit entre el Villena Veteranos vs Agrupació Barça Jugadors. \nFederació de les Comarques d’Alacant.
URL:https://confederaciopenyes.cat/event/partit-de-veterans-de-la-pb-de-villena/
LOCATION:Estadio Municipal de la Solana\, C. a-W\, 1\, 03400 Villena\, Alicante\, Villena\, Alacant\, 03400\, Spain
ATTACH;FMTTYPE=image/jpeg:https://confederaciopenyes.cat/wp-content/uploads/2025/04/489728228_18262226590302770_4445879560122107669_n.jpg
END:VEVENT
END:VCALENDAR