BEGIN:VCALENDAR
VERSION:2.0
PRODID:-//Confederació Mundial de Penyes del FC Barcelona - ECPv6.15.20//NONSGML v1.0//EN
CALSCALE:GREGORIAN
METHOD:PUBLISH
X-WR-CALNAME:Confederació Mundial de Penyes del FC Barcelona
X-ORIGINAL-URL:https://confederaciopenyes.cat
X-WR-CALDESC:Esdeveniments per Confederació Mundial de Penyes del FC Barcelona
REFRESH-INTERVAL;VALUE=DURATION:PT1H
X-Robots-Tag:noindex
X-PUBLISHED-TTL:PT1H
BEGIN:VTIMEZONE
TZID:Europe/Madrid
BEGIN:DAYLIGHT
TZOFFSETFROM:+0100
TZOFFSETTO:+0200
TZNAME:CEST
DTSTART:20240331T010000
END:DAYLIGHT
BEGIN:STANDARD
TZOFFSETFROM:+0200
TZOFFSETTO:+0100
TZNAME:CET
DTSTART:20241027T010000
END:STANDARD
BEGIN:DAYLIGHT
TZOFFSETFROM:+0100
TZOFFSETTO:+0200
TZNAME:CEST
DTSTART:20250330T010000
END:DAYLIGHT
BEGIN:STANDARD
TZOFFSETFROM:+0200
TZOFFSETTO:+0100
TZNAME:CET
DTSTART:20251026T010000
END:STANDARD
BEGIN:DAYLIGHT
TZOFFSETFROM:+0100
TZOFFSETTO:+0200
TZNAME:CEST
DTSTART:20260329T010000
END:DAYLIGHT
BEGIN:STANDARD
TZOFFSETFROM:+0200
TZOFFSETTO:+0100
TZNAME:CET
DTSTART:20261025T010000
END:STANDARD
END:VTIMEZONE
BEGIN:VEVENT
DTSTART;TZID=Europe/Madrid:20250614T143000
DTEND;TZID=Europe/Madrid:20250614T173000
DTSTAMP:20260421T171447
CREATED:20250527T114925Z
LAST-MODIFIED:20250527T114925Z
UID:10001740-1749911400-1749922200@confederaciopenyes.cat
SUMMARY:30è Aniversari de la PB "Vora Sèquia"
DESCRIPTION:Conjuntament amb la 25ª Trobada de Penyes de Castelló. \nFederació de les Comarques de Castelló.
URL:https://confederaciopenyes.cat/event/30e-aniversari-de-la-pb-vora-sequia/
LOCATION:Hotel Luz\, Carrer del Pintor Oliet\, 3\, 12006 Castelló de la Plana\, Castelló\, Castellón de la Plana\, Castelló\, 12006\, Spain
ATTACH;FMTTYPE=image/jpeg:https://confederaciopenyes.cat/wp-content/uploads/2025/05/Programa-dactes-XXV-Trobada-Penyes-Castello_250527_132201_3.jpg
END:VEVENT
BEGIN:VEVENT
DTSTART;TZID=Europe/Madrid:20250614T100000
DTEND;TZID=Europe/Madrid:20250614T173000
DTSTAMP:20260421T171447
CREATED:20250527T114710Z
LAST-MODIFIED:20250527T115018Z
UID:10001739-1749895200-1749922200@confederaciopenyes.cat
SUMMARY:XXV Trobada de Penyes Barcelonistes de les Comarques de Castelló
DESCRIPTION:Conjuntament amb el 30è Aniversari de la PB “Vora Sèquia”. \nFederació de les Comarques de Castelló.
URL:https://confederaciopenyes.cat/event/xxv-trobada-de-penyes-barcelonistes-de-les-comarques-de-castello/
LOCATION:Hotel Luz\, Carrer del Pintor Oliet\, 3\, 12006 Castelló de la Plana\, Castelló\, Castellón de la Plana\, Castelló\, 12006\, Spain
ATTACH;FMTTYPE=image/jpeg:https://confederaciopenyes.cat/wp-content/uploads/2025/05/Programa-dactes-XXV-Trobada-Penyes-Castello_250527_132201_1.jpg
END:VEVENT
BEGIN:VEVENT
DTSTART;TZID=Europe/Madrid:20250613T193000
DTEND;TZID=Europe/Madrid:20250613T210000
DTSTAMP:20260421T171447
CREATED:20250527T113728Z
LAST-MODIFIED:20250527T113728Z
UID:10001735-1749843000-1749848400@confederaciopenyes.cat
SUMMARY:Conferència "Barça i Catalunya" a la PB "Vora Sèquia"
DESCRIPTION:Conferència “Barça i Catalunya” 1ª part “Els Orígens de la Simbiosi”\, a càrrec de Salva Torres. \nFederació de les Comarques de Castelló.
URL:https://confederaciopenyes.cat/event/conferencia-barca-i-catalunya-a-la-pb-vora-sequia/
LOCATION:Hotel Luz\, Carrer del Pintor Oliet\, 3\, 12006 Castelló de la Plana\, Castelló\, Castellón de la Plana\, Castelló\, 12006\, Spain
ATTACH;FMTTYPE=image/png:https://confederaciopenyes.cat/wp-content/uploads/2025/05/Captura-de-Pantalla-2025-05-27-a-las-13.24.54.png
END:VEVENT
END:VCALENDAR